BEGIN:VCALENDAR
VERSION:2.0
PRODID:-//85.13.129.106//NONSGML kigkonsult.se iCalcreator 2.10.23//
BEGIN:VEVENT
UID:20260422T172224CEST-1194TVDobb@85.13.129.106
DTSTAMP:20260422T152224Z
DESCRIPTION:Schalkau
DTSTART;TZID=Europe/Berlin:20160320T101000
DTEND;TZID=Europe/Berlin:20160320T115500
LOCATION:Katzberger Straße 6\n96528 Schalkau\, 96528 Schalkau
SUMMARY:15/16 G-Junioren HKM ER: FC-BW Schalkau G - SC 07 Schleusingen G
END:VEVENT
BEGIN:VEVENT
UID:20260422T172224CEST-1199HFTNi5@85.13.129.106
DTSTAMP:20260422T152224Z
DESCRIPTION:Schalkau
DTSTART;TZID=Europe/Berlin:20160320T104000
DTEND;TZID=Europe/Berlin:20160320T122500
LOCATION:Katzberger Straße 6\n96528 Schalkau\, 96528 Schalkau
SUMMARY:15/16 G-Junioren HKM ER: SV 08 Steinach G - SC 07 Schleusingen G
END:VEVENT
BEGIN:VEVENT
UID:20260422T172224CEST-1204b96bZk@85.13.129.106
DTSTAMP:20260422T152224Z
DESCRIPTION:Schalkau
DTSTART;TZID=Europe/Berlin:20160320T111000
DTEND;TZID=Europe/Berlin:20160320T125500
LOCATION:Katzberger Straße 6\n96528 Schalkau\, 96528 Schalkau
SUMMARY:15/16 G-Junioren HKM ER: 1. FC Sonneberg 04 G - SC 07 Schleusingen 
 G
END:VEVENT
BEGIN:VEVENT
UID:20260422T172224CEST-1212CwaXVk@85.13.129.106
DTSTAMP:20260422T152224Z
DESCRIPTION:Schalkau
DTSTART;TZID=Europe/Berlin:20160320T113000
DTEND;TZID=Europe/Berlin:20160320T131500
LOCATION:Katzberger Straße 6\n96528 Schalkau\, 96528 Schalkau
SUMMARY:15/16 G-Junioren HKM ER: SC 07 Schleusingen G - SG Lauscha/Neuhaus 
 G
END:VEVENT
END:VCALENDAR
