BEGIN:VCALENDAR
VERSION:2.0
PRODID:-//85.13.129.106//NONSGML kigkonsult.se iCalcreator 2.10.23//
BEGIN:VEVENT
UID:20260423T002924CEST-3183AZ2a8v@85.13.129.106
DTSTAMP:20260422T222924Z
DESCRIPTION:
DTSTART;TZID=Europe/Berlin:20161027T183000
DTEND;TZID=Europe/Berlin:20161027T201500
LOCATION:
SUMMARY:16/17 C-Jun. KOL: SV 03 Eisfeld C - SG Römhild C
END:VEVENT
BEGIN:VEVENT
UID:20260423T002924CEST-3187j0LvLM@85.13.129.106
DTSTAMP:20260422T222924Z
DESCRIPTION:
DTSTART;TZID=Europe/Berlin:20161029T103000
DTEND;TZID=Europe/Berlin:20161029T121500
LOCATION:
SUMMARY:16/17 C-Jun. KOL: SG 1. FC Sonneberg 04 C - SV 03 Eisfeld C
END:VEVENT
BEGIN:VEVENT
UID:20260423T002924CEST-3192X7VREf@85.13.129.106
DTSTAMP:20260422T222924Z
DESCRIPTION:
DTSTART;TZID=Europe/Berlin:20161104T180000
DTEND;TZID=Europe/Berlin:20161104T194500
LOCATION:
SUMMARY:16/17 C-Jun. KOL: SV 03 Eisfeld C - SG Schalkau/Sbg.-W. C
END:VEVENT
BEGIN:VEVENT
UID:20260423T002924CEST-3196V4uOD4@85.13.129.106
DTSTAMP:20260422T222924Z
DESCRIPTION:
DTSTART;TZID=Europe/Berlin:20170401T130000
DTEND;TZID=Europe/Berlin:20170401T144500
LOCATION:
SUMMARY:16/17 C-Jun. KOL: SG Lauscha/Neuhaus C - SV 03 Eisfeld C
END:VEVENT
BEGIN:VEVENT
UID:20260423T002924CEST-3200WXuMPx@85.13.129.106
DTSTAMP:20260422T222924Z
DESCRIPTION:
DTSTART;TZID=Europe/Berlin:20170421T173000
DTEND;TZID=Europe/Berlin:20170421T191500
LOCATION:
SUMMARY:16/17 C-Jun. KOL: SV 03 Eisfeld C - SV Eintracht Oberland C
END:VEVENT
BEGIN:VEVENT
UID:20260423T002924CEST-3205hWg5hm@85.13.129.106
DTSTAMP:20260422T222924Z
DESCRIPTION:
DTSTART;TZID=Europe/Berlin:20170613T183000
DTEND;TZID=Europe/Berlin:20170613T201500
LOCATION:
SUMMARY:16/17 C-Jun. KOL: SG Römhild C - SV 03 Eisfeld C
END:VEVENT
BEGIN:VEVENT
UID:20260423T002924CEST-3209ZaBu8r@85.13.129.106
DTSTAMP:20260422T222924Z
DESCRIPTION:
DTSTART;TZID=Europe/Berlin:20170517T180000
DTEND;TZID=Europe/Berlin:20170517T194500
LOCATION:
SUMMARY:16/17 C-Jun. KOL: SV 03 Eisfeld C - SG 1. FC Sonneberg 04 C
END:VEVENT
BEGIN:VEVENT
UID:20260423T002924CEST-3213UsUiuc@85.13.129.106
DTSTAMP:20260422T222924Z
DESCRIPTION:Schalkau
DTSTART;TZID=Europe/Berlin:20170514T103000
DTEND;TZID=Europe/Berlin:20170514T121500
LOCATION:Katzberger Straße 6\n96528 Schalkau\, 96528 Schalkau
SUMMARY:16/17 C-Jun. KOL: SG Schalkau/Sbg.-W. C - SV 03 Eisfeld C
END:VEVENT
BEGIN:VEVENT
UID:20260423T002924CEST-3218aIfNzr@85.13.129.106
DTSTAMP:20260422T222924Z
DESCRIPTION:Schalkau
DTSTART;TZID=Europe/Berlin:20170519T173000
DTEND;TZID=Europe/Berlin:20170519T191500
LOCATION:Katzberger Straße 6\n96528 Schalkau\, 96528 Schalkau
SUMMARY:16/17 C-Jun. KOL: SV 03 Eisfeld C - SG Lauscha/Neuhaus C
END:VEVENT
BEGIN:VEVENT
UID:20260423T002924CEST-3222dhRGUT@85.13.129.106
DTSTAMP:20260422T222924Z
DESCRIPTION:Schalkau
DTSTART;TZID=Europe/Berlin:20170526T180000
DTEND;TZID=Europe/Berlin:20170526T194500
LOCATION:Katzberger Straße 6\n96528 Schalkau\, 96528 Schalkau
SUMMARY:16/17 C-Jun. KOL: SV Eintracht Oberland C - SV 03 Eisfeld C
END:VEVENT
END:VCALENDAR
