BEGIN:VCALENDAR
VERSION:2.0
PRODID:-//85.13.129.106//NONSGML kigkonsult.se iCalcreator 2.10.23//
BEGIN:VEVENT
UID:20260422T144853CEST-8068ZKWn81@85.13.129.106
DTSTAMP:20260422T124853Z
DESCRIPTION:
DTSTART;TZID=Europe/Berlin:20150906T103000
DTEND;TZID=Europe/Berlin:20150906T121500
LOCATION:
SUMMARY:15/16 C-Jun. VL: FSV Grün-Weiß Stadtroda C - FC Saalfeld C
END:VEVENT
BEGIN:VEVENT
UID:20260422T144853CEST-8072l2wvkz@85.13.129.106
DTSTAMP:20260422T124853Z
DESCRIPTION:
DTSTART;TZID=Europe/Berlin:20150913T103000
DTEND;TZID=Europe/Berlin:20150913T121500
LOCATION:
SUMMARY:15/16 C-Jun. VL: JFC Gera C - FSV Grün-Weiß Stadtroda C
END:VEVENT
BEGIN:VEVENT
UID:20260422T144853CEST-8076CzD5Ph@85.13.129.106
DTSTAMP:20260422T124853Z
DESCRIPTION:
DTSTART;TZID=Europe/Berlin:20150927T103000
DTEND;TZID=Europe/Berlin:20150927T121500
LOCATION:
SUMMARY:15/16 C-Jun. VL: FSV Grün-Weiß Stadtroda C - FC Eisenach C
END:VEVENT
BEGIN:VEVENT
UID:20260422T144853CEST-8081D8glif@85.13.129.106
DTSTAMP:20260422T124853Z
DESCRIPTION:
DTSTART;TZID=Europe/Berlin:20151004T110000
DTEND;TZID=Europe/Berlin:20151004T124500
LOCATION:
SUMMARY:15/16 C-Jun. VL: FC Rot-Weiß Erfurt C2 - FSV Grün-Weiß Stadtroda C
END:VEVENT
BEGIN:VEVENT
UID:20260422T144853CEST-80859UTdDe@85.13.129.106
DTSTAMP:20260422T124853Z
DESCRIPTION:
DTSTART;TZID=Europe/Berlin:20151025T103000
DTEND;TZID=Europe/Berlin:20151025T121500
LOCATION:
SUMMARY:15/16 C-Jun. VL: FSV Grün-Weiß Stadtroda C - SV BW Büßleben C
END:VEVENT
BEGIN:VEVENT
UID:20260422T144853CEST-8089VVaafP@85.13.129.106
DTSTAMP:20260422T124853Z
DESCRIPTION:
DTSTART;TZID=Europe/Berlin:20151101T103000
DTEND;TZID=Europe/Berlin:20151101T121500
LOCATION:
SUMMARY:15/16 C-Jun. VL: 1. FC Greiz C - FSV Grün-Weiß Stadtroda C
END:VEVENT
BEGIN:VEVENT
UID:20260422T144853CEST-8094buzecU@85.13.129.106
DTSTAMP:20260422T124853Z
DESCRIPTION:
DTSTART;TZID=Europe/Berlin:20151108T103000
DTEND;TZID=Europe/Berlin:20151108T121500
LOCATION:
SUMMARY:15/16 C-Jun. VL: FSV Grün-Weiß Stadtroda C - SV BW Neustadt/Orla C
END:VEVENT
BEGIN:VEVENT
UID:20260422T144853CEST-8098ASUgeV@85.13.129.106
DTSTAMP:20260422T124853Z
DESCRIPTION:
DTSTART;TZID=Europe/Berlin:20151121T103000
DTEND;TZID=Europe/Berlin:20151121T121500
LOCATION:
SUMMARY:15/16 C-Jun. VL: SV Schott Jena C - FSV Grün-Weiß Stadtroda C
END:VEVENT
BEGIN:VEVENT
UID:20260422T144853CEST-8102Vto3N3@85.13.129.106
DTSTAMP:20260422T124853Z
DESCRIPTION:
DTSTART;TZID=Europe/Berlin:20151128T103000
DTEND;TZID=Europe/Berlin:20151128T121500
LOCATION:
SUMMARY:15/16 C-Jun. VL: FSV Grün-Weiß Stadtroda C - FC Carl Zeiss Jena C2
END:VEVENT
BEGIN:VEVENT
UID:20260422T144853CEST-8106FVtVD4@85.13.129.106
DTSTAMP:20260422T124853Z
DESCRIPTION:
DTSTART;TZID=Europe/Berlin:20151206T103000
DTEND;TZID=Europe/Berlin:20151206T121500
LOCATION:
SUMMARY:15/16 C-Jun. VL: SC 1903 Weimar C - FSV Grün-Weiß Stadtroda C
END:VEVENT
BEGIN:VEVENT
UID:20260422T144853CEST-81117nxGM2@85.13.129.106
DTSTAMP:20260422T124853Z
DESCRIPTION:
DTSTART;TZID=Europe/Berlin:20151213T103000
DTEND;TZID=Europe/Berlin:20151213T121500
LOCATION:
SUMMARY:15/16 C-Jun. VL: FSV Grün-Weiß Stadtroda C - SG Schalkau/Sbg.-W. C
END:VEVENT
BEGIN:VEVENT
UID:20260422T144853CEST-81155RVbLC@85.13.129.106
DTSTAMP:20260422T124853Z
DESCRIPTION:
DTSTART;TZID=Europe/Berlin:20160228T103000
DTEND;TZID=Europe/Berlin:20160228T121500
LOCATION:
SUMMARY:15/16 C-Jun. VL: FC Saalfeld C - FSV Grün-Weiß Stadtroda C
END:VEVENT
BEGIN:VEVENT
UID:20260422T144853CEST-81197r6m14@85.13.129.106
DTSTAMP:20260422T124853Z
DESCRIPTION:
DTSTART;TZID=Europe/Berlin:20160306T103000
DTEND;TZID=Europe/Berlin:20160306T121500
LOCATION:
SUMMARY:15/16 C-Jun. VL: FSV Grün-Weiß Stadtroda C - JFC Gera C
END:VEVENT
BEGIN:VEVENT
UID:20260422T144853CEST-8123Sp944u@85.13.129.106
DTSTAMP:20260422T124853Z
DESCRIPTION:
DTSTART;TZID=Europe/Berlin:20160312T103000
DTEND;TZID=Europe/Berlin:20160312T121500
LOCATION:
SUMMARY:15/16 C-Jun. VL: FC Eisenach C - FSV Grün-Weiß Stadtroda C
END:VEVENT
BEGIN:VEVENT
UID:20260422T144853CEST-8128NNFel7@85.13.129.106
DTSTAMP:20260422T124853Z
DESCRIPTION:
DTSTART;TZID=Europe/Berlin:20160417T103000
DTEND;TZID=Europe/Berlin:20160417T121500
LOCATION:
SUMMARY:15/16 C-Jun. VL: FSV Grün-Weiß Stadtroda C - FC Rot-Weiß Erfurt C2
END:VEVENT
BEGIN:VEVENT
UID:20260422T144853CEST-81326kRVzk@85.13.129.106
DTSTAMP:20260422T124853Z
DESCRIPTION:
DTSTART;TZID=Europe/Berlin:20160424T103000
DTEND;TZID=Europe/Berlin:20160424T121500
LOCATION:
SUMMARY:15/16 C-Jun. VL: SV BW Büßleben C - FSV Grün-Weiß Stadtroda C
END:VEVENT
BEGIN:VEVENT
UID:20260422T144853CEST-8136aDPzLc@85.13.129.106
DTSTAMP:20260422T124853Z
DESCRIPTION:
DTSTART;TZID=Europe/Berlin:20160501T103000
DTEND;TZID=Europe/Berlin:20160501T121500
LOCATION:
SUMMARY:15/16 C-Jun. VL: FSV Grün-Weiß Stadtroda C - 1. FC Greiz C
END:VEVENT
BEGIN:VEVENT
UID:20260422T144853CEST-8140BPj79d@85.13.129.106
DTSTAMP:20260422T124853Z
DESCRIPTION:
DTSTART;TZID=Europe/Berlin:20160508T123000
DTEND;TZID=Europe/Berlin:20160508T141500
LOCATION:
SUMMARY:15/16 C-Jun. VL: SV BW Neustadt/Orla C - FSV Grün-Weiß Stadtroda C
END:VEVENT
BEGIN:VEVENT
UID:20260422T144853CEST-8145krVlNG@85.13.129.106
DTSTAMP:20260422T124853Z
DESCRIPTION:
DTSTART;TZID=Europe/Berlin:20160518T183000
DTEND;TZID=Europe/Berlin:20160518T201500
LOCATION:
SUMMARY:15/16 C-Jun. VL: FSV Grün-Weiß Stadtroda C - SV Schott Jena C
END:VEVENT
BEGIN:VEVENT
UID:20260422T144853CEST-8149kUD6px@85.13.129.106
DTSTAMP:20260422T124853Z
DESCRIPTION:
DTSTART;TZID=Europe/Berlin:20160531T180000
DTEND;TZID=Europe/Berlin:20160531T194500
LOCATION:
SUMMARY:15/16 C-Jun. VL: FC Carl Zeiss Jena C2 - FSV Grün-Weiß Stadtroda C
END:VEVENT
BEGIN:VEVENT
UID:20260422T144853CEST-815316TALv@85.13.129.106
DTSTAMP:20260422T124853Z
DESCRIPTION:
DTSTART;TZID=Europe/Berlin:20160529T103000
DTEND;TZID=Europe/Berlin:20160529T121500
LOCATION:
SUMMARY:15/16 C-Jun. VL: FSV Grün-Weiß Stadtroda C - SC 1903 Weimar C
END:VEVENT
BEGIN:VEVENT
UID:20260422T144853CEST-8157MzHhUv@85.13.129.106
DTSTAMP:20260422T124853Z
DESCRIPTION:Schalkau
DTSTART;TZID=Europe/Berlin:20160605T103000
DTEND;TZID=Europe/Berlin:20160605T121500
LOCATION:Katzberger Straße 6\n96528 Schalkau\, 96528 Schalkau
SUMMARY:15/16 C-Jun. VL: SG Schalkau/Sbg.-W. C - FSV Grün-Weiß Stadtroda C
END:VEVENT
END:VCALENDAR
