BEGIN:VCALENDAR
VERSION:2.0
PRODID:-//85.13.129.106//NONSGML kigkonsult.se iCalcreator 2.10.23//
BEGIN:VEVENT
UID:20260421T065712CEST-2836vAzizR@85.13.129.106
DTSTAMP:20260421T045712Z
DESCRIPTION:
DTSTART;TZID=Europe/Berlin:20140726T160000
DTEND;TZID=Europe/Berlin:20140726T174500
LOCATION:
SUMMARY:14/15 Herren Kreispokal: Erlauer SV Grün-Weiss II - SG Milz/Eicha
END:VEVENT
BEGIN:VEVENT
UID:20260421T065712CEST-2841hTAD2l@85.13.129.106
DTSTAMP:20260421T045712Z
DESCRIPTION:
DTSTART;TZID=Europe/Berlin:20141003T150000
DTEND;TZID=Europe/Berlin:20141003T164500
LOCATION:
SUMMARY:14/15 Herren Kreispokal: SG 1951 Sonneberg II - SG Milz/Eicha
END:VEVENT
BEGIN:VEVENT
UID:20260421T065712CEST-2845RoCvKG@85.13.129.106
DTSTAMP:20260421T045712Z
DESCRIPTION:
DTSTART;TZID=Europe/Berlin:20141115T133000
DTEND;TZID=Europe/Berlin:20141115T151500
LOCATION:
SUMMARY:14/15 Herren Kreispokal: SG Lauscha/Neuhaus - SG Milz/Eicha
END:VEVENT
BEGIN:VEVENT
UID:20260421T065712CEST-285024i1Gd@85.13.129.106
DTSTAMP:20260421T045712Z
DESCRIPTION:
DTSTART;TZID=Europe/Berlin:20150404T150000
DTEND;TZID=Europe/Berlin:20150404T164500
LOCATION:
SUMMARY:14/15 Herren Kreispokal: TSV 1868 Ummerstadt - SG Milz/Eicha
END:VEVENT
BEGIN:VEVENT
UID:20260421T065712CEST-2854g3joxB@85.13.129.106
DTSTAMP:20260421T045712Z
DESCRIPTION:
DTSTART;TZID=Europe/Berlin:20150501T140000
DTEND;TZID=Europe/Berlin:20150501T154500
LOCATION:
SUMMARY:14/15 Herren Kreispokal: SG Milz/Eicha - SG Sachsenbrunn/Fehrenbach
END:VEVENT
BEGIN:VEVENT
UID:20260421T065712CEST-2861RvN6Ez@85.13.129.106
DTSTAMP:20260421T045712Z
DESCRIPTION:
DTSTART;TZID=Europe/Berlin:20150523T160000
DTEND;TZID=Europe/Berlin:20150523T174500
LOCATION:
SUMMARY:14/15 Herren Kreispokal: SG Milz/Eicha - SG Gompertshausen/Hellinge
 n
END:VEVENT
END:VCALENDAR
