BEGIN:VCALENDAR
VERSION:2.0
PRODID:-//85.13.129.106//NONSGML kigkonsult.se iCalcreator 2.10.23//
BEGIN:VEVENT
UID:20260425T050157CEST-4415aPftl4@85.13.129.106
DTSTAMP:20260425T030157Z
DESCRIPTION:
DTSTART;TZID=Europe/Amsterdam:20131107T173000
DTEND;TZID=Europe/Amsterdam:20131107T191500
LOCATION:
SUMMARY:13/14 E-Jun. KOL: SG Waldau E - FC-BW Schalkau E
END:VEVENT
BEGIN:VEVENT
UID:20260425T050157CEST-4419o0txL3@85.13.129.106
DTSTAMP:20260425T030157Z
DESCRIPTION:Schalkau
DTSTART;TZID=Europe/Amsterdam:20140528T180000
DTEND;TZID=Europe/Amsterdam:20140528T194500
LOCATION:Katzberger Straße 6\n96528 Schalkau\, 96528 Schalkau
SUMMARY:13/14 E-Jun. KOL: FC-BW Schalkau E - SV Empor 90 Eishausen E
END:VEVENT
BEGIN:VEVENT
UID:20260425T050157CEST-4424VGkmC1@85.13.129.106
DTSTAMP:20260425T030157Z
DESCRIPTION:Schalkau
DTSTART;TZID=Europe/Amsterdam:20140315T103000
DTEND;TZID=Europe/Amsterdam:20140315T121500
LOCATION:Katzberger Straße 6\n96528 Schalkau\, 96528 Schalkau
SUMMARY:13/14 E-Jun. KOL: FC-BW Schalkau E - TSV Germ. Sonneberg West E
END:VEVENT
BEGIN:VEVENT
UID:20260425T050157CEST-4428M0kZUE@85.13.129.106
DTSTAMP:20260425T030157Z
DESCRIPTION:Schalkau
DTSTART;TZID=Europe/Amsterdam:20140323T103000
DTEND;TZID=Europe/Amsterdam:20140323T121500
LOCATION:Katzberger Straße 6\n96528 Schalkau\, 96528 Schalkau
SUMMARY:13/14 E-Jun. KOL: SG Steinach E2 - FC-BW Schalkau E
END:VEVENT
BEGIN:VEVENT
UID:20260425T050157CEST-4432GhfIsw@85.13.129.106
DTSTAMP:20260425T030157Z
DESCRIPTION:Schalkau
DTSTART;TZID=Europe/Amsterdam:20140329T103000
DTEND;TZID=Europe/Amsterdam:20140329T121500
LOCATION:Katzberger Straße 6\n96528 Schalkau\, 96528 Schalkau
SUMMARY:13/14 E-Jun. KOL: FC-BW Schalkau E - SG 1951 Sonneberg E
END:VEVENT
BEGIN:VEVENT
UID:20260425T050157CEST-4437b7BxlU@85.13.129.106
DTSTAMP:20260425T030157Z
DESCRIPTION:Schalkau
DTSTART;TZID=Europe/Amsterdam:20140405T103000
DTEND;TZID=Europe/Amsterdam:20140405T121500
LOCATION:Katzberger Straße 6\n96528 Schalkau\, 96528 Schalkau
SUMMARY:13/14 E-Jun. KOL: FC-BW Schalkau E - SG Römh./Mendhausen E
END:VEVENT
BEGIN:VEVENT
UID:20260425T050157CEST-4441IbUjEL@85.13.129.106
DTSTAMP:20260425T030157Z
DESCRIPTION:Schalkau
DTSTART;TZID=Europe/Amsterdam:20140413T134500
DTEND;TZID=Europe/Amsterdam:20140413T153000
LOCATION:Katzberger Straße 6\n96528 Schalkau\, 96528 Schalkau
SUMMARY:13/14 E-Jun. KOL: SV EK Veilsdorf E - FC-BW Schalkau E
END:VEVENT
BEGIN:VEVENT
UID:20260425T050157CEST-4445bzFPoV@85.13.129.106
DTSTAMP:20260425T030157Z
DESCRIPTION:Schalkau
DTSTART;TZID=Europe/Amsterdam:20140617T180000
DTEND;TZID=Europe/Amsterdam:20140617T194500
LOCATION:Katzberger Straße 6\n96528 Schalkau\, 96528 Schalkau
SUMMARY:13/14 E-Jun. KOL: FC-BW Schalkau E - SV Iso. Neuhaus Schierschnitz 
 E
END:VEVENT
BEGIN:VEVENT
UID:20260425T050157CEST-4450nUPfAG@85.13.129.106
DTSTAMP:20260425T030157Z
DESCRIPTION:Schalkau
DTSTART;TZID=Europe/Amsterdam:20140504T143000
DTEND;TZID=Europe/Amsterdam:20140504T161500
LOCATION:Katzberger Straße 6\n96528 Schalkau\, 96528 Schalkau
SUMMARY:13/14 E-Jun. KOL: FC-BW Schalkau E - SG Waldau E
END:VEVENT
BEGIN:VEVENT
UID:20260425T050157CEST-4455E6lxao@85.13.129.106
DTSTAMP:20260425T030157Z
DESCRIPTION:Schalkau
DTSTART;TZID=Europe/Amsterdam:20140510T103000
DTEND;TZID=Europe/Amsterdam:20140510T121500
LOCATION:Katzberger Straße 6\n96528 Schalkau\, 96528 Schalkau
SUMMARY:13/14 E-Jun. KOL: SV Empor 90 Eishausen E - FC-BW Schalkau E
END:VEVENT
BEGIN:VEVENT
UID:20260425T050157CEST-4459d535O8@85.13.129.106
DTSTAMP:20260425T030157Z
DESCRIPTION:Schalkau
DTSTART;TZID=Europe/Amsterdam:20140516T170000
DTEND;TZID=Europe/Amsterdam:20140516T184500
LOCATION:Katzberger Straße 6\n96528 Schalkau\, 96528 Schalkau
SUMMARY:13/14 E-Jun. KOL: TSV Germ. Sonneberg West E - FC-BW Schalkau E
END:VEVENT
BEGIN:VEVENT
UID:20260425T050157CEST-446431uRAE@85.13.129.106
DTSTAMP:20260425T030157Z
DESCRIPTION:Schalkau
DTSTART;TZID=Europe/Amsterdam:20140524T103000
DTEND;TZID=Europe/Amsterdam:20140524T121500
LOCATION:Katzberger Straße 6\n96528 Schalkau\, 96528 Schalkau
SUMMARY:13/14 E-Jun. KOL: FC-BW Schalkau E - SG Steinach E2
END:VEVENT
BEGIN:VEVENT
UID:20260425T050157CEST-4468UUheO5@85.13.129.106
DTSTAMP:20260425T030157Z
DESCRIPTION:Schalkau
DTSTART;TZID=Europe/Amsterdam:20140531T103000
DTEND;TZID=Europe/Amsterdam:20140531T121500
LOCATION:Katzberger Straße 6\n96528 Schalkau\, 96528 Schalkau
SUMMARY:13/14 E-Jun. KOL: SG 1951 Sonneberg E - FC-BW Schalkau E
END:VEVENT
BEGIN:VEVENT
UID:20260425T050157CEST-44721zkPmW@85.13.129.106
DTSTAMP:20260425T030157Z
DESCRIPTION:Schalkau
DTSTART;TZID=Europe/Amsterdam:20140614T140000
DTEND;TZID=Europe/Amsterdam:20140614T154500
LOCATION:Katzberger Straße 6\n96528 Schalkau\, 96528 Schalkau
SUMMARY:13/14 E-Jun. KOL: SG Römh./Mendhausen E - FC-BW Schalkau E
END:VEVENT
BEGIN:VEVENT
UID:20260425T050157CEST-4477RMujBt@85.13.129.106
DTSTAMP:20260425T030157Z
DESCRIPTION:Schalkau
DTSTART;TZID=Europe/Amsterdam:20140622T103000
DTEND;TZID=Europe/Amsterdam:20140622T121500
LOCATION:Katzberger Straße 6\n96528 Schalkau\, 96528 Schalkau
SUMMARY:13/14 E-Jun. KOL: FC-BW Schalkau E - SV EK Veilsdorf E
END:VEVENT
BEGIN:VEVENT
UID:20260425T050157CEST-4481aSDhuz@85.13.129.106
DTSTAMP:20260425T030157Z
DESCRIPTION:Schalkau
DTSTART;TZID=Europe/Amsterdam:20140627T173000
DTEND;TZID=Europe/Amsterdam:20140627T191500
LOCATION:Katzberger Straße 6\n96528 Schalkau\, 96528 Schalkau
SUMMARY:13/14 E-Jun. KOL: SV Iso. Neuhaus Schierschnitz E - FC-BW Schalkau 
 E
END:VEVENT
END:VCALENDAR
