BEGIN:VCALENDAR
VERSION:2.0
PRODID:-//85.13.129.106//NONSGML kigkonsult.se iCalcreator 2.10.23//
BEGIN:VEVENT
UID:20260421T204216CEST-3148poFxJr@85.13.129.106
DTSTAMP:20260421T184216Z
DESCRIPTION:Schalkau
DTSTART;TZID=Europe/Berlin:20180810T183000
DTEND;TZID=Europe/Berlin:20180810T201500
LOCATION:Katzberger Straße 6\n96528 Schalkau\, 96528 Schalkau
SUMMARY:18/19 Herren 2.KK-O: FC-BW Schalkau II - VfR Jagdshof 1931
END:VEVENT
BEGIN:VEVENT
UID:20260421T204216CEST-3153zGRBVs@85.13.129.106
DTSTAMP:20260421T184216Z
DESCRIPTION:Schalkau
DTSTART;TZID=Europe/Berlin:20180819T150000
DTEND;TZID=Europe/Berlin:20180819T164500
LOCATION:Katzberger Straße 6\n96528 Schalkau\, 96528 Schalkau
SUMMARY:18/19 Herren 2.KK-O: SV Rottmar/Gefell - FC-BW Schalkau II
END:VEVENT
BEGIN:VEVENT
UID:20260421T204216CEST-3157Oxx0Fv@85.13.129.106
DTSTAMP:20260421T184216Z
DESCRIPTION:Schalkau
DTSTART;TZID=Europe/Berlin:20180803T183000
DTEND;TZID=Europe/Berlin:20180803T201500
LOCATION:Katzberger Straße 6\n96528 Schalkau\, 96528 Schalkau
SUMMARY:18/19 Herren 2.KK-O: FC-BW Schalkau II - SG SV 08 Steinach III
END:VEVENT
BEGIN:VEVENT
UID:20260421T204216CEST-3162VLWagO@85.13.129.106
DTSTAMP:20260421T184216Z
DESCRIPTION:Schalkau
DTSTART;TZID=Europe/Berlin:20180902T123000
DTEND;TZID=Europe/Berlin:20180902T141500
LOCATION:Katzberger Straße 6\n96528 Schalkau\, 96528 Schalkau
SUMMARY:18/19 Herren 2.KK-O: 1. FC Köppelsdorf II - FC-BW Schalkau II
END:VEVENT
BEGIN:VEVENT
UID:20260421T204216CEST-3166lBfj1k@85.13.129.106
DTSTAMP:20260421T184216Z
DESCRIPTION:Schalkau
DTSTART;TZID=Europe/Berlin:20180909T170000
DTEND;TZID=Europe/Berlin:20180909T184500
LOCATION:Katzberger Straße 6\n96528 Schalkau\, 96528 Schalkau
SUMMARY:18/19 Herren 2.KK-O: spielfrei - FC-BW Schalkau II
END:VEVENT
BEGIN:VEVENT
UID:20260421T204216CEST-31705UUVRL@85.13.129.106
DTSTAMP:20260421T184216Z
DESCRIPTION:Schalkau
DTSTART;TZID=Europe/Berlin:20180916T130000
DTEND;TZID=Europe/Berlin:20180916T144500
LOCATION:Katzberger Straße 6\n96528 Schalkau\, 96528 Schalkau
SUMMARY:18/19 Herren 2.KK-O: FC-BW Schalkau II - SG Lauscha/Neuhaus II
END:VEVENT
BEGIN:VEVENT
UID:20260421T204216CEST-31755GuLw5@85.13.129.106
DTSTAMP:20260421T184216Z
DESCRIPTION:Schalkau
DTSTART;TZID=Europe/Berlin:20180922T140000
DTEND;TZID=Europe/Berlin:20180922T154500
LOCATION:Katzberger Straße 6\n96528 Schalkau\, 96528 Schalkau
SUMMARY:18/19 Herren 2.KK-O: SC 06 Oberlind II - FC-BW Schalkau II
END:VEVENT
BEGIN:VEVENT
UID:20260421T204216CEST-3179pn5r1O@85.13.129.106
DTSTAMP:20260421T184216Z
DESCRIPTION:Schalkau
DTSTART;TZID=Europe/Berlin:20180930T130000
DTEND;TZID=Europe/Berlin:20180930T144500
LOCATION:Katzberger Straße 6\n96528 Schalkau\, 96528 Schalkau
SUMMARY:18/19 Herren 2.KK-O: FC-BW Schalkau II - SV Iso. Neuhaus Schierschn
 itz II
END:VEVENT
BEGIN:VEVENT
UID:20260421T204216CEST-31838f5hv8@85.13.129.106
DTSTAMP:20260421T184216Z
DESCRIPTION:Schalkau
DTSTART;TZID=Europe/Berlin:20181007T160000
DTEND;TZID=Europe/Berlin:20181007T174500
LOCATION:Katzberger Straße 6\n96528 Schalkau\, 96528 Schalkau
SUMMARY:18/19 Herren 2.KK-O: spielfrei - FC-BW Schalkau II
END:VEVENT
BEGIN:VEVENT
UID:20260421T204216CEST-3188LBkUvF@85.13.129.106
DTSTAMP:20260421T184216Z
DESCRIPTION:Schalkau
DTSTART;TZID=Europe/Berlin:20181014T130000
DTEND;TZID=Europe/Berlin:20181014T144500
LOCATION:Katzberger Straße 6\n96528 Schalkau\, 96528 Schalkau
SUMMARY:18/19 Herren 2.KK-O: FC-BW Schalkau II - TSV Germ. Sonneberg-West I
 I
END:VEVENT
BEGIN:VEVENT
UID:20260421T204216CEST-3192jHVF7x@85.13.129.106
DTSTAMP:20260421T184216Z
DESCRIPTION:Schalkau
DTSTART;TZID=Europe/Berlin:20181020T150000
DTEND;TZID=Europe/Berlin:20181020T164500
LOCATION:Katzberger Straße 6\n96528 Schalkau\, 96528 Schalkau
SUMMARY:18/19 Herren 2.KK-O: SG Heinersdorf/Neuenbau - FC-BW Schalkau II
END:VEVENT
BEGIN:VEVENT
UID:20260421T204216CEST-3196mtLMTX@85.13.129.106
DTSTAMP:20260421T184216Z
DESCRIPTION:Schalkau
DTSTART;TZID=Europe/Berlin:20181028T150000
DTEND;TZID=Europe/Berlin:20181028T164500
LOCATION:Katzberger Straße 6\n96528 Schalkau\, 96528 Schalkau
SUMMARY:18/19 Herren 2.KK-O: VfR Jagdshof 1931 - FC-BW Schalkau II
END:VEVENT
BEGIN:VEVENT
UID:20260421T204216CEST-3200H0emon@85.13.129.106
DTSTAMP:20260421T184216Z
DESCRIPTION:Schalkau
DTSTART;TZID=Europe/Berlin:20181104T140000
DTEND;TZID=Europe/Berlin:20181104T154500
LOCATION:Katzberger Straße 6\n96528 Schalkau\, 96528 Schalkau
SUMMARY:18/19 Herren 2.KK-O: FC-BW Schalkau II - SV Rottmar/Gefell
END:VEVENT
BEGIN:VEVENT
UID:20260421T204216CEST-3205EurZUL@85.13.129.106
DTSTAMP:20260421T184216Z
DESCRIPTION:Schalkau
DTSTART;TZID=Europe/Berlin:20190317T120000
DTEND;TZID=Europe/Berlin:20190317T134500
LOCATION:Katzberger Straße 6\n96528 Schalkau\, 96528 Schalkau
SUMMARY:18/19 Herren 2.KK-O: SG SV 08 Steinach III - FC-BW Schalkau II
END:VEVENT
BEGIN:VEVENT
UID:20260421T204216CEST-3209nzlE04@85.13.129.106
DTSTAMP:20260421T184216Z
DESCRIPTION:Schalkau
DTSTART;TZID=Europe/Berlin:20190324T130000
DTEND;TZID=Europe/Berlin:20190324T144500
LOCATION:Katzberger Straße 6\n96528 Schalkau\, 96528 Schalkau
SUMMARY:18/19 Herren 2.KK-O: FC-BW Schalkau II - 1. FC Köppelsdorf II
END:VEVENT
BEGIN:VEVENT
UID:20260421T204216CEST-32141lX9lz@85.13.129.106
DTSTAMP:20260421T184216Z
DESCRIPTION:Schalkau
DTSTART;TZID=Europe/Berlin:20190331T160000
DTEND;TZID=Europe/Berlin:20190331T174500
LOCATION:Katzberger Straße 6\n96528 Schalkau\, 96528 Schalkau
SUMMARY:18/19 Herren 2.KK-O: FC-BW Schalkau II - spielfrei
END:VEVENT
BEGIN:VEVENT
UID:20260421T204216CEST-3218ZlbcpC@85.13.129.106
DTSTAMP:20260421T184216Z
DESCRIPTION:Schalkau
DTSTART;TZID=Europe/Berlin:20190407T160000
DTEND;TZID=Europe/Berlin:20190407T174500
LOCATION:Katzberger Straße 6\n96528 Schalkau\, 96528 Schalkau
SUMMARY:18/19 Herren 2.KK-O: SG Lauscha/Neuhaus II - FC-BW Schalkau II
END:VEVENT
BEGIN:VEVENT
UID:20260421T204216CEST-3222w5njno@85.13.129.106
DTSTAMP:20260421T184216Z
DESCRIPTION:Schalkau
DTSTART;TZID=Europe/Berlin:20190511T160000
DTEND;TZID=Europe/Berlin:20190511T174500
LOCATION:Katzberger Straße 6\n96528 Schalkau\, 96528 Schalkau
SUMMARY:18/19 Herren 2.KK-O: FC-BW Schalkau II - SC 06 Oberlind II
END:VEVENT
BEGIN:VEVENT
UID:20260421T204216CEST-3227jASHu6@85.13.129.106
DTSTAMP:20260421T184216Z
DESCRIPTION:Schalkau
DTSTART;TZID=Europe/Berlin:20190428T130000
DTEND;TZID=Europe/Berlin:20190428T144500
LOCATION:Katzberger Straße 6\n96528 Schalkau\, 96528 Schalkau
SUMMARY:18/19 Herren 2.KK-O: SV Iso. Neuhaus Schierschnitz II - FC-BW Schal
 kau II
END:VEVENT
BEGIN:VEVENT
UID:20260421T204216CEST-3231tGW0kx@85.13.129.106
DTSTAMP:20260421T184216Z
DESCRIPTION:Schalkau
DTSTART;TZID=Europe/Berlin:20190512T130000
DTEND;TZID=Europe/Berlin:20190512T144500
LOCATION:Katzberger Straße 6\n96528 Schalkau\, 96528 Schalkau
SUMMARY:18/19 Herren 2.KK-O: FC-BW Schalkau II - spielfrei
END:VEVENT
BEGIN:VEVENT
UID:20260421T204216CEST-3235DCJVlT@85.13.129.106
DTSTAMP:20260421T184216Z
DESCRIPTION:Schalkau
DTSTART;TZID=Europe/Berlin:20190518T160000
DTEND;TZID=Europe/Berlin:20190518T174500
LOCATION:Katzberger Straße 6\n96528 Schalkau\, 96528 Schalkau
SUMMARY:18/19 Herren 2.KK-O: TSV Germ. Sonneberg-West II - FC-BW Schalkau I
 I
END:VEVENT
BEGIN:VEVENT
UID:20260421T204216CEST-3239UpR31W@85.13.129.106
DTSTAMP:20260421T184216Z
DESCRIPTION:Schalkau
DTSTART;TZID=Europe/Berlin:20190526T130000
DTEND;TZID=Europe/Berlin:20190526T144500
LOCATION:Katzberger Straße 6\n96528 Schalkau\, 96528 Schalkau
SUMMARY:18/19 Herren 2.KK-O: FC-BW Schalkau II - SG Heinersdorf/Neuenbau
END:VEVENT
END:VCALENDAR
