BEGIN:VCALENDAR
VERSION:2.0
PRODID:-//85.13.129.106//NONSGML kigkonsult.se iCalcreator 2.10.23//
BEGIN:VEVENT
UID:20260420T102922CEST-1982OXmwBL@85.13.129.106
DTSTAMP:20260420T082922Z
DESCRIPTION:
DTSTART;TZID=Europe/Berlin:20150822T103000
DTEND;TZID=Europe/Berlin:20150822T121500
LOCATION:
SUMMARY:15/16 D1-Jun. Landespokal: SG VfB Apolda D - SV Schott Jena D
END:VEVENT
BEGIN:VEVENT
UID:20260420T102922CEST-1987piXvgC@85.13.129.106
DTSTAMP:20260420T082922Z
DESCRIPTION:
DTSTART;TZID=Europe/Berlin:20150920T103000
DTEND;TZID=Europe/Berlin:20150920T121500
LOCATION:
SUMMARY:15/16 D1-Jun. Landespokal: FC Borntal Erfurt D - SG VfB Apolda D
END:VEVENT
END:VCALENDAR
