BEGIN:VCALENDAR
VERSION:2.0
PRODID:-//85.13.129.106//NONSGML kigkonsult.se iCalcreator 2.10.23//
BEGIN:VEVENT
UID:20260422T004124CEST-9347Tag5oU@85.13.129.106
DTSTAMP:20260421T224124Z
DESCRIPTION:
DTSTART;TZID=Europe/Berlin:20150906T103000
DTEND;TZID=Europe/Berlin:20150906T121500
LOCATION:
SUMMARY:15/16 C-Jun. VL: SC 1903 Weimar C - JFC Gera C
END:VEVENT
BEGIN:VEVENT
UID:20260422T004124CEST-9351za54Fp@85.13.129.106
DTSTAMP:20260421T224124Z
DESCRIPTION:
DTSTART;TZID=Europe/Berlin:20150913T103000
DTEND;TZID=Europe/Berlin:20150913T121500
LOCATION:
SUMMARY:15/16 C-Jun. VL: FC Eisenach C - SC 1903 Weimar C
END:VEVENT
BEGIN:VEVENT
UID:20260422T004124CEST-9356swVXUg@85.13.129.106
DTSTAMP:20260421T224124Z
DESCRIPTION:
DTSTART;TZID=Europe/Berlin:20150920T103000
DTEND;TZID=Europe/Berlin:20150920T121500
LOCATION:
SUMMARY:15/16 C-Jun. VL: SC 1903 Weimar C - FC Rot-Weiß Erfurt C2
END:VEVENT
BEGIN:VEVENT
UID:20260422T004124CEST-9360K6PAsv@85.13.129.106
DTSTAMP:20260421T224124Z
DESCRIPTION:
DTSTART;TZID=Europe/Berlin:20151002T173000
DTEND;TZID=Europe/Berlin:20151002T191500
LOCATION:
SUMMARY:15/16 C-Jun. VL: SV BW Büßleben C - SC 1903 Weimar C
END:VEVENT
BEGIN:VEVENT
UID:20260422T004124CEST-9365rAfeLK@85.13.129.106
DTSTAMP:20260421T224124Z
DESCRIPTION:
DTSTART;TZID=Europe/Berlin:20151025T103000
DTEND;TZID=Europe/Berlin:20151025T121500
LOCATION:
SUMMARY:15/16 C-Jun. VL: SC 1903 Weimar C - 1. FC Greiz C
END:VEVENT
BEGIN:VEVENT
UID:20260422T004124CEST-9373PUBgam@85.13.129.106
DTSTAMP:20260421T224124Z
DESCRIPTION:
DTSTART;TZID=Europe/Berlin:20151101T103000
DTEND;TZID=Europe/Berlin:20151101T121500
LOCATION:
SUMMARY:15/16 C-Jun. VL: SV BW Neustadt/Orla C - SC 1903 Weimar C
END:VEVENT
BEGIN:VEVENT
UID:20260422T004124CEST-93822Hb8o5@85.13.129.106
DTSTAMP:20260421T224124Z
DESCRIPTION:
DTSTART;TZID=Europe/Berlin:20151108T103000
DTEND;TZID=Europe/Berlin:20151108T121500
LOCATION:
SUMMARY:15/16 C-Jun. VL: SC 1903 Weimar C - SV Schott Jena C
END:VEVENT
BEGIN:VEVENT
UID:20260422T004124CEST-93909evBfT@85.13.129.106
DTSTAMP:20260421T224124Z
DESCRIPTION:
DTSTART;TZID=Europe/Berlin:20151121T103000
DTEND;TZID=Europe/Berlin:20151121T121500
LOCATION:
SUMMARY:15/16 C-Jun. VL: FC Carl Zeiss Jena C2 - SC 1903 Weimar C
END:VEVENT
BEGIN:VEVENT
UID:20260422T004124CEST-9398IfaPIz@85.13.129.106
DTSTAMP:20260421T224124Z
DESCRIPTION:
DTSTART;TZID=Europe/Berlin:20160221T103000
DTEND;TZID=Europe/Berlin:20160221T121500
LOCATION:
SUMMARY:15/16 C-Jun. VL: SC 1903 Weimar C - SG Schalkau/Sbg.-W. C
END:VEVENT
BEGIN:VEVENT
UID:20260422T004124CEST-94028pVUNk@85.13.129.106
DTSTAMP:20260421T224124Z
DESCRIPTION:
DTSTART;TZID=Europe/Berlin:20151206T103000
DTEND;TZID=Europe/Berlin:20151206T121500
LOCATION:
SUMMARY:15/16 C-Jun. VL: SC 1903 Weimar C - FSV Grün-Weiß Stadtroda C
END:VEVENT
BEGIN:VEVENT
UID:20260422T004124CEST-9409DeGeVJ@85.13.129.106
DTSTAMP:20260421T224124Z
DESCRIPTION:
DTSTART;TZID=Europe/Berlin:20151213T103000
DTEND;TZID=Europe/Berlin:20151213T121500
LOCATION:
SUMMARY:15/16 C-Jun. VL: FC Saalfeld C - SC 1903 Weimar C
END:VEVENT
BEGIN:VEVENT
UID:20260422T004124CEST-9413McRwu6@85.13.129.106
DTSTAMP:20260421T224124Z
DESCRIPTION:
DTSTART;TZID=Europe/Berlin:20160228T103000
DTEND;TZID=Europe/Berlin:20160228T121500
LOCATION:
SUMMARY:15/16 C-Jun. VL: JFC Gera C - SC 1903 Weimar C
END:VEVENT
BEGIN:VEVENT
UID:20260422T004124CEST-9417tbTPEF@85.13.129.106
DTSTAMP:20260421T224124Z
DESCRIPTION:
DTSTART;TZID=Europe/Berlin:20160306T103000
DTEND;TZID=Europe/Berlin:20160306T121500
LOCATION:
SUMMARY:15/16 C-Jun. VL: SC 1903 Weimar C - FC Eisenach C
END:VEVENT
BEGIN:VEVENT
UID:20260422T004124CEST-9422iNHdEf@85.13.129.106
DTSTAMP:20260421T224124Z
DESCRIPTION:
DTSTART;TZID=Europe/Berlin:20160313T110000
DTEND;TZID=Europe/Berlin:20160313T124500
LOCATION:
SUMMARY:15/16 C-Jun. VL: FC Rot-Weiß Erfurt C2 - SC 1903 Weimar C
END:VEVENT
BEGIN:VEVENT
UID:20260422T004124CEST-9426L6ps9x@85.13.129.106
DTSTAMP:20260421T224124Z
DESCRIPTION:
DTSTART;TZID=Europe/Berlin:20160417T103000
DTEND;TZID=Europe/Berlin:20160417T121500
LOCATION:
SUMMARY:15/16 C-Jun. VL: SC 1903 Weimar C - SV BW Büßleben C
END:VEVENT
BEGIN:VEVENT
UID:20260422T004124CEST-9430GESxes@85.13.129.106
DTSTAMP:20260421T224124Z
DESCRIPTION:
DTSTART;TZID=Europe/Berlin:20160424T103000
DTEND;TZID=Europe/Berlin:20160424T121500
LOCATION:
SUMMARY:15/16 C-Jun. VL: 1. FC Greiz C - SC 1903 Weimar C
END:VEVENT
BEGIN:VEVENT
UID:20260422T004124CEST-9434OSPU7j@85.13.129.106
DTSTAMP:20260421T224124Z
DESCRIPTION:
DTSTART;TZID=Europe/Berlin:20160501T103000
DTEND;TZID=Europe/Berlin:20160501T121500
LOCATION:
SUMMARY:15/16 C-Jun. VL: SC 1903 Weimar C - SV BW Neustadt/Orla C
END:VEVENT
BEGIN:VEVENT
UID:20260422T004124CEST-9439V2zurU@85.13.129.106
DTSTAMP:20260421T224124Z
DESCRIPTION:
DTSTART;TZID=Europe/Berlin:20160320T103000
DTEND;TZID=Europe/Berlin:20160320T121500
LOCATION:
SUMMARY:15/16 C-Jun. VL: SV Schott Jena C - SC 1903 Weimar C
END:VEVENT
BEGIN:VEVENT
UID:20260422T004124CEST-9443caLlwr@85.13.129.106
DTSTAMP:20260421T224124Z
DESCRIPTION:
DTSTART;TZID=Europe/Berlin:20160512T173000
DTEND;TZID=Europe/Berlin:20160512T191500
LOCATION:
SUMMARY:15/16 C-Jun. VL: SC 1903 Weimar C - FC Carl Zeiss Jena C2
END:VEVENT
BEGIN:VEVENT
UID:20260422T004124CEST-9447ncWSMi@85.13.129.106
DTSTAMP:20260421T224124Z
DESCRIPTION:Schalkau
DTSTART;TZID=Europe/Berlin:20160410T103000
DTEND;TZID=Europe/Berlin:20160410T121500
LOCATION:Katzberger Straße 6\n96528 Schalkau\, 96528 Schalkau
SUMMARY:15/16 C-Jun. VL: SG Schalkau/Sbg.-W. C - SC 1903 Weimar C
END:VEVENT
BEGIN:VEVENT
UID:20260422T004124CEST-9452i5dEUI@85.13.129.106
DTSTAMP:20260421T224124Z
DESCRIPTION:Schalkau
DTSTART;TZID=Europe/Berlin:20160529T103000
DTEND;TZID=Europe/Berlin:20160529T121500
LOCATION:Katzberger Straße 6\n96528 Schalkau\, 96528 Schalkau
SUMMARY:15/16 C-Jun. VL: FSV Grün-Weiß Stadtroda C - SC 1903 Weimar C
END:VEVENT
BEGIN:VEVENT
UID:20260422T004124CEST-9456ZW7Skf@85.13.129.106
DTSTAMP:20260421T224124Z
DESCRIPTION:Schalkau
DTSTART;TZID=Europe/Berlin:20160605T103000
DTEND;TZID=Europe/Berlin:20160605T121500
LOCATION:Katzberger Straße 6\n96528 Schalkau\, 96528 Schalkau
SUMMARY:15/16 C-Jun. VL: SC 1903 Weimar C - FC Saalfeld C
END:VEVENT
END:VCALENDAR
