BEGIN:VCALENDAR
VERSION:2.0
PRODID:-//85.13.129.106//NONSGML kigkonsult.se iCalcreator 2.10.23//
BEGIN:VEVENT
UID:20260425T200855CEST-9521ncPsB9@85.13.129.106
DTSTAMP:20260425T180855Z
DESCRIPTION:
DTSTART;TZID=Europe/Berlin:20150419T102000
DTEND;TZID=Europe/Berlin:20150419T120500
LOCATION:
SUMMARY:14/15 F-Jun. KOL: TSV Germ. Hellingen F - SV 08 Steinach F
END:VEVENT
BEGIN:VEVENT
UID:20260425T200855CEST-9525maU3TC@85.13.129.106
DTSTAMP:20260425T180855Z
DESCRIPTION:Hellingen
DTSTART;TZID=Europe/Berlin:20150419T113500
DTEND;TZID=Europe/Berlin:20150419T132000
LOCATION:\,  
SUMMARY:14/15 F-Jun. KOL: FC-BW Schalkau F - TSV Germ. Hellingen F
END:VEVENT
BEGIN:VEVENT
UID:20260425T200855CEST-9530T4HbUo@85.13.129.106
DTSTAMP:20260425T180855Z
DESCRIPTION:Hellingen
DTSTART;TZID=Europe/Berlin:20150503T104500
DTEND;TZID=Europe/Berlin:20150503T123000
LOCATION:\,  
SUMMARY:14/15 F-Jun. KOL: TSV Germ. Hellingen F - SV Falke Sachsenbrunn F
END:VEVENT
BEGIN:VEVENT
UID:20260425T200855CEST-9534DomLub@85.13.129.106
DTSTAMP:20260425T180855Z
DESCRIPTION:Hellingen
DTSTART;TZID=Europe/Berlin:20150607T120000
DTEND;TZID=Europe/Berlin:20150607T134500
LOCATION:\,  
SUMMARY:14/15 F-Jun. KOL: TSV Germ. Hellingen F - TSV Germ. Sonneberg West 
 F
END:VEVENT
BEGIN:VEVENT
UID:20260425T200855CEST-95394mThjU@85.13.129.106
DTSTAMP:20260425T180855Z
DESCRIPTION:Hellingen
DTSTART;TZID=Europe/Berlin:20150517T093000
DTEND;TZID=Europe/Berlin:20150517T111500
LOCATION:\,  
SUMMARY:14/15 F-Jun. KOL: SG Lauscha/Neuhaus F2 - TSV Germ. Hellingen F
END:VEVENT
BEGIN:VEVENT
UID:20260425T200855CEST-9544BAni6l@85.13.129.106
DTSTAMP:20260425T180855Z
DESCRIPTION:Hellingen
DTSTART;TZID=Europe/Berlin:20150517T104500
DTEND;TZID=Europe/Berlin:20150517T123000
LOCATION:\,  
SUMMARY:14/15 F-Jun. KOL: SV 08 Steinach F - TSV Germ. Hellingen F
END:VEVENT
BEGIN:VEVENT
UID:20260425T200855CEST-9548Ng36Cv@85.13.129.106
DTSTAMP:20260425T180855Z
DESCRIPTION:Schalkau
DTSTART;TZID=Europe/Berlin:20150607T095500
DTEND;TZID=Europe/Berlin:20150607T114000
LOCATION:Katzberger Straße 6\n96528 Schalkau\, 96528 Schalkau
SUMMARY:14/15 F-Jun. KOL: TSV Germ. Hellingen F - FC-BW Schalkau F
END:VEVENT
BEGIN:VEVENT
UID:20260425T200855CEST-9553ULmNwP@85.13.129.106
DTSTAMP:20260425T180855Z
DESCRIPTION:Schalkau
DTSTART;TZID=Europe/Berlin:20150607T104500
DTEND;TZID=Europe/Berlin:20150607T123000
LOCATION:Katzberger Straße 6\n96528 Schalkau\, 96528 Schalkau
SUMMARY:14/15 F-Jun. KOL: TSV Germ. Sonneberg West F - TSV Germ. Hellingen 
 F
END:VEVENT
BEGIN:VEVENT
UID:20260425T200855CEST-9557f67DVV@85.13.129.106
DTSTAMP:20260425T180855Z
DESCRIPTION:Schalkau
DTSTART;TZID=Europe/Berlin:20150621T095500
DTEND;TZID=Europe/Berlin:20150621T114000
LOCATION:Katzberger Straße 6\n96528 Schalkau\, 96528 Schalkau
SUMMARY:14/15 F-Jun. KOL: SV Falke Sachsenbrunn F - TSV Germ. Hellingen F
END:VEVENT
BEGIN:VEVENT
UID:20260425T200855CEST-9562M2oCsN@85.13.129.106
DTSTAMP:20260425T180855Z
DESCRIPTION:Schalkau
DTSTART;TZID=Europe/Berlin:20150621T104500
DTEND;TZID=Europe/Berlin:20150621T123000
LOCATION:Katzberger Straße 6\n96528 Schalkau\, 96528 Schalkau
SUMMARY:14/15 F-Jun. KOL: TSV Germ. Hellingen F - SG Lauscha/Neuhaus F2
END:VEVENT
END:VCALENDAR
