BEGIN:VCALENDAR
VERSION:2.0
PRODID:-//85.13.129.106//NONSGML kigkonsult.se iCalcreator 2.10.23//
BEGIN:VEVENT
UID:20260422T142142CEST-2318dvEjXS@85.13.129.106
DTSTAMP:20260422T122142Z
DESCRIPTION:
DTSTART;TZID=Europe/Berlin:20150903T180000
DTEND;TZID=Europe/Berlin:20150903T194500
LOCATION:
SUMMARY:15/16 D1-Jun. Landespokal: ZFC Meuselwitz D - SG SV Schmölln 1913 D
END:VEVENT
BEGIN:VEVENT
UID:20260422T142142CEST-2323dZ29TB@85.13.129.106
DTSTAMP:20260422T122142Z
DESCRIPTION:
DTSTART;TZID=Europe/Berlin:20150920T103000
DTEND;TZID=Europe/Berlin:20150920T121500
LOCATION:
SUMMARY:15/16 D1-Jun. Landespokal: SG SV Schmölln 1913 D - OTG 1902 Gera D
END:VEVENT
BEGIN:VEVENT
UID:20260422T142142CEST-23271o7zLv@85.13.129.106
DTSTAMP:20260422T122142Z
DESCRIPTION:
DTSTART;TZID=Europe/Berlin:20151114T123000
DTEND;TZID=Europe/Berlin:20151114T141500
LOCATION:
SUMMARY:15/16 D1-Jun. Landespokal: SV BW Neustadt/Orla D - SG SV Schmölln 1
 913 D
END:VEVENT
END:VCALENDAR
