BEGIN:VCALENDAR
VERSION:2.0
PRODID:-//85.13.129.106//NONSGML kigkonsult.se iCalcreator 2.10.23//
BEGIN:VEVENT
UID:20260421T231141CEST-4263IcA5vL@85.13.129.106
DTSTAMP:20260421T211141Z
DESCRIPTION:
DTSTART;TZID=Europe/Berlin:20131013T103000
DTEND;TZID=Europe/Berlin:20131013T121500
LOCATION:
SUMMARY:13/14 D-Jun. KOL: TSV 1908 Gompertshausen D - Erlauer SV Grün-Weiß 
 D
END:VEVENT
BEGIN:VEVENT
UID:20260421T231141CEST-4267bt6uJi@85.13.129.106
DTSTAMP:20260421T211141Z
DESCRIPTION:
DTSTART;TZID=Europe/Berlin:20131103T103000
DTEND;TZID=Europe/Berlin:20131103T121500
LOCATION:
SUMMARY:13/14 D-Jun. KOL: Erlauer SV Grün-Weiß D - FSV 06 Eintr. Hildburgha
 usen D
END:VEVENT
BEGIN:VEVENT
UID:20260421T231141CEST-4272bfPmU4@85.13.129.106
DTSTAMP:20260421T211141Z
DESCRIPTION:
DTSTART;TZID=Europe/Berlin:20140316T103000
DTEND;TZID=Europe/Berlin:20140316T121500
LOCATION:
SUMMARY:13/14 D-Jun. KOL: Erlauer SV Grün-Weiß D - TSV Germ. Sonneberg West
  D2
END:VEVENT
BEGIN:VEVENT
UID:20260421T231141CEST-4276MAX8gS@85.13.129.106
DTSTAMP:20260421T211141Z
DESCRIPTION:
DTSTART;TZID=Europe/Berlin:20131117T103000
DTEND;TZID=Europe/Berlin:20131117T121500
LOCATION:
SUMMARY:13/14 D-Jun. KOL: Erlauer SV Grün-Weiß D - FC-BW Schalkau D
END:VEVENT
BEGIN:VEVENT
UID:20260421T231141CEST-4282ssWFBo@85.13.129.106
DTSTAMP:20260421T211141Z
DESCRIPTION:
DTSTART;TZID=Europe/Berlin:20140328T170000
DTEND;TZID=Europe/Berlin:20140328T184500
LOCATION:
SUMMARY:13/14 D-Jun. KOL: SG Gleichamberg D - Erlauer SV Grün-Weiß D
END:VEVENT
BEGIN:VEVENT
UID:20260421T231141CEST-4287CbXiEI@85.13.129.106
DTSTAMP:20260421T211141Z
DESCRIPTION:
DTSTART;TZID=Europe/Berlin:20140406T103000
DTEND;TZID=Europe/Berlin:20140406T121500
LOCATION:
SUMMARY:13/14 D-Jun. KOL: SG 1951 Sonneberg D - Erlauer SV Grün-Weiß D
END:VEVENT
BEGIN:VEVENT
UID:20260421T231141CEST-4291hkWVav@85.13.129.106
DTSTAMP:20260421T211141Z
DESCRIPTION:
DTSTART;TZID=Europe/Berlin:20140413T103000
DTEND;TZID=Europe/Berlin:20140413T121500
LOCATION:
SUMMARY:13/14 D-Jun. KOL: Erlauer SV Grün-Weiß D - SV Eintracht Oberland D
END:VEVENT
BEGIN:VEVENT
UID:20260421T231141CEST-4295UVBZiv@85.13.129.106
DTSTAMP:20260421T211141Z
DESCRIPTION:
DTSTART;TZID=Europe/Berlin:20140504T103000
DTEND;TZID=Europe/Berlin:20140504T121500
LOCATION:
SUMMARY:13/14 D-Jun. KOL: Erlauer SV Grün-Weiß D - TSV 1908 Gompertshausen 
 D
END:VEVENT
BEGIN:VEVENT
UID:20260421T231141CEST-4301aGLlO3@85.13.129.106
DTSTAMP:20260421T211141Z
DESCRIPTION:
DTSTART;TZID=Europe/Berlin:20140511T103000
DTEND;TZID=Europe/Berlin:20140511T121500
LOCATION:
SUMMARY:13/14 D-Jun. KOL: FSV 06 Eintr. Hildburghausen D - Erlauer SV Grün-
 Weiß D
END:VEVENT
BEGIN:VEVENT
UID:20260421T231141CEST-430640whrC@85.13.129.106
DTSTAMP:20260421T211141Z
DESCRIPTION:
DTSTART;TZID=Europe/Berlin:20140517T103000
DTEND;TZID=Europe/Berlin:20140517T121500
LOCATION:
SUMMARY:13/14 D-Jun. KOL: TSV Germ. Sonneberg West D2 - Erlauer SV Grün-Wei
 ß D
END:VEVENT
BEGIN:VEVENT
UID:20260421T231141CEST-4311a0PUAF@85.13.129.106
DTSTAMP:20260421T211141Z
DESCRIPTION:Schalkau
DTSTART;TZID=Europe/Berlin:20140525T103000
DTEND;TZID=Europe/Berlin:20140525T121500
LOCATION:Katzberger Straße 6\n96528 Schalkau\, 96528 Schalkau
SUMMARY:13/14 D-Jun. KOL: FC-BW Schalkau D - Erlauer SV Grün-Weiß D
END:VEVENT
BEGIN:VEVENT
UID:20260421T231141CEST-4317Ca5SXE@85.13.129.106
DTSTAMP:20260421T211141Z
DESCRIPTION:Schalkau
DTSTART;TZID=Europe/Berlin:20140531T143000
DTEND;TZID=Europe/Berlin:20140531T161500
LOCATION:Katzberger Straße 6\n96528 Schalkau\, 96528 Schalkau
SUMMARY:13/14 D-Jun. KOL: Erlauer SV Grün-Weiß D - SG Gleichamberg D
END:VEVENT
BEGIN:VEVENT
UID:20260421T231141CEST-4321Kis6xv@85.13.129.106
DTSTAMP:20260421T211141Z
DESCRIPTION:Schalkau
DTSTART;TZID=Europe/Berlin:20140615T103000
DTEND;TZID=Europe/Berlin:20140615T121500
LOCATION:Katzberger Straße 6\n96528 Schalkau\, 96528 Schalkau
SUMMARY:13/14 D-Jun. KOL: Erlauer SV Grün-Weiß D - SG 1951 Sonneberg D
END:VEVENT
BEGIN:VEVENT
UID:20260421T231141CEST-4325LIhveo@85.13.129.106
DTSTAMP:20260421T211141Z
DESCRIPTION:Schalkau
DTSTART;TZID=Europe/Berlin:20140622T103000
DTEND;TZID=Europe/Berlin:20140622T121500
LOCATION:Katzberger Straße 6\n96528 Schalkau\, 96528 Schalkau
SUMMARY:13/14 D-Jun. KOL: SV Eintracht Oberland D - Erlauer SV Grün-Weiß D
END:VEVENT
END:VCALENDAR
