BEGIN:VCALENDAR
VERSION:2.0
PRODID:-//85.13.129.106//NONSGML kigkonsult.se iCalcreator 2.10.23//
BEGIN:VEVENT
UID:20260422T121141CEST-2852PMe3Hx@85.13.129.106
DTSTAMP:20260422T101141Z
DESCRIPTION:
DTSTART;TZID=Europe/Berlin:20180815T173000
DTEND;TZID=Europe/Berlin:20180815T181500
LOCATION:
SUMMARY:18/19 D-Jun. Landespokal: Freilos - SV Wacker 04 Bad Salzungen D
END:VEVENT
BEGIN:VEVENT
UID:20260422T121141CEST-28575jO71I@85.13.129.106
DTSTAMP:20260422T101141Z
DESCRIPTION:
DTSTART;TZID=Europe/Berlin:20180915T103000
DTEND;TZID=Europe/Berlin:20180915T111500
LOCATION:
SUMMARY:18/19 D-Jun. Landespokal: 1. Suhler SV 06 D - SV Wacker 04 Bad Salz
 ungen D
END:VEVENT
BEGIN:VEVENT
UID:20260422T121141CEST-2861rj7E9k@85.13.129.106
DTSTAMP:20260422T101141Z
DESCRIPTION:
DTSTART;TZID=Europe/Berlin:20181031T110000
DTEND;TZID=Europe/Berlin:20181031T114500
LOCATION:
SUMMARY:18/19 D-Jun. Landespokal: FF USV Jena D - SV Wacker 04 Bad Salzunge
 n D
END:VEVENT
BEGIN:VEVENT
UID:20260422T121141CEST-2865B0FJZk@85.13.129.106
DTSTAMP:20260422T101141Z
DESCRIPTION:
DTSTART;TZID=Europe/Berlin:20190413T110000
DTEND;TZID=Europe/Berlin:20190413T114500
LOCATION:
SUMMARY:18/19 D-Jun. Landespokal: SV Germania Ilmenau D - SV Wacker 04 Bad 
 Salzungen D
END:VEVENT
END:VCALENDAR
