BEGIN:VCALENDAR
VERSION:2.0
PRODID:-//85.13.129.106//NONSGML kigkonsult.se iCalcreator 2.10.23//
BEGIN:VEVENT
UID:20260422T035511CEST-07860wah5K@85.13.129.106
DTSTAMP:20260422T015511Z
DESCRIPTION:
DTSTART;TZID=Europe/Berlin:20170813T150000
DTEND;TZID=Europe/Berlin:20170813T164500
LOCATION:
SUMMARY:17/18 Herren 2.KK-O: SG Heinersdorf/Neuenbau - SV Rottmar/Gefell
END:VEVENT
BEGIN:VEVENT
UID:20260422T035511CEST-0791BcAIs1@85.13.129.106
DTSTAMP:20260422T015511Z
DESCRIPTION:
DTSTART;TZID=Europe/Berlin:20171001T150000
DTEND;TZID=Europe/Berlin:20171001T164500
LOCATION:
SUMMARY:17/18 Herren 2.KK-O: SG Heinersdorf/Neuenbau - FC-BW Schalkau II
END:VEVENT
BEGIN:VEVENT
UID:20260422T035511CEST-0795DWfifv@85.13.129.106
DTSTAMP:20260422T015511Z
DESCRIPTION:
DTSTART;TZID=Europe/Berlin:20170806T160000
DTEND;TZID=Europe/Berlin:20170806T174500
LOCATION:
SUMMARY:17/18 Herren 2.KK-O: SG Heinersdorf/Neuenbau - SV Rennsteig Ernstth
 al
END:VEVENT
BEGIN:VEVENT
UID:20260422T035511CEST-0800EXA5ZT@85.13.129.106
DTSTAMP:20260422T015511Z
DESCRIPTION:
DTSTART;TZID=Europe/Berlin:20170910T130000
DTEND;TZID=Europe/Berlin:20170910T144500
LOCATION:
SUMMARY:17/18 Herren 2.KK-O: 1. FC Köppelsdorf II - SG Heinersdorf/Neuenbau
END:VEVENT
BEGIN:VEVENT
UID:20260422T035511CEST-08042R2NVs@85.13.129.106
DTSTAMP:20260422T015511Z
DESCRIPTION:
DTSTART;TZID=Europe/Berlin:20170917T150000
DTEND;TZID=Europe/Berlin:20170917T164500
LOCATION:
SUMMARY:17/18 Herren 2.KK-O: SG Heinersdorf/Neuenbau - SV Iso. Neuhaus Schi
 erschnitz II
END:VEVENT
BEGIN:VEVENT
UID:20260422T035511CEST-0808lKWvSh@85.13.129.106
DTSTAMP:20260422T015511Z
DESCRIPTION:
DTSTART;TZID=Europe/Berlin:20170924T150000
DTEND;TZID=Europe/Berlin:20170924T164500
LOCATION:
SUMMARY:17/18 Herren 2.KK-O: SG Lauscha/Neuhaus II - SG Heinersdorf/Neuenba
 u
END:VEVENT
BEGIN:VEVENT
UID:20260422T035511CEST-0813JcZzp2@85.13.129.106
DTSTAMP:20260422T015511Z
DESCRIPTION:
DTSTART;TZID=Europe/Berlin:20171008T150000
DTEND;TZID=Europe/Berlin:20171008T164500
LOCATION:
SUMMARY:17/18 Herren 2.KK-O: SG Heinersdorf/Neuenbau - SG SV 08 Steinach II
 I
END:VEVENT
BEGIN:VEVENT
UID:20260422T035511CEST-0817jeDGzN@85.13.129.106
DTSTAMP:20260422T015511Z
DESCRIPTION:
DTSTART;TZID=Europe/Berlin:20171022T150000
DTEND;TZID=Europe/Berlin:20171022T164500
LOCATION:
SUMMARY:17/18 Herren 2.KK-O: SG Haselbach/ Hasenthal - SG Heinersdorf/Neuen
 bau
END:VEVENT
BEGIN:VEVENT
UID:20260422T035511CEST-0821MdDxdW@85.13.129.106
DTSTAMP:20260422T015511Z
DESCRIPTION:
DTSTART;TZID=Europe/Berlin:20171105T140000
DTEND;TZID=Europe/Berlin:20171105T154500
LOCATION:
SUMMARY:17/18 Herren 2.KK-O: SV Rottmar/Gefell - SG Heinersdorf/Neuenbau
END:VEVENT
BEGIN:VEVENT
UID:20260422T035511CEST-0826K5xxtU@85.13.129.106
DTSTAMP:20260422T015511Z
DESCRIPTION:Schalkau
DTSTART;TZID=Europe/Berlin:20180610T150000
DTEND;TZID=Europe/Berlin:20180610T164500
LOCATION:Katzberger Straße 6\n96528 Schalkau\, 96528 Schalkau
SUMMARY:17/18 Herren 2.KK-O: FC-BW Schalkau II - SG Heinersdorf/Neuenbau
END:VEVENT
BEGIN:VEVENT
UID:20260422T035511CEST-0830Onh9v1@85.13.129.106
DTSTAMP:20260422T015511Z
DESCRIPTION:Schalkau
DTSTART;TZID=Europe/Berlin:20180408T150000
DTEND;TZID=Europe/Berlin:20180408T164500
LOCATION:Katzberger Straße 6\n96528 Schalkau\, 96528 Schalkau
SUMMARY:17/18 Herren 2.KK-O: SV Rennsteig Ernstthal - SG Heinersdorf/Neuenb
 au
END:VEVENT
BEGIN:VEVENT
UID:20260422T035511CEST-0835pFkeAF@85.13.129.106
DTSTAMP:20260422T015511Z
DESCRIPTION:Schalkau
DTSTART;TZID=Europe/Berlin:20180415T150000
DTEND;TZID=Europe/Berlin:20180415T164500
LOCATION:Katzberger Straße 6\n96528 Schalkau\, 96528 Schalkau
SUMMARY:17/18 Herren 2.KK-O: SG Heinersdorf/Neuenbau - 1. FC Köppelsdorf II
END:VEVENT
BEGIN:VEVENT
UID:20260422T035511CEST-0839wANpjM@85.13.129.106
DTSTAMP:20260422T015511Z
DESCRIPTION:Schalkau
DTSTART;TZID=Europe/Berlin:20180422T130000
DTEND;TZID=Europe/Berlin:20180422T144500
LOCATION:Katzberger Straße 6\n96528 Schalkau\, 96528 Schalkau
SUMMARY:17/18 Herren 2.KK-O: SV Iso. Neuhaus Schierschnitz II - SG Heinersd
 orf/Neuenbau
END:VEVENT
BEGIN:VEVENT
UID:20260422T035511CEST-08431DAwNN@85.13.129.106
DTSTAMP:20260422T015511Z
DESCRIPTION:Schalkau
DTSTART;TZID=Europe/Berlin:20180506T150000
DTEND;TZID=Europe/Berlin:20180506T164500
LOCATION:Katzberger Straße 6\n96528 Schalkau\, 96528 Schalkau
SUMMARY:17/18 Herren 2.KK-O: SG Heinersdorf/Neuenbau - SG Lauscha/Neuhaus I
 I
END:VEVENT
BEGIN:VEVENT
UID:20260422T035511CEST-08484DHHo1@85.13.129.106
DTSTAMP:20260422T015511Z
DESCRIPTION:Schalkau
DTSTART;TZID=Europe/Berlin:20180513T130000
DTEND;TZID=Europe/Berlin:20180513T144500
LOCATION:Katzberger Straße 6\n96528 Schalkau\, 96528 Schalkau
SUMMARY:17/18 Herren 2.KK-O: SG SV 08 Steinach III - SG Heinersdorf/Neuenba
 u
END:VEVENT
BEGIN:VEVENT
UID:20260422T035511CEST-0852lzGkVJ@85.13.129.106
DTSTAMP:20260422T015511Z
DESCRIPTION:Schalkau
DTSTART;TZID=Europe/Berlin:20180527T150000
DTEND;TZID=Europe/Berlin:20180527T164500
LOCATION:Katzberger Straße 6\n96528 Schalkau\, 96528 Schalkau
SUMMARY:17/18 Herren 2.KK-O: SG Heinersdorf/Neuenbau - SG Haselbach/ Hasent
 hal
END:VEVENT
END:VCALENDAR
