BEGIN:VCALENDAR
VERSION:2.0
PRODID:-//85.13.129.106//NONSGML kigkonsult.se iCalcreator 2.10.23//
BEGIN:VEVENT
UID:20260422T220052CEST-8610u6bONe@85.13.129.106
DTSTAMP:20260422T200052Z
DESCRIPTION:Schalkau
DTSTART;TZID=Europe/Berlin:20160814T150000
DTEND;TZID=Europe/Berlin:20160814T164500
LOCATION:Katzberger Straße 6\n96528 Schalkau\, 96528 Schalkau
SUMMARY:16/17 Herren 2.KK-O: FC-BW Schalkau II - SG SV 08 Steinach III
END:VEVENT
BEGIN:VEVENT
UID:20260422T220052CEST-8615AueF0f@85.13.129.106
DTSTAMP:20260422T200052Z
DESCRIPTION:Schalkau
DTSTART;TZID=Europe/Berlin:20160731T130000
DTEND;TZID=Europe/Berlin:20160731T144500
LOCATION:Katzberger Straße 6\n96528 Schalkau\, 96528 Schalkau
SUMMARY:16/17 Herren 2.KK-O: 1. FC Köppelsdorf II - SG SV 08 Steinach III
END:VEVENT
BEGIN:VEVENT
UID:20260422T220052CEST-8619iop11C@85.13.129.106
DTSTAMP:20260422T200052Z
DESCRIPTION:Schalkau
DTSTART;TZID=Europe/Berlin:20160827T130000
DTEND;TZID=Europe/Berlin:20160827T144500
LOCATION:Katzberger Straße 6\n96528 Schalkau\, 96528 Schalkau
SUMMARY:16/17 Herren 2.KK-O: SG 1951 Sonneberg II - SG SV 08 Steinach III
END:VEVENT
BEGIN:VEVENT
UID:20260422T220052CEST-8623AVELCx@85.13.129.106
DTSTAMP:20260422T200052Z
DESCRIPTION:Schalkau
DTSTART;TZID=Europe/Berlin:20161030T140000
DTEND;TZID=Europe/Berlin:20161030T154500
LOCATION:Katzberger Straße 6\n96528 Schalkau\, 96528 Schalkau
SUMMARY:16/17 Herren 2.KK-O: SG SV 08 Steinach III - SV Iso. Neuhaus Schier
 schnitz II
END:VEVENT
BEGIN:VEVENT
UID:20260422T220052CEST-8627clSAZW@85.13.129.106
DTSTAMP:20260422T200052Z
DESCRIPTION:Schalkau
DTSTART;TZID=Europe/Berlin:20160910T130000
DTEND;TZID=Europe/Berlin:20160910T144500
LOCATION:Katzberger Straße 6\n96528 Schalkau\, 96528 Schalkau
SUMMARY:16/17 Herren 2.KK-O: SG Lauscha/Neuhaus II - SG SV 08 Steinach III
END:VEVENT
BEGIN:VEVENT
UID:20260422T220052CEST-8632R5KpmV@85.13.129.106
DTSTAMP:20260422T200052Z
DESCRIPTION:Schalkau
DTSTART;TZID=Europe/Berlin:20160918T160000
DTEND;TZID=Europe/Berlin:20160918T174500
LOCATION:Katzberger Straße 6\n96528 Schalkau\, 96528 Schalkau
SUMMARY:16/17 Herren 2.KK-O: SG SV 08 Steinach III - SC 06 Oberlind II
END:VEVENT
BEGIN:VEVENT
UID:20260422T220052CEST-8636aZsI8U@85.13.129.106
DTSTAMP:20260422T200052Z
DESCRIPTION:Schalkau
DTSTART;TZID=Europe/Berlin:20160925T150000
DTEND;TZID=Europe/Berlin:20160925T164500
LOCATION:Katzberger Straße 6\n96528 Schalkau\, 96528 Schalkau
SUMMARY:16/17 Herren 2.KK-O: SG Haselbach/ Hasenthal - SG SV 08 Steinach II
 I
END:VEVENT
BEGIN:VEVENT
UID:20260422T220052CEST-8640BL5MkJ@85.13.129.106
DTSTAMP:20260422T200052Z
DESCRIPTION:Schalkau
DTSTART;TZID=Europe/Berlin:20161009T130000
DTEND;TZID=Europe/Berlin:20161009T144500
LOCATION:Katzberger Straße 6\n96528 Schalkau\, 96528 Schalkau
SUMMARY:16/17 Herren 2.KK-O: SG SV 08 Steinach III - SV Rottmar/Gefell
END:VEVENT
BEGIN:VEVENT
UID:20260422T220052CEST-8644TGAunh@85.13.129.106
DTSTAMP:20260422T200052Z
DESCRIPTION:Schalkau
DTSTART;TZID=Europe/Berlin:20161023T150000
DTEND;TZID=Europe/Berlin:20161023T164500
LOCATION:Katzberger Straße 6\n96528 Schalkau\, 96528 Schalkau
SUMMARY:16/17 Herren 2.KK-O: SG Heinersdorf/Neuenbau - SG SV 08 Steinach II
 I
END:VEVENT
BEGIN:VEVENT
UID:20260422T220052CEST-8648EAVkTD@85.13.129.106
DTSTAMP:20260422T200052Z
DESCRIPTION:Schalkau
DTSTART;TZID=Europe/Berlin:20161016T140000
DTEND;TZID=Europe/Berlin:20161016T154500
LOCATION:Katzberger Straße 6\n96528 Schalkau\, 96528 Schalkau
SUMMARY:16/17 Herren 2.KK-O: SG SV 08 Steinach III - FC-BW Schalkau II
END:VEVENT
BEGIN:VEVENT
UID:20260422T220052CEST-8653SvuGBH@85.13.129.106
DTSTAMP:20260422T200052Z
DESCRIPTION:Schalkau
DTSTART;TZID=Europe/Berlin:20170319T133000
DTEND;TZID=Europe/Berlin:20170319T151500
LOCATION:Katzberger Straße 6\n96528 Schalkau\, 96528 Schalkau
SUMMARY:16/17 Herren 2.KK-O: SG SV 08 Steinach III - 1. FC Köppelsdorf II
END:VEVENT
BEGIN:VEVENT
UID:20260422T220052CEST-8657MCo2iz@85.13.129.106
DTSTAMP:20260422T200052Z
DESCRIPTION:Schalkau
DTSTART;TZID=Europe/Berlin:20170326T140000
DTEND;TZID=Europe/Berlin:20170326T154500
LOCATION:Katzberger Straße 6\n96528 Schalkau\, 96528 Schalkau
SUMMARY:16/17 Herren 2.KK-O: SG SV 08 Steinach III - SG 1951 Sonneberg II
END:VEVENT
BEGIN:VEVENT
UID:20260422T220052CEST-8661GwPzB2@85.13.129.106
DTSTAMP:20260422T200052Z
DESCRIPTION:Schalkau
DTSTART;TZID=Europe/Berlin:20170402T130000
DTEND;TZID=Europe/Berlin:20170402T144500
LOCATION:Katzberger Straße 6\n96528 Schalkau\, 96528 Schalkau
SUMMARY:16/17 Herren 2.KK-O: SV Iso. Neuhaus Schierschnitz II - SG SV 08 St
 einach III
END:VEVENT
BEGIN:VEVENT
UID:20260422T220052CEST-8665ohmuur@85.13.129.106
DTSTAMP:20260422T200052Z
DESCRIPTION:Schalkau
DTSTART;TZID=Europe/Berlin:20170409T140000
DTEND;TZID=Europe/Berlin:20170409T154500
LOCATION:Katzberger Straße 6\n96528 Schalkau\, 96528 Schalkau
SUMMARY:16/17 Herren 2.KK-O: SG SV 08 Steinach III - SG Lauscha/Neuhaus II
END:VEVENT
BEGIN:VEVENT
UID:20260422T220052CEST-8669L1686o@85.13.129.106
DTSTAMP:20260422T200052Z
DESCRIPTION:Schalkau
DTSTART;TZID=Europe/Berlin:20170423T130000
DTEND;TZID=Europe/Berlin:20170423T144500
LOCATION:Katzberger Straße 6\n96528 Schalkau\, 96528 Schalkau
SUMMARY:16/17 Herren 2.KK-O: SC 06 Oberlind II - SG SV 08 Steinach III
END:VEVENT
BEGIN:VEVENT
UID:20260422T220052CEST-8674cN57vu@85.13.129.106
DTSTAMP:20260422T200052Z
DESCRIPTION:Schalkau
DTSTART;TZID=Europe/Berlin:20170507T130000
DTEND;TZID=Europe/Berlin:20170507T144500
LOCATION:Katzberger Straße 6\n96528 Schalkau\, 96528 Schalkau
SUMMARY:16/17 Herren 2.KK-O: SG SV 08 Steinach III - SG Haselbach/ Hasentha
 l
END:VEVENT
BEGIN:VEVENT
UID:20260422T220052CEST-8678VkFmtw@85.13.129.106
DTSTAMP:20260422T200052Z
DESCRIPTION:Schalkau
DTSTART;TZID=Europe/Berlin:20170521T150000
DTEND;TZID=Europe/Berlin:20170521T164500
LOCATION:Katzberger Straße 6\n96528 Schalkau\, 96528 Schalkau
SUMMARY:16/17 Herren 2.KK-O: SV Rottmar/Gefell - SG SV 08 Steinach III
END:VEVENT
BEGIN:VEVENT
UID:20260422T220052CEST-8682UWlun1@85.13.129.106
DTSTAMP:20260422T200052Z
DESCRIPTION:Schalkau
DTSTART;TZID=Europe/Berlin:20170528T140000
DTEND;TZID=Europe/Berlin:20170528T154500
LOCATION:Katzberger Straße 6\n96528 Schalkau\, 96528 Schalkau
SUMMARY:16/17 Herren 2.KK-O: SG SV 08 Steinach III - SG Heinersdorf/Neuenba
 u
END:VEVENT
END:VCALENDAR
