BEGIN:VCALENDAR
VERSION:2.0
PRODID:-//85.13.129.106//NONSGML kigkonsult.se iCalcreator 2.10.23//
BEGIN:VEVENT
UID:20260422T184957CEST-9292ZM7T9U@85.13.129.106
DTSTAMP:20260422T164957Z
DESCRIPTION:
DTSTART;TZID=Europe/Berlin:20150830T103000
DTEND;TZID=Europe/Berlin:20150830T111500
LOCATION:
SUMMARY:15/16 E-Pokal: SV 03 Eisfeld E - 1. FC Sonneberg 04 E
END:VEVENT
BEGIN:VEVENT
UID:20260422T184957CEST-9297BvfhB2@85.13.129.106
DTSTAMP:20260422T164957Z
DESCRIPTION:
DTSTART;TZID=Europe/Berlin:20151023T170000
DTEND;TZID=Europe/Berlin:20151023T174500
LOCATION:
SUMMARY:15/16 E-Pokal: 1. FC Sonneberg 04 E - FSV 06 Eintr. Hildburghausen 
 E2
END:VEVENT
BEGIN:VEVENT
UID:20260422T184957CEST-9301nm1twf@85.13.129.106
DTSTAMP:20260422T164957Z
DESCRIPTION:
DTSTART;TZID=Europe/Berlin:20160413T180000
DTEND;TZID=Europe/Berlin:20160413T184500
LOCATION:
SUMMARY:15/16 E-Pokal: FSV 06 Eintr. Hildburghausen E - 1. FC Sonneberg 04 
 E
END:VEVENT
END:VCALENDAR
