BEGIN:VCALENDAR
VERSION:2.0
PRODID:-//85.13.129.106//NONSGML kigkonsult.se iCalcreator 2.10.23//
BEGIN:VEVENT
UID:20260422T124632CEST-4842oVWXa8@85.13.129.106
DTSTAMP:20260422T104632Z
DESCRIPTION:
DTSTART;TZID=Europe/Berlin:20140831T180000
DTEND;TZID=Europe/Berlin:20140831T184500
LOCATION:
SUMMARY:14/15 D2-Pokal: FSV 06 Eintr. Hildburghausen D - Freilos
END:VEVENT
BEGIN:VEVENT
UID:20260422T124632CEST-4846n9GDuD@85.13.129.106
DTSTAMP:20260422T104632Z
DESCRIPTION:
DTSTART;TZID=Europe/Berlin:20141001T173000
DTEND;TZID=Europe/Berlin:20141001T181500
LOCATION:
SUMMARY:14/15 D2-Pokal: SG 1951 Sonneberg D - FSV 06 Eintr. Hildburghausen 
 D
END:VEVENT
BEGIN:VEVENT
UID:20260422T124632CEST-4851S45jjv@85.13.129.106
DTSTAMP:20260422T104632Z
DESCRIPTION:
DTSTART;TZID=Europe/Berlin:20150322T103000
DTEND;TZID=Europe/Berlin:20150322T111500
LOCATION:
SUMMARY:14/15 D2-Pokal: FSV 06 Eintr. Hildburghausen D - SG Römhild D
END:VEVENT
BEGIN:VEVENT
UID:20260422T124632CEST-4855GPU7bi@85.13.129.106
DTSTAMP:20260422T104632Z
DESCRIPTION:
DTSTART;TZID=Europe/Berlin:20150415T180000
DTEND;TZID=Europe/Berlin:20150415T184500
LOCATION:
SUMMARY:14/15 D2-Pokal: FSV 06 Eintr. Hildburghausen D - SV Eintracht Oberl
 and D
END:VEVENT
BEGIN:VEVENT
UID:20260422T124632CEST-4859rsmvIO@85.13.129.106
DTSTAMP:20260422T104632Z
DESCRIPTION:
DTSTART;TZID=Europe/Berlin:20150523T143000
DTEND;TZID=Europe/Berlin:20150523T151500
LOCATION:
SUMMARY:14/15 D2-Pokal: SC 06 Oberlind D - FSV 06 Eintr. Hildburghausen D
END:VEVENT
END:VCALENDAR
