BEGIN:VCALENDAR
VERSION:2.0
PRODID:-//85.13.129.106//NONSGML kigkonsult.se iCalcreator 2.10.23//
BEGIN:VEVENT
UID:20260424T091745CEST-8489Wvwt6J@85.13.129.106
DTSTAMP:20260424T071745Z
DESCRIPTION:
DTSTART;TZID=Europe/Berlin:20140905T180000
DTEND;TZID=Europe/Berlin:20140905T184500
LOCATION:
SUMMARY:14/15 D2-Jun. KL: SV Falke Sachsenbrunn D - SG FSV Mengersgereuth-H
 ämmern D
END:VEVENT
BEGIN:VEVENT
UID:20260424T091745CEST-8493V9RBMe@85.13.129.106
DTSTAMP:20260424T071745Z
DESCRIPTION:
DTSTART;TZID=Europe/Berlin:20140910T180000
DTEND;TZID=Europe/Berlin:20140910T184500
LOCATION:
SUMMARY:14/15 D2-Jun. KL: SG FSV Mengersgereuth-Hämmern D - FC-BW Schalkau 
 D2
END:VEVENT
BEGIN:VEVENT
UID:20260424T091745CEST-8497uFzWVk@85.13.129.106
DTSTAMP:20260424T071745Z
DESCRIPTION:
DTSTART;TZID=Europe/Berlin:20140914T103000
DTEND;TZID=Europe/Berlin:20140914T111500
LOCATION:
SUMMARY:14/15 D2-Jun. KL: SG FSV Mengersgereuth-Hämmern D - SV 03 Eisfeld D
END:VEVENT
BEGIN:VEVENT
UID:20260424T091745CEST-8501kjoPp2@85.13.129.106
DTSTAMP:20260424T071745Z
DESCRIPTION:
DTSTART;TZID=Europe/Berlin:20140919T173000
DTEND;TZID=Europe/Berlin:20140919T181500
LOCATION:
SUMMARY:14/15 D2-Jun. KL: FSV 07 Lauscha D - SG FSV Mengersgereuth-Hämmern 
 D
END:VEVENT
BEGIN:VEVENT
UID:20260424T091745CEST-85055TDxEH@85.13.129.106
DTSTAMP:20260424T071745Z
DESCRIPTION:
DTSTART;TZID=Europe/Berlin:20140928T103000
DTEND;TZID=Europe/Berlin:20140928T111500
LOCATION:
SUMMARY:14/15 D2-Jun. KL: SG FSV Mengersgereuth-Hämmern D - 1. FC Köppelsdo
 rf D
END:VEVENT
END:VCALENDAR
