BEGIN:VCALENDAR
VERSION:2.0
PRODID:-//85.13.129.106//NONSGML kigkonsult.se iCalcreator 2.10.23//
BEGIN:VEVENT
UID:20260423T070539CEST-3798OJ633t@85.13.129.106
DTSTAMP:20260423T050539Z
DESCRIPTION:
DTSTART;TZID=Europe/Amsterdam:20131107T173000
DTEND;TZID=Europe/Amsterdam:20131107T191500
LOCATION:
SUMMARY:13/14 E-Jun. KOL: SG Waldau E - FC-BW Schalkau E
END:VEVENT
BEGIN:VEVENT
UID:20260423T070539CEST-3802MOtUOu@85.13.129.106
DTSTAMP:20260423T050539Z
DESCRIPTION:
DTSTART;TZID=Europe/Amsterdam:20140320T173000
DTEND;TZID=Europe/Amsterdam:20140320T191500
LOCATION:
SUMMARY:13/14 E-Jun. KOL: SG Waldau E - SG Römh./Mendhausen E
END:VEVENT
BEGIN:VEVENT
UID:20260423T070539CEST-380740ZBmp@85.13.129.106
DTSTAMP:20260423T050539Z
DESCRIPTION:
DTSTART;TZID=Europe/Amsterdam:20131117T103000
DTEND;TZID=Europe/Amsterdam:20131117T121500
LOCATION:
SUMMARY:13/14 E-Jun. KOL: SG Waldau E - SV EK Veilsdorf E
END:VEVENT
BEGIN:VEVENT
UID:20260423T070539CEST-3812PF2Uao@85.13.129.106
DTSTAMP:20260423T050539Z
DESCRIPTION:
DTSTART;TZID=Europe/Amsterdam:20140316T103000
DTEND;TZID=Europe/Amsterdam:20140316T121500
LOCATION:
SUMMARY:13/14 E-Jun. KOL: SV Iso. Neuhaus Schierschnitz E - SG Waldau E
END:VEVENT
BEGIN:VEVENT
UID:20260423T070539CEST-3816bzK2tZ@85.13.129.106
DTSTAMP:20260423T050539Z
DESCRIPTION:
DTSTART;TZID=Europe/Amsterdam:20140323T103000
DTEND;TZID=Europe/Amsterdam:20140323T121500
LOCATION:
SUMMARY:13/14 E-Jun. KOL: SG 1951 Sonneberg E - SG Waldau E
END:VEVENT
BEGIN:VEVENT
UID:20260423T070539CEST-3821iczVzm@85.13.129.106
DTSTAMP:20260423T050539Z
DESCRIPTION:
DTSTART;TZID=Europe/Amsterdam:20140329T130000
DTEND;TZID=Europe/Amsterdam:20140329T144500
LOCATION:
SUMMARY:13/14 E-Jun. KOL: SG Waldau E - SV Empor 90 Eishausen E
END:VEVENT
BEGIN:VEVENT
UID:20260423T070539CEST-3825XiPlZU@85.13.129.106
DTSTAMP:20260423T050539Z
DESCRIPTION:
DTSTART;TZID=Europe/Amsterdam:20140413T103000
DTEND;TZID=Europe/Amsterdam:20140413T121500
LOCATION:
SUMMARY:13/14 E-Jun. KOL: SG Waldau E - TSV Germ. Sonneberg West E
END:VEVENT
BEGIN:VEVENT
UID:20260423T070539CEST-3829G9i8UM@85.13.129.106
DTSTAMP:20260423T050539Z
DESCRIPTION:
DTSTART;TZID=Europe/Amsterdam:20140501T103000
DTEND;TZID=Europe/Amsterdam:20140501T121500
LOCATION:
SUMMARY:13/14 E-Jun. KOL: SG Steinach E2 - SG Waldau E
END:VEVENT
BEGIN:VEVENT
UID:20260423T070539CEST-383496hW8a@85.13.129.106
DTSTAMP:20260423T050539Z
DESCRIPTION:Schalkau
DTSTART;TZID=Europe/Amsterdam:20140504T143000
DTEND;TZID=Europe/Amsterdam:20140504T161500
LOCATION:Katzberger Straße 6\n96528 Schalkau\, 96528 Schalkau
SUMMARY:13/14 E-Jun. KOL: FC-BW Schalkau E - SG Waldau E
END:VEVENT
BEGIN:VEVENT
UID:20260423T070539CEST-3839GU9bgu@85.13.129.106
DTSTAMP:20260423T050539Z
DESCRIPTION:Schalkau
DTSTART;TZID=Europe/Amsterdam:20140511T103000
DTEND;TZID=Europe/Amsterdam:20140511T121500
LOCATION:Katzberger Straße 6\n96528 Schalkau\, 96528 Schalkau
SUMMARY:13/14 E-Jun. KOL: SG Römh./Mendhausen E - SG Waldau E
END:VEVENT
BEGIN:VEVENT
UID:20260423T070539CEST-3843z4rX4r@85.13.129.106
DTSTAMP:20260423T050539Z
DESCRIPTION:Schalkau
DTSTART;TZID=Europe/Amsterdam:20140514T180000
DTEND;TZID=Europe/Amsterdam:20140514T194500
LOCATION:Katzberger Straße 6\n96528 Schalkau\, 96528 Schalkau
SUMMARY:13/14 E-Jun. KOL: SV EK Veilsdorf E - SG Waldau E
END:VEVENT
BEGIN:VEVENT
UID:20260423T070539CEST-3847KjzpsG@85.13.129.106
DTSTAMP:20260423T050539Z
DESCRIPTION:Schalkau
DTSTART;TZID=Europe/Amsterdam:20140518T103000
DTEND;TZID=Europe/Amsterdam:20140518T121500
LOCATION:Katzberger Straße 6\n96528 Schalkau\, 96528 Schalkau
SUMMARY:13/14 E-Jun. KOL: SG Waldau E - SV Iso. Neuhaus Schierschnitz E
END:VEVENT
BEGIN:VEVENT
UID:20260423T070539CEST-3851VxuX0I@85.13.129.106
DTSTAMP:20260423T050539Z
DESCRIPTION:Schalkau
DTSTART;TZID=Europe/Amsterdam:20140524T143000
DTEND;TZID=Europe/Amsterdam:20140524T161500
LOCATION:Katzberger Straße 6\n96528 Schalkau\, 96528 Schalkau
SUMMARY:13/14 E-Jun. KOL: SG Waldau E - SG 1951 Sonneberg E
END:VEVENT
BEGIN:VEVENT
UID:20260423T070539CEST-3856jpG4Ee@85.13.129.106
DTSTAMP:20260423T050539Z
DESCRIPTION:Schalkau
DTSTART;TZID=Europe/Amsterdam:20140604T173000
DTEND;TZID=Europe/Amsterdam:20140604T191500
LOCATION:Katzberger Straße 6\n96528 Schalkau\, 96528 Schalkau
SUMMARY:13/14 E-Jun. KOL: SV Empor 90 Eishausen E - SG Waldau E
END:VEVENT
BEGIN:VEVENT
UID:20260423T070539CEST-3860MF0xlk@85.13.129.106
DTSTAMP:20260423T050539Z
DESCRIPTION:Schalkau
DTSTART;TZID=Europe/Amsterdam:20140622T103000
DTEND;TZID=Europe/Amsterdam:20140622T121500
LOCATION:Katzberger Straße 6\n96528 Schalkau\, 96528 Schalkau
SUMMARY:13/14 E-Jun. KOL: TSV Germ. Sonneberg West E - SG Waldau E
END:VEVENT
BEGIN:VEVENT
UID:20260423T070539CEST-3864C27IoE@85.13.129.106
DTSTAMP:20260423T050539Z
DESCRIPTION:Schalkau
DTSTART;TZID=Europe/Amsterdam:20140629T103000
DTEND;TZID=Europe/Amsterdam:20140629T121500
LOCATION:Katzberger Straße 6\n96528 Schalkau\, 96528 Schalkau
SUMMARY:13/14 E-Jun. KOL: SG Waldau E - SG Steinach E2
END:VEVENT
END:VCALENDAR
