BEGIN:VCALENDAR
VERSION:2.0
PRODID:-//85.13.129.106//NONSGML kigkonsult.se iCalcreator 2.10.23//
BEGIN:VEVENT
UID:20260423T153559CEST-7559k6CNBZ@85.13.129.106
DTSTAMP:20260423T133559Z
DESCRIPTION:Schalkau
DTSTART;TZID=Europe/Berlin:20171021T110000
DTEND;TZID=Europe/Berlin:20171021T124500
LOCATION:Katzberger Straße 6\n96528 Schalkau\, 96528 Schalkau
SUMMARY:17/18 E1-Jun. KOL: SG Schalkau/Effelder E - TSV 1911 Themar E
END:VEVENT
BEGIN:VEVENT
UID:20260423T153559CEST-7564Rpo8wn@85.13.129.106
DTSTAMP:20260423T133559Z
DESCRIPTION:Schalkau
DTSTART;TZID=Europe/Berlin:20171031T103000
DTEND;TZID=Europe/Berlin:20171031T121500
LOCATION:Katzberger Straße 6\n96528 Schalkau\, 96528 Schalkau
SUMMARY:17/18 E1-Jun. KOL: TSV 1911 Themar E - SV Empor 90 Eishausen E
END:VEVENT
BEGIN:VEVENT
UID:20260423T153559CEST-7568a5f2Ke@85.13.129.106
DTSTAMP:20260423T133559Z
DESCRIPTION:Schalkau
DTSTART;TZID=Europe/Berlin:20171104T103000
DTEND;TZID=Europe/Berlin:20171104T121500
LOCATION:Katzberger Straße 6\n96528 Schalkau\, 96528 Schalkau
SUMMARY:17/18 E1-Jun. KOL: SV Eintracht Heldburg E - TSV 1911 Themar E
END:VEVENT
BEGIN:VEVENT
UID:20260423T153559CEST-7572BfKz6e@85.13.129.106
DTSTAMP:20260423T133559Z
DESCRIPTION:Schalkau
DTSTART;TZID=Europe/Berlin:20180325T093000
DTEND;TZID=Europe/Berlin:20180325T111500
LOCATION:Katzberger Straße 6\n96528 Schalkau\, 96528 Schalkau
SUMMARY:17/18 E1-Jun. KOL: TSV 1911 Themar E - FSV 06 Eintr. Hildburghausen
  E
END:VEVENT
BEGIN:VEVENT
UID:20260423T153559CEST-7577ifae0h@85.13.129.106
DTSTAMP:20260423T133559Z
DESCRIPTION:Schalkau
DTSTART;TZID=Europe/Berlin:20180408T103000
DTEND;TZID=Europe/Berlin:20180408T121500
LOCATION:Katzberger Straße 6\n96528 Schalkau\, 96528 Schalkau
SUMMARY:17/18 E1-Jun. KOL: 1. FC Sonneberg 04 E - TSV 1911 Themar E
END:VEVENT
BEGIN:VEVENT
UID:20260423T153559CEST-7581KEXADO@85.13.129.106
DTSTAMP:20260423T133559Z
DESCRIPTION:Schalkau
DTSTART;TZID=Europe/Berlin:20180415T103000
DTEND;TZID=Europe/Berlin:20180415T121500
LOCATION:Katzberger Straße 6\n96528 Schalkau\, 96528 Schalkau
SUMMARY:17/18 E1-Jun. KOL: SG Lauscha/Neuhaus E - TSV 1911 Themar E
END:VEVENT
BEGIN:VEVENT
UID:20260423T153559CEST-7585CullzV@85.13.129.106
DTSTAMP:20260423T133559Z
DESCRIPTION:Schalkau
DTSTART;TZID=Europe/Berlin:20180421T103000
DTEND;TZID=Europe/Berlin:20180421T121500
LOCATION:Katzberger Straße 6\n96528 Schalkau\, 96528 Schalkau
SUMMARY:17/18 E1-Jun. KOL: TSV 1911 Themar E - SV 03 Eisfeld E
END:VEVENT
BEGIN:VEVENT
UID:20260423T153559CEST-7590vnwLjN@85.13.129.106
DTSTAMP:20260423T133559Z
DESCRIPTION:Schalkau
DTSTART;TZID=Europe/Berlin:20180428T103000
DTEND;TZID=Europe/Berlin:20180428T121500
LOCATION:Katzberger Straße 6\n96528 Schalkau\, 96528 Schalkau
SUMMARY:17/18 E1-Jun. KOL: TSV 1911 Themar E - SG Schalkau/Effelder E
END:VEVENT
BEGIN:VEVENT
UID:20260423T153559CEST-7594OgJe74@85.13.129.106
DTSTAMP:20260423T133559Z
DESCRIPTION:Schalkau
DTSTART;TZID=Europe/Berlin:20180504T173000
DTEND;TZID=Europe/Berlin:20180504T191500
LOCATION:Katzberger Straße 6\n96528 Schalkau\, 96528 Schalkau
SUMMARY:17/18 E1-Jun. KOL: SV Empor 90 Eishausen E - TSV 1911 Themar E
END:VEVENT
BEGIN:VEVENT
UID:20260423T153559CEST-7598takhWD@85.13.129.106
DTSTAMP:20260423T133559Z
DESCRIPTION:Schalkau
DTSTART;TZID=Europe/Berlin:20180509T180000
DTEND;TZID=Europe/Berlin:20180509T194500
LOCATION:Katzberger Straße 6\n96528 Schalkau\, 96528 Schalkau
SUMMARY:17/18 E1-Jun. KOL: TSV 1911 Themar E - SV Eintracht Heldburg E
END:VEVENT
BEGIN:VEVENT
UID:20260423T153559CEST-7602lCIigw@85.13.129.106
DTSTAMP:20260423T133559Z
DESCRIPTION:Schalkau
DTSTART;TZID=Europe/Berlin:20180512T103000
DTEND;TZID=Europe/Berlin:20180512T121500
LOCATION:Katzberger Straße 6\n96528 Schalkau\, 96528 Schalkau
SUMMARY:17/18 E1-Jun. KOL: FSV 06 Eintr. Hildburghausen E - TSV 1911 Themar
  E
END:VEVENT
BEGIN:VEVENT
UID:20260423T153559CEST-7607RI4zf4@85.13.129.106
DTSTAMP:20260423T133559Z
DESCRIPTION:Schalkau
DTSTART;TZID=Europe/Berlin:20180527T103000
DTEND;TZID=Europe/Berlin:20180527T121500
LOCATION:Katzberger Straße 6\n96528 Schalkau\, 96528 Schalkau
SUMMARY:17/18 E1-Jun. KOL: TSV 1911 Themar E - 1. FC Sonneberg 04 E
END:VEVENT
BEGIN:VEVENT
UID:20260423T153559CEST-7611SZfLF7@85.13.129.106
DTSTAMP:20260423T133559Z
DESCRIPTION:Schalkau
DTSTART;TZID=Europe/Berlin:20180609T103000
DTEND;TZID=Europe/Berlin:20180609T121500
LOCATION:Katzberger Straße 6\n96528 Schalkau\, 96528 Schalkau
SUMMARY:17/18 E1-Jun. KOL: TSV 1911 Themar E - SG Lauscha/Neuhaus E
END:VEVENT
BEGIN:VEVENT
UID:20260423T153559CEST-76158b3VoS@85.13.129.106
DTSTAMP:20260423T133559Z
DESCRIPTION:Schalkau
DTSTART;TZID=Europe/Berlin:20180616T103000
DTEND;TZID=Europe/Berlin:20180616T121500
LOCATION:Katzberger Straße 6\n96528 Schalkau\, 96528 Schalkau
SUMMARY:17/18 E1-Jun. KOL: SV 03 Eisfeld E - TSV 1911 Themar E
END:VEVENT
END:VCALENDAR
