BEGIN:VCALENDAR
VERSION:2.0
PRODID:-//85.13.129.106//NONSGML kigkonsult.se iCalcreator 2.10.23//
BEGIN:VEVENT
UID:20260423T121939CEST-2157srk1RM@85.13.129.106
DTSTAMP:20260423T101939Z
DESCRIPTION:
DTSTART;TZID=Europe/Berlin:20161025T173000
DTEND;TZID=Europe/Berlin:20161025T191500
LOCATION:
SUMMARY:16/17 E-Jun. KOL: SV Falke Sachsenbrunn E - SV Eintracht Oberland E
END:VEVENT
BEGIN:VEVENT
UID:20260423T121939CEST-2163cLsxvS@85.13.129.106
DTSTAMP:20260423T101939Z
DESCRIPTION:
DTSTART;TZID=Europe/Berlin:20170305T103000
DTEND;TZID=Europe/Berlin:20170305T121500
LOCATION:
SUMMARY:16/17 E-Jun. KOL: SV 08 Steinach E - SV Eintracht Oberland E
END:VEVENT
BEGIN:VEVENT
UID:20260423T121939CEST-2168r3TDUV@85.13.129.106
DTSTAMP:20260423T101939Z
DESCRIPTION:
DTSTART;TZID=Europe/Berlin:20161031T103000
DTEND;TZID=Europe/Berlin:20161031T121500
LOCATION:
SUMMARY:16/17 E-Jun. KOL: SC 07 Schleusingen E - SV Eintracht Oberland E
END:VEVENT
BEGIN:VEVENT
UID:20260423T121939CEST-2172VwT5Mt@85.13.129.106
DTSTAMP:20260423T101939Z
DESCRIPTION:
DTSTART;TZID=Europe/Berlin:20161104T163000
DTEND;TZID=Europe/Berlin:20161104T181500
LOCATION:
SUMMARY:16/17 E-Jun. KOL: SV Eintracht Oberland E - SG Schalkau/Effelder E
END:VEVENT
BEGIN:VEVENT
UID:20260423T121939CEST-2177JZkAuJ@85.13.129.106
DTSTAMP:20260423T101939Z
DESCRIPTION:
DTSTART;TZID=Europe/Berlin:20170325T103000
DTEND;TZID=Europe/Berlin:20170325T121500
LOCATION:
SUMMARY:16/17 E-Jun. KOL: 1. FC Sonneberg 04 E - SV Eintracht Oberland E
END:VEVENT
BEGIN:VEVENT
UID:20260423T121939CEST-2181ul62cR@85.13.129.106
DTSTAMP:20260423T101939Z
DESCRIPTION:
DTSTART;TZID=Europe/Berlin:20170401T103000
DTEND;TZID=Europe/Berlin:20170401T121500
LOCATION:
SUMMARY:16/17 E-Jun. KOL: SV Eintracht Oberland E - FSV 06 Eintr. Hildburgh
 ausen E
END:VEVENT
BEGIN:VEVENT
UID:20260423T121939CEST-2186VAAxvX@85.13.129.106
DTSTAMP:20260423T101939Z
DESCRIPTION:
DTSTART;TZID=Europe/Berlin:20170422T143000
DTEND;TZID=Europe/Berlin:20170422T161500
LOCATION:
SUMMARY:16/17 E-Jun. KOL: SV Empor 90 Eishausen E - SV Eintracht Oberland E
END:VEVENT
BEGIN:VEVENT
UID:20260423T121939CEST-2190WEFU73@85.13.129.106
DTSTAMP:20260423T101939Z
DESCRIPTION:
DTSTART;TZID=Europe/Berlin:20170428T173000
DTEND;TZID=Europe/Berlin:20170428T191500
LOCATION:
SUMMARY:16/17 E-Jun. KOL: SV Eintracht Oberland E - SV Falke Sachsenbrunn E
END:VEVENT
BEGIN:VEVENT
UID:20260423T121939CEST-2195DdvUUB@85.13.129.106
DTSTAMP:20260423T101939Z
DESCRIPTION:
DTSTART;TZID=Europe/Berlin:20170506T103000
DTEND;TZID=Europe/Berlin:20170506T121500
LOCATION:
SUMMARY:16/17 E-Jun. KOL: SV Eintracht Oberland E - SV 08 Steinach E
END:VEVENT
BEGIN:VEVENT
UID:20260423T121939CEST-2200xM8Cxz@85.13.129.106
DTSTAMP:20260423T101939Z
DESCRIPTION:
DTSTART;TZID=Europe/Berlin:20170510T180000
DTEND;TZID=Europe/Berlin:20170510T194500
LOCATION:
SUMMARY:16/17 E-Jun. KOL: SV Eintracht Oberland E - SC 07 Schleusingen E
END:VEVENT
BEGIN:VEVENT
UID:20260423T121939CEST-2205DeDUEU@85.13.129.106
DTSTAMP:20260423T101939Z
DESCRIPTION:Schalkau
DTSTART;TZID=Europe/Berlin:20170513T103000
DTEND;TZID=Europe/Berlin:20170513T121500
LOCATION:Katzberger Straße 6\n96528 Schalkau\, 96528 Schalkau
SUMMARY:16/17 E-Jun. KOL: SG Schalkau/Effelder E - SV Eintracht Oberland E
END:VEVENT
BEGIN:VEVENT
UID:20260423T121939CEST-2209na5szU@85.13.129.106
DTSTAMP:20260423T101939Z
DESCRIPTION:Schalkau
DTSTART;TZID=Europe/Berlin:20170521T103000
DTEND;TZID=Europe/Berlin:20170521T121500
LOCATION:Katzberger Straße 6\n96528 Schalkau\, 96528 Schalkau
SUMMARY:16/17 E-Jun. KOL: SV Eintracht Oberland E - 1. FC Sonneberg 04 E
END:VEVENT
BEGIN:VEVENT
UID:20260423T121939CEST-2213ocLon1@85.13.129.106
DTSTAMP:20260423T101939Z
DESCRIPTION:Schalkau
DTSTART;TZID=Europe/Berlin:20170528T103000
DTEND;TZID=Europe/Berlin:20170528T121500
LOCATION:Katzberger Straße 6\n96528 Schalkau\, 96528 Schalkau
SUMMARY:16/17 E-Jun. KOL: FSV 06 Eintr. Hildburghausen E - SV Eintracht Obe
 rland E
END:VEVENT
BEGIN:VEVENT
UID:20260423T121939CEST-22202RHuwO@85.13.129.106
DTSTAMP:20260423T101939Z
DESCRIPTION:Schalkau
DTSTART;TZID=Europe/Berlin:20170610T103000
DTEND;TZID=Europe/Berlin:20170610T121500
LOCATION:Katzberger Straße 6\n96528 Schalkau\, 96528 Schalkau
SUMMARY:16/17 E-Jun. KOL: SV Eintracht Oberland E - SV Empor 90 Eishausen E
END:VEVENT
END:VCALENDAR
