BEGIN:VCALENDAR
VERSION:2.0
PRODID:-//85.13.129.106//NONSGML kigkonsult.se iCalcreator 2.10.23//
BEGIN:VEVENT
UID:20260422T145522CEST-320133ovdT@85.13.129.106
DTSTAMP:20260422T125522Z
DESCRIPTION:Schalkau
DTSTART;TZID=Europe/Berlin:20170516T180000
DTEND;TZID=Europe/Berlin:20170516T194500
LOCATION:Katzberger Straße 6\n96528 Schalkau\, 96528 Schalkau
SUMMARY:16/17 E-Jun. KOL: SG Schalkau/Effelder E - SV Empor 90 Eishausen E
END:VEVENT
BEGIN:VEVENT
UID:20260422T145522CEST-3206AaBuXW@85.13.129.106
DTSTAMP:20260422T125522Z
DESCRIPTION:Schalkau
DTSTART;TZID=Europe/Berlin:20161029T103000
DTEND;TZID=Europe/Berlin:20161029T121500
LOCATION:Katzberger Straße 6\n96528 Schalkau\, 96528 Schalkau
SUMMARY:16/17 E-Jun. KOL: SV Empor 90 Eishausen E - 1. FC Sonneberg 04 E
END:VEVENT
BEGIN:VEVENT
UID:20260422T145522CEST-3210eTaaaX@85.13.129.106
DTSTAMP:20260422T125522Z
DESCRIPTION:Schalkau
DTSTART;TZID=Europe/Berlin:20161031T103000
DTEND;TZID=Europe/Berlin:20161031T121500
LOCATION:Katzberger Straße 6\n96528 Schalkau\, 96528 Schalkau
SUMMARY:16/17 E-Jun. KOL: FSV 06 Eintr. Hildburghausen E - SV Empor 90 Eish
 ausen E
END:VEVENT
BEGIN:VEVENT
UID:20260422T145522CEST-3215IiIoXs@85.13.129.106
DTSTAMP:20260422T125522Z
DESCRIPTION:Schalkau
DTSTART;TZID=Europe/Berlin:20161106T103000
DTEND;TZID=Europe/Berlin:20161106T121500
LOCATION:Katzberger Straße 6\n96528 Schalkau\, 96528 Schalkau
SUMMARY:16/17 E-Jun. KOL: SV Empor 90 Eishausen E - SC 07 Schleusingen E
END:VEVENT
BEGIN:VEVENT
UID:20260422T145522CEST-3219GV1tNA@85.13.129.106
DTSTAMP:20260422T125522Z
DESCRIPTION:Schalkau
DTSTART;TZID=Europe/Berlin:20170325T103000
DTEND;TZID=Europe/Berlin:20170325T121500
LOCATION:Katzberger Straße 6\n96528 Schalkau\, 96528 Schalkau
SUMMARY:16/17 E-Jun. KOL: SV Empor 90 Eishausen E - SV Falke Sachsenbrunn E
END:VEVENT
BEGIN:VEVENT
UID:20260422T145522CEST-3224Cb30cN@85.13.129.106
DTSTAMP:20260422T125522Z
DESCRIPTION:Schalkau
DTSTART;TZID=Europe/Berlin:20170401T143000
DTEND;TZID=Europe/Berlin:20170401T161500
LOCATION:Katzberger Straße 6\n96528 Schalkau\, 96528 Schalkau
SUMMARY:16/17 E-Jun. KOL: SV 08 Steinach E - SV Empor 90 Eishausen E
END:VEVENT
BEGIN:VEVENT
UID:20260422T145522CEST-3228U77R1L@85.13.129.106
DTSTAMP:20260422T125522Z
DESCRIPTION:Schalkau
DTSTART;TZID=Europe/Berlin:20170422T143000
DTEND;TZID=Europe/Berlin:20170422T161500
LOCATION:Katzberger Straße 6\n96528 Schalkau\, 96528 Schalkau
SUMMARY:16/17 E-Jun. KOL: SV Empor 90 Eishausen E - SV Eintracht Oberland E
END:VEVENT
BEGIN:VEVENT
UID:20260422T145522CEST-3233XwHCLi@85.13.129.106
DTSTAMP:20260422T125522Z
DESCRIPTION:Schalkau
DTSTART;TZID=Europe/Berlin:20170429T103000
DTEND;TZID=Europe/Berlin:20170429T121500
LOCATION:Katzberger Straße 6\n96528 Schalkau\, 96528 Schalkau
SUMMARY:16/17 E-Jun. KOL: SV Empor 90 Eishausen E - SG Schalkau/Effelder E
END:VEVENT
BEGIN:VEVENT
UID:20260422T145522CEST-3237ap1gRc@85.13.129.106
DTSTAMP:20260422T125522Z
DESCRIPTION:Schalkau
DTSTART;TZID=Europe/Berlin:20170506T103000
DTEND;TZID=Europe/Berlin:20170506T121500
LOCATION:Katzberger Straße 6\n96528 Schalkau\, 96528 Schalkau
SUMMARY:16/17 E-Jun. KOL: 1. FC Sonneberg 04 E - SV Empor 90 Eishausen E
END:VEVENT
BEGIN:VEVENT
UID:20260422T145522CEST-32428ivusd@85.13.129.106
DTSTAMP:20260422T125522Z
DESCRIPTION:Schalkau
DTSTART;TZID=Europe/Berlin:20170510T180000
DTEND;TZID=Europe/Berlin:20170510T194500
LOCATION:Katzberger Straße 6\n96528 Schalkau\, 96528 Schalkau
SUMMARY:16/17 E-Jun. KOL: SV Empor 90 Eishausen E - FSV 06 Eintr. Hildburgh
 ausen E
END:VEVENT
BEGIN:VEVENT
UID:20260422T145522CEST-3246L08Oio@85.13.129.106
DTSTAMP:20260422T125522Z
DESCRIPTION:Schalkau
DTSTART;TZID=Europe/Berlin:20170513T103000
DTEND;TZID=Europe/Berlin:20170513T121500
LOCATION:Katzberger Straße 6\n96528 Schalkau\, 96528 Schalkau
SUMMARY:16/17 E-Jun. KOL: SC 07 Schleusingen E - SV Empor 90 Eishausen E
END:VEVENT
BEGIN:VEVENT
UID:20260422T145522CEST-3250z5TWET@85.13.129.106
DTSTAMP:20260422T125522Z
DESCRIPTION:Schalkau
DTSTART;TZID=Europe/Berlin:20170521T103000
DTEND;TZID=Europe/Berlin:20170521T121500
LOCATION:Katzberger Straße 6\n96528 Schalkau\, 96528 Schalkau
SUMMARY:16/17 E-Jun. KOL: SV Falke Sachsenbrunn E - SV Empor 90 Eishausen E
END:VEVENT
BEGIN:VEVENT
UID:20260422T145522CEST-3255xPtfwT@85.13.129.106
DTSTAMP:20260422T125522Z
DESCRIPTION:Schalkau
DTSTART;TZID=Europe/Berlin:20170527T103000
DTEND;TZID=Europe/Berlin:20170527T121500
LOCATION:Katzberger Straße 6\n96528 Schalkau\, 96528 Schalkau
SUMMARY:16/17 E-Jun. KOL: SV Empor 90 Eishausen E - SV 08 Steinach E
END:VEVENT
BEGIN:VEVENT
UID:20260422T145522CEST-3259HdpIxN@85.13.129.106
DTSTAMP:20260422T125522Z
DESCRIPTION:Schalkau
DTSTART;TZID=Europe/Berlin:20170610T103000
DTEND;TZID=Europe/Berlin:20170610T121500
LOCATION:Katzberger Straße 6\n96528 Schalkau\, 96528 Schalkau
SUMMARY:16/17 E-Jun. KOL: SV Eintracht Oberland E - SV Empor 90 Eishausen E
END:VEVENT
END:VCALENDAR
