BEGIN:VCALENDAR
VERSION:2.0
PRODID:-//85.13.129.106//NONSGML kigkonsult.se iCalcreator 2.10.23//
BEGIN:VEVENT
UID:20260422T204142CEST-2218ijCSPw@85.13.129.106
DTSTAMP:20260422T184142Z
DESCRIPTION:
DTSTART;TZID=Europe/Berlin:20160912T180000
DTEND;TZID=Europe/Berlin:20160912T184500
LOCATION:
SUMMARY:16/17 E-Jun. Kreispokal: Freilos - TSV 1911 Themar E
END:VEVENT
BEGIN:VEVENT
UID:20260422T204142CEST-2224M6rnv5@85.13.129.106
DTSTAMP:20260422T184142Z
DESCRIPTION:
DTSTART;TZID=Europe/Berlin:20161001T103000
DTEND;TZID=Europe/Berlin:20161001T111500
LOCATION:
SUMMARY:16/17 E-Jun. Kreispokal: SV Eintracht Heldburg E - TSV 1911 Themar 
 E
END:VEVENT
END:VCALENDAR
