BEGIN:VCALENDAR
VERSION:2.0
PRODID:-//85.13.129.106//NONSGML kigkonsult.se iCalcreator 2.10.23//
BEGIN:VEVENT
UID:20260421T162242CEST-6168ARWWmj@85.13.129.106
DTSTAMP:20260421T142242Z
DESCRIPTION:
DTSTART;TZID=Europe/Berlin:20161109T173000
DTEND;TZID=Europe/Berlin:20161109T191500
LOCATION:
SUMMARY:16/17 C-Jun. Kreispokal: SV 03 Eisfeld C - Erlauer SV Grün-Weiß C
END:VEVENT
BEGIN:VEVENT
UID:20260421T162242CEST-6172uULrUE@85.13.129.106
DTSTAMP:20260421T142242Z
DESCRIPTION:
DTSTART;TZID=Europe/Berlin:20170405T173000
DTEND;TZID=Europe/Berlin:20170405T191500
LOCATION:
SUMMARY:16/17 C-Jun. Kreispokal: SG Lauscha/Neuhaus C - SV 03 Eisfeld C
END:VEVENT
BEGIN:VEVENT
UID:20260421T162242CEST-6177St5U6D@85.13.129.106
DTSTAMP:20260421T142242Z
DESCRIPTION:
DTSTART;TZID=Europe/Berlin:20170510T180000
DTEND;TZID=Europe/Berlin:20170510T194500
LOCATION:
SUMMARY:16/17 C-Jun. Kreispokal: SG Römhild C2 - SV 03 Eisfeld C
END:VEVENT
END:VCALENDAR
