BEGIN:VCALENDAR
VERSION:2.0
PRODID:-//85.13.129.106//NONSGML kigkonsult.se iCalcreator 2.10.23//
BEGIN:VEVENT
UID:20260422T070211CEST-3029GkPGJC@85.13.129.106
DTSTAMP:20260422T050211Z
DESCRIPTION:
DTSTART;TZID=Europe/Berlin:20151025T103000
DTEND;TZID=Europe/Berlin:20151025T121500
LOCATION:
SUMMARY:15/16 E-Jun. 1.KKl: SG Mendhausen/Römhild E - SG Effelder/Schalkau 
 E
END:VEVENT
BEGIN:VEVENT
UID:20260422T070211CEST-3034e3JrfB@85.13.129.106
DTSTAMP:20260422T050211Z
DESCRIPTION:
DTSTART;TZID=Europe/Berlin:20151030T170000
DTEND;TZID=Europe/Berlin:20151030T184500
LOCATION:
SUMMARY:15/16 E-Jun. 1.KKl: SG Effelder/Schalkau E - SV Eintracht Oberland 
 E
END:VEVENT
BEGIN:VEVENT
UID:20260422T070211CEST-3038Ouvej7@85.13.129.106
DTSTAMP:20260422T050211Z
DESCRIPTION:
DTSTART;TZID=Europe/Berlin:20160410T103000
DTEND;TZID=Europe/Berlin:20160410T121500
LOCATION:
SUMMARY:15/16 E-Jun. 1.KKl: SV 03 Eisfeld E - SG Effelder/Schalkau E
END:VEVENT
BEGIN:VEVENT
UID:20260422T070211CEST-304261husH@85.13.129.106
DTSTAMP:20260422T050211Z
DESCRIPTION:
DTSTART;TZID=Europe/Berlin:20160420T180000
DTEND;TZID=Europe/Berlin:20160420T194500
LOCATION:
SUMMARY:15/16 E-Jun. 1.KKl: SG Effelder/Schalkau E - SV Iso. Neuhaus Schier
 schnitz E
END:VEVENT
BEGIN:VEVENT
UID:20260422T070211CEST-3047VVwaVz@85.13.129.106
DTSTAMP:20260422T050211Z
DESCRIPTION:
DTSTART;TZID=Europe/Berlin:20160422T160000
DTEND;TZID=Europe/Berlin:20160422T174500
LOCATION:
SUMMARY:15/16 E-Jun. 1.KKl: TSV Germ. Hellingen E - SG Effelder/Schalkau E
END:VEVENT
BEGIN:VEVENT
UID:20260422T070211CEST-3051hOEmV8@85.13.129.106
DTSTAMP:20260422T050211Z
DESCRIPTION:
DTSTART;TZID=Europe/Berlin:20160429T173000
DTEND;TZID=Europe/Berlin:20160429T191500
LOCATION:
SUMMARY:15/16 E-Jun. 1.KKl: SG Effelder/Schalkau E - SC 07 Schleusingen E2
END:VEVENT
BEGIN:VEVENT
UID:20260422T070211CEST-3055Tw0nrR@85.13.129.106
DTSTAMP:20260422T050211Z
DESCRIPTION:
DTSTART;TZID=Europe/Berlin:20160521T100000
DTEND;TZID=Europe/Berlin:20160521T114500
LOCATION:
SUMMARY:15/16 E-Jun. 1.KKl: SV Schleusegrund Schönbrunn E - SG Effelder/Sch
 alkau E
END:VEVENT
BEGIN:VEVENT
UID:20260422T070211CEST-3059WkfKrJ@85.13.129.106
DTSTAMP:20260422T050211Z
DESCRIPTION:
DTSTART;TZID=Europe/Berlin:20160529T103000
DTEND;TZID=Europe/Berlin:20160529T121500
LOCATION:
SUMMARY:15/16 E-Jun. 1.KKl: SG Effelder/Schalkau E - SV Iso. Neuhaus Schier
 schnitz E2
END:VEVENT
BEGIN:VEVENT
UID:20260422T070211CEST-30641lnMAr@85.13.129.106
DTSTAMP:20260422T050211Z
DESCRIPTION:
DTSTART;TZID=Europe/Berlin:20160513T170000
DTEND;TZID=Europe/Berlin:20160513T184500
LOCATION:
SUMMARY:15/16 E-Jun. 1.KKl: SV 07 Häselrieth E - SG Effelder/Schalkau E
END:VEVENT
END:VCALENDAR
