BEGIN:VCALENDAR
VERSION:2.0
PRODID:-//85.13.129.106//NONSGML kigkonsult.se iCalcreator 2.10.23//
BEGIN:VEVENT
UID:20260422T124626CEST-4981W7Ebt7@85.13.129.106
DTSTAMP:20260422T104626Z
DESCRIPTION:
DTSTART;TZID=Europe/Berlin:20151023T183000
DTEND;TZID=Europe/Berlin:20151023T201500
LOCATION:
SUMMARY:15/16 E-Jun. 1.KKl: SV Iso. Neuhaus Schierschnitz E - SV Schleusegr
 und Schönbrunn E
END:VEVENT
BEGIN:VEVENT
UID:20260422T124626CEST-4986U0udM7@85.13.129.106
DTSTAMP:20260422T104626Z
DESCRIPTION:
DTSTART;TZID=Europe/Berlin:20151030T170000
DTEND;TZID=Europe/Berlin:20151030T184500
LOCATION:
SUMMARY:15/16 E-Jun. 1.KKl: SV Iso. Neuhaus Schierschnitz E2 - SV Iso. Neuh
 aus Schierschnitz E
END:VEVENT
BEGIN:VEVENT
UID:20260422T124626CEST-4990kHVEfU@85.13.129.106
DTSTAMP:20260422T104626Z
DESCRIPTION:
DTSTART;TZID=Europe/Berlin:20160409T103000
DTEND;TZID=Europe/Berlin:20160409T121500
LOCATION:
SUMMARY:15/16 E-Jun. 1.KKl: SV Iso. Neuhaus Schierschnitz E - SV 07 Häselri
 eth E
END:VEVENT
BEGIN:VEVENT
UID:20260422T124626CEST-4995HKNaVK@85.13.129.106
DTSTAMP:20260422T104626Z
DESCRIPTION:
DTSTART;TZID=Europe/Berlin:20160420T180000
DTEND;TZID=Europe/Berlin:20160420T194500
LOCATION:
SUMMARY:15/16 E-Jun. 1.KKl: SG Effelder/Schalkau E - SV Iso. Neuhaus Schier
 schnitz E
END:VEVENT
BEGIN:VEVENT
UID:20260422T124626CEST-4999gtVe1M@85.13.129.106
DTSTAMP:20260422T104626Z
DESCRIPTION:
DTSTART;TZID=Europe/Berlin:20160513T173000
DTEND;TZID=Europe/Berlin:20160513T191500
LOCATION:
SUMMARY:15/16 E-Jun. 1.KKl: SV Iso. Neuhaus Schierschnitz E - SV Eintracht 
 Oberland E
END:VEVENT
BEGIN:VEVENT
UID:20260422T124626CEST-5003si4idF@85.13.129.106
DTSTAMP:20260422T104626Z
DESCRIPTION:
DTSTART;TZID=Europe/Berlin:20160508T093000
DTEND;TZID=Europe/Berlin:20160508T111500
LOCATION:
SUMMARY:15/16 E-Jun. 1.KKl: SV 03 Eisfeld E - SV Iso. Neuhaus Schierschnitz
  E
END:VEVENT
BEGIN:VEVENT
UID:20260422T124626CEST-5008csgaxl@85.13.129.106
DTSTAMP:20260422T104626Z
DESCRIPTION:
DTSTART;TZID=Europe/Berlin:20160521T103000
DTEND;TZID=Europe/Berlin:20160521T121500
LOCATION:
SUMMARY:15/16 E-Jun. 1.KKl: SG Mendhausen/Römhild E - SV Iso. Neuhaus Schie
 rschnitz E
END:VEVENT
BEGIN:VEVENT
UID:20260422T124626CEST-501212oBuU@85.13.129.106
DTSTAMP:20260422T104626Z
DESCRIPTION:
DTSTART;TZID=Europe/Berlin:20160528T173000
DTEND;TZID=Europe/Berlin:20160528T191500
LOCATION:
SUMMARY:15/16 E-Jun. 1.KKl: SV Iso. Neuhaus Schierschnitz E - TSV Germ. Hel
 lingen E
END:VEVENT
BEGIN:VEVENT
UID:20260422T124626CEST-5016ToVd5k@85.13.129.106
DTSTAMP:20260422T104626Z
DESCRIPTION:
DTSTART;TZID=Europe/Berlin:20160604T103000
DTEND;TZID=Europe/Berlin:20160604T121500
LOCATION:
SUMMARY:15/16 E-Jun. 1.KKl: SC 07 Schleusingen E2 - SV Iso. Neuhaus Schiers
 chnitz E
END:VEVENT
END:VCALENDAR
