BEGIN:VCALENDAR
VERSION:2.0
PRODID:-//85.13.129.106//NONSGML kigkonsult.se iCalcreator 2.10.23//
BEGIN:VEVENT
UID:20260421T230457CEST-51072nDCNs@85.13.129.106
DTSTAMP:20260421T210457Z
DESCRIPTION:
DTSTART;TZID=Europe/Berlin:20171021T103000
DTEND;TZID=Europe/Berlin:20171021T121500
LOCATION:
SUMMARY:17/18 E2-Jun. 1KK-Ost: TSV Germ. Sonneberg West E - 1. FC Sonneberg
  04 E2
END:VEVENT
BEGIN:VEVENT
UID:20260421T230457CEST-51122fKUGb@85.13.129.106
DTSTAMP:20260421T210457Z
DESCRIPTION:
DTSTART;TZID=Europe/Berlin:20171027T173000
DTEND;TZID=Europe/Berlin:20171027T191500
LOCATION:
SUMMARY:17/18 E2-Jun. 1KK-Ost: 1. FC Sonneberg 04 E2 - SG Meng.-Hämmern/Rau
 enstein E
END:VEVENT
BEGIN:VEVENT
UID:20260421T230457CEST-5116512usW@85.13.129.106
DTSTAMP:20260421T210457Z
DESCRIPTION:
DTSTART;TZID=Europe/Berlin:20171103T170000
DTEND;TZID=Europe/Berlin:20171103T184500
LOCATION:
SUMMARY:17/18 E2-Jun. 1KK-Ost: 1. FC Sonneberg 04 E2 - SV 03 Eisfeld E2
END:VEVENT
BEGIN:VEVENT
UID:20260421T230457CEST-5121bN5wAW@85.13.129.106
DTSTAMP:20260421T210457Z
DESCRIPTION:
DTSTART;TZID=Europe/Berlin:20180408T103000
DTEND;TZID=Europe/Berlin:20180408T121500
LOCATION:
SUMMARY:17/18 E2-Jun. 1KK-Ost: SV Iso. Neuhaus Schierschnitz E - 1. FC Sonn
 eberg 04 E2
END:VEVENT
BEGIN:VEVENT
UID:20260421T230457CEST-51251wMlrj@85.13.129.106
DTSTAMP:20260421T210457Z
DESCRIPTION:
DTSTART;TZID=Europe/Berlin:20180414T103000
DTEND;TZID=Europe/Berlin:20180414T121500
LOCATION:
SUMMARY:17/18 E2-Jun. 1KK-Ost: 1. FC Sonneberg 04 E2 - SG Schalkau/Effelder
  E2
END:VEVENT
BEGIN:VEVENT
UID:20260421T230457CEST-5130DEVIfg@85.13.129.106
DTSTAMP:20260421T210457Z
DESCRIPTION:
DTSTART;TZID=Europe/Berlin:20180420T173000
DTEND;TZID=Europe/Berlin:20180420T191500
LOCATION:
SUMMARY:17/18 E2-Jun. 1KK-Ost: 1. FC Sonneberg 04 E2 - TSV Germ. Sonneberg 
 West E
END:VEVENT
BEGIN:VEVENT
UID:20260421T230457CEST-5134NVHIjt@85.13.129.106
DTSTAMP:20260421T210457Z
DESCRIPTION:
DTSTART;TZID=Europe/Berlin:20180504T173000
DTEND;TZID=Europe/Berlin:20180504T191500
LOCATION:
SUMMARY:17/18 E2-Jun. 1KK-Ost: SG Meng.-Hämmern/Rauenstein E - 1. FC Sonneb
 erg 04 E2
END:VEVENT
BEGIN:VEVENT
UID:20260421T230457CEST-5139t2eXA5@85.13.129.106
DTSTAMP:20260421T210457Z
DESCRIPTION:
DTSTART;TZID=Europe/Berlin:20180511T170000
DTEND;TZID=Europe/Berlin:20180511T184500
LOCATION:
SUMMARY:17/18 E2-Jun. 1KK-Ost: SV 03 Eisfeld E2 - 1. FC Sonneberg 04 E2
END:VEVENT
BEGIN:VEVENT
UID:20260421T230457CEST-5143ivg4Hr@85.13.129.106
DTSTAMP:20260421T210457Z
DESCRIPTION:
DTSTART;TZID=Europe/Berlin:20180525T170000
DTEND;TZID=Europe/Berlin:20180525T184500
LOCATION:
SUMMARY:17/18 E2-Jun. 1KK-Ost: 1. FC Sonneberg 04 E2 - SV Iso. Neuhaus Schi
 erschnitz E
END:VEVENT
BEGIN:VEVENT
UID:20260421T230457CEST-5148UVjobX@85.13.129.106
DTSTAMP:20260421T210457Z
DESCRIPTION:Schalkau
DTSTART;TZID=Europe/Berlin:20180610T103000
DTEND;TZID=Europe/Berlin:20180610T121500
LOCATION:Katzberger Straße 6\n96528 Schalkau\, 96528 Schalkau
SUMMARY:17/18 E2-Jun. 1KK-Ost: SG Schalkau/Effelder E2 - 1. FC Sonneberg 04
  E2
END:VEVENT
END:VCALENDAR
