BEGIN:VCALENDAR
VERSION:2.0
PRODID:-//85.13.129.106//NONSGML kigkonsult.se iCalcreator 2.10.23//
BEGIN:VEVENT
UID:20260420T224559CEST-8880SVejhh@85.13.129.106
DTSTAMP:20260420T204559Z
DESCRIPTION:
DTSTART;TZID=Europe/Berlin:20160514T095000
DTEND;TZID=Europe/Berlin:20160514T101300
LOCATION:
SUMMARY:15/16 G-Jun. KL West: SC 07 Schleusingen G - TSV 1911 Themar G2
END:VEVENT
BEGIN:VEVENT
UID:20260420T224559CEST-8885oVBkbo@85.13.129.106
DTSTAMP:20260420T204559Z
DESCRIPTION:
DTSTART;TZID=Europe/Berlin:20160514T102000
DTEND;TZID=Europe/Berlin:20160514T104300
LOCATION:
SUMMARY:15/16 G-Jun. KL West: TSV 1911 Themar G2 - SV Nahetal Hinternah G
END:VEVENT
BEGIN:VEVENT
UID:20260420T224559CEST-8889rvJMIl@85.13.129.106
DTSTAMP:20260420T204559Z
DESCRIPTION:
DTSTART;TZID=Europe/Berlin:20160514T104000
DTEND;TZID=Europe/Berlin:20160514T110300
LOCATION:
SUMMARY:15/16 G-Jun. KL West: TSV 1911 Themar G2 - FC-BW Schalkau G
END:VEVENT
BEGIN:VEVENT
UID:20260420T224559CEST-88939AVaDk@85.13.129.106
DTSTAMP:20260420T204559Z
DESCRIPTION:
DTSTART;TZID=Europe/Berlin:20160514T110000
DTEND;TZID=Europe/Berlin:20160514T112300
LOCATION:
SUMMARY:15/16 G-Jun. KL West: TSV 1911 Themar G2 - TSV 1911 Themar G
END:VEVENT
BEGIN:VEVENT
UID:20260420T224559CEST-8897IfNWvW@85.13.129.106
DTSTAMP:20260420T204559Z
DESCRIPTION:
DTSTART;TZID=Europe/Berlin:20160508T093000
DTEND;TZID=Europe/Berlin:20160508T095300
LOCATION:
SUMMARY:15/16 G-Jun. KL West: TSV 1911 Themar G2 - TSV 1911 Themar G
END:VEVENT
BEGIN:VEVENT
UID:20260420T224559CEST-8902WPu2U5@85.13.129.106
DTSTAMP:20260420T204559Z
DESCRIPTION:
DTSTART;TZID=Europe/Berlin:20160508T095000
DTEND;TZID=Europe/Berlin:20160508T101300
LOCATION:
SUMMARY:15/16 G-Jun. KL West: SC 07 Schleusingen G - TSV 1911 Themar G2
END:VEVENT
BEGIN:VEVENT
UID:20260420T224559CEST-8906wVOBHi@85.13.129.106
DTSTAMP:20260420T204559Z
DESCRIPTION:
DTSTART;TZID=Europe/Berlin:20160508T102000
DTEND;TZID=Europe/Berlin:20160508T104300
LOCATION:
SUMMARY:15/16 G-Jun. KL West: TSV 1911 Themar G2 - SV Nahetal Hinternah G
END:VEVENT
BEGIN:VEVENT
UID:20260420T224559CEST-8910Vku72K@85.13.129.106
DTSTAMP:20260420T204559Z
DESCRIPTION:
DTSTART;TZID=Europe/Berlin:20160508T104000
DTEND;TZID=Europe/Berlin:20160508T110300
LOCATION:
SUMMARY:15/16 G-Jun. KL West: TSV 1911 Themar G2 - FC-BW Schalkau G
END:VEVENT
BEGIN:VEVENT
UID:20260420T224559CEST-89144C1hr1@85.13.129.106
DTSTAMP:20260420T204559Z
DESCRIPTION:
DTSTART;TZID=Europe/Berlin:20160529T093000
DTEND;TZID=Europe/Berlin:20160529T095300
LOCATION:
SUMMARY:15/16 G-Jun. KL West: TSV 1911 Themar G2 - TSV 1911 Themar G
END:VEVENT
BEGIN:VEVENT
UID:20260420T224559CEST-89195Ld0kR@85.13.129.106
DTSTAMP:20260420T204559Z
DESCRIPTION:
DTSTART;TZID=Europe/Berlin:20160529T095000
DTEND;TZID=Europe/Berlin:20160529T101300
LOCATION:
SUMMARY:15/16 G-Jun. KL West: SC 07 Schleusingen G - TSV 1911 Themar G2
END:VEVENT
BEGIN:VEVENT
UID:20260420T224559CEST-8923lX0JBJ@85.13.129.106
DTSTAMP:20260420T204559Z
DESCRIPTION:
DTSTART;TZID=Europe/Berlin:20160529T102000
DTEND;TZID=Europe/Berlin:20160529T104300
LOCATION:
SUMMARY:15/16 G-Jun. KL West: TSV 1911 Themar G2 - SV Nahetal Hinternah G
END:VEVENT
BEGIN:VEVENT
UID:20260420T224559CEST-89277SpUiS@85.13.129.106
DTSTAMP:20260420T204559Z
DESCRIPTION:
DTSTART;TZID=Europe/Berlin:20160529T104000
DTEND;TZID=Europe/Berlin:20160529T110300
LOCATION:
SUMMARY:15/16 G-Jun. KL West: TSV 1911 Themar G2 - FC-BW Schalkau G
END:VEVENT
END:VCALENDAR
