BEGIN:VCALENDAR
VERSION:2.0
PRODID:-//85.13.129.106//NONSGML kigkonsult.se iCalcreator 2.10.23//
BEGIN:VEVENT
UID:20260420T124007CEST-5796fWVmoC@85.13.129.106
DTSTAMP:20260420T104007Z
DESCRIPTION:
DTSTART;TZID=Europe/Berlin:20141031T103000
DTEND;TZID=Europe/Berlin:20141031T111500
LOCATION:
SUMMARY:14/15 D2-Jun. KOL: SV Eintracht Oberland D - Erlauer SV Grün-Weiß D
END:VEVENT
BEGIN:VEVENT
UID:20260420T124007CEST-5800hWAkRz@85.13.129.106
DTSTAMP:20260420T104007Z
DESCRIPTION:
DTSTART;TZID=Europe/Berlin:20141026T103000
DTEND;TZID=Europe/Berlin:20141026T111500
LOCATION:
SUMMARY:14/15 D2-Jun. KOL: SC 06 Oberlind D - Erlauer SV Grün-Weiß D
END:VEVENT
BEGIN:VEVENT
UID:20260420T124007CEST-5805sD9vwB@85.13.129.106
DTSTAMP:20260420T104007Z
DESCRIPTION:Schalkau
DTSTART;TZID=Europe/Berlin:20141102T091500
DTEND;TZID=Europe/Berlin:20141102T100000
LOCATION:Katzberger Straße 6\n96528 Schalkau\, 96528 Schalkau
SUMMARY:14/15 D2-Jun. KOL: FC-BW Schalkau D2 - Erlauer SV Grün-Weiß D
END:VEVENT
BEGIN:VEVENT
UID:20260420T124007CEST-5809j4WNtw@85.13.129.106
DTSTAMP:20260420T104007Z
DESCRIPTION:Schalkau
DTSTART;TZID=Europe/Berlin:20141108T103000
DTEND;TZID=Europe/Berlin:20141108T111500
LOCATION:Katzberger Straße 6\n96528 Schalkau\, 96528 Schalkau
SUMMARY:14/15 D2-Jun. KOL: Erlauer SV Grün-Weiß D - FSV 07 Lauscha D
END:VEVENT
BEGIN:VEVENT
UID:20260420T124007CEST-5813gEUsrL@85.13.129.106
DTSTAMP:20260420T104007Z
DESCRIPTION:Schalkau
DTSTART;TZID=Europe/Berlin:20150329T103000
DTEND;TZID=Europe/Berlin:20150329T111500
LOCATION:Katzberger Straße 6\n96528 Schalkau\, 96528 Schalkau
SUMMARY:14/15 D2-Jun. KOL: FSV 06 Eintr. Hildburghausen D - Erlauer SV Grün
 -Weiß D
END:VEVENT
BEGIN:VEVENT
UID:20260420T124007CEST-5817evHgVt@85.13.129.106
DTSTAMP:20260420T104007Z
DESCRIPTION:Schalkau
DTSTART;TZID=Europe/Berlin:20150418T103000
DTEND;TZID=Europe/Berlin:20150418T111500
LOCATION:Katzberger Straße 6\n96528 Schalkau\, 96528 Schalkau
SUMMARY:14/15 D2-Jun. KOL: SG Römhild D - Erlauer SV Grün-Weiß D
END:VEVENT
BEGIN:VEVENT
UID:20260420T124007CEST-5821nAvsPu@85.13.129.106
DTSTAMP:20260420T104007Z
DESCRIPTION:Schalkau
DTSTART;TZID=Europe/Berlin:20150426T103000
DTEND;TZID=Europe/Berlin:20150426T111500
LOCATION:Katzberger Straße 6\n96528 Schalkau\, 96528 Schalkau
SUMMARY:14/15 D2-Jun. KOL: Erlauer SV Grün-Weiß D - SG 1. FC Sonneberg 04 D
 2
END:VEVENT
BEGIN:VEVENT
UID:20260420T124007CEST-5826VrFntD@85.13.129.106
DTSTAMP:20260420T104007Z
DESCRIPTION:Schalkau
DTSTART;TZID=Europe/Berlin:20150513T173000
DTEND;TZID=Europe/Berlin:20150513T181500
LOCATION:Katzberger Straße 6\n96528 Schalkau\, 96528 Schalkau
SUMMARY:14/15 D2-Jun. KOL: Erlauer SV Grün-Weiß D - SV Eintracht Oberland D
END:VEVENT
BEGIN:VEVENT
UID:20260420T124007CEST-5830WiBuhw@85.13.129.106
DTSTAMP:20260420T104007Z
DESCRIPTION:Schalkau
DTSTART;TZID=Europe/Berlin:20150510T103000
DTEND;TZID=Europe/Berlin:20150510T111500
LOCATION:Katzberger Straße 6\n96528 Schalkau\, 96528 Schalkau
SUMMARY:14/15 D2-Jun. KOL: Erlauer SV Grün-Weiß D - SC 06 Oberlind D
END:VEVENT
BEGIN:VEVENT
UID:20260420T124007CEST-5834SuePiz@85.13.129.106
DTSTAMP:20260420T104007Z
DESCRIPTION:Schalkau
DTSTART;TZID=Europe/Berlin:20150517T103000
DTEND;TZID=Europe/Berlin:20150517T111500
LOCATION:Katzberger Straße 6\n96528 Schalkau\, 96528 Schalkau
SUMMARY:14/15 D2-Jun. KOL: Erlauer SV Grün-Weiß D - FC-BW Schalkau D2
END:VEVENT
BEGIN:VEVENT
UID:20260420T124007CEST-58381DbHOD@85.13.129.106
DTSTAMP:20260420T104007Z
DESCRIPTION:Schalkau
DTSTART;TZID=Europe/Berlin:20150530T103000
DTEND;TZID=Europe/Berlin:20150530T111500
LOCATION:Katzberger Straße 6\n96528 Schalkau\, 96528 Schalkau
SUMMARY:14/15 D2-Jun. KOL: FSV 07 Lauscha D - Erlauer SV Grün-Weiß D
END:VEVENT
BEGIN:VEVENT
UID:20260420T124007CEST-58426JGefU@85.13.129.106
DTSTAMP:20260420T104007Z
DESCRIPTION:Schalkau
DTSTART;TZID=Europe/Berlin:20150605T170000
DTEND;TZID=Europe/Berlin:20150605T174500
LOCATION:Katzberger Straße 6\n96528 Schalkau\, 96528 Schalkau
SUMMARY:14/15 D2-Jun. KOL: Erlauer SV Grün-Weiß D - FSV 06 Eintr. Hildburgh
 ausen D
END:VEVENT
BEGIN:VEVENT
UID:20260420T124007CEST-5847S4Wgul@85.13.129.106
DTSTAMP:20260420T104007Z
DESCRIPTION:Schalkau
DTSTART;TZID=Europe/Berlin:20150614T103000
DTEND;TZID=Europe/Berlin:20150614T111500
LOCATION:Katzberger Straße 6\n96528 Schalkau\, 96528 Schalkau
SUMMARY:14/15 D2-Jun. KOL: Erlauer SV Grün-Weiß D - SG Römhild D
END:VEVENT
BEGIN:VEVENT
UID:20260420T124007CEST-5851uE24VD@85.13.129.106
DTSTAMP:20260420T104007Z
DESCRIPTION:Schalkau
DTSTART;TZID=Europe/Berlin:20150619T180000
DTEND;TZID=Europe/Berlin:20150619T184500
LOCATION:Katzberger Straße 6\n96528 Schalkau\, 96528 Schalkau
SUMMARY:14/15 D2-Jun. KOL: SG 1. FC Sonneberg 04 D2 - Erlauer SV Grün-Weiß 
 D
END:VEVENT
END:VCALENDAR
