BEGIN:VCALENDAR
VERSION:2.0
PRODID:-//85.13.129.106//NONSGML kigkonsult.se iCalcreator 2.10.23//
BEGIN:VEVENT
UID:20260423T083940CEST-4614J7wVtu@85.13.129.106
DTSTAMP:20260423T063940Z
DESCRIPTION:
DTSTART;TZID=Europe/Berlin:20170819T103000
DTEND;TZID=Europe/Berlin:20170819T121500
LOCATION:
SUMMARY:17/18 C-Jun. KOL: SG Meng.-Hämmern/Köpp./Rauenst. C - SG Goßmannsro
 d/Oberland C
END:VEVENT
BEGIN:VEVENT
UID:20260423T083940CEST-4619WN5PkK@85.13.129.106
DTSTAMP:20260423T063940Z
DESCRIPTION:
DTSTART;TZID=Europe/Berlin:20170908T183000
DTEND;TZID=Europe/Berlin:20170908T201500
LOCATION:
SUMMARY:17/18 C-Jun. KOL: SV EK Veilsdorf C - SG Meng.-Hämmern/Köpp./Rauens
 t. C
END:VEVENT
BEGIN:VEVENT
UID:20260423T083940CEST-4623AfNv76@85.13.129.106
DTSTAMP:20260423T063940Z
DESCRIPTION:
DTSTART;TZID=Europe/Berlin:20170903T110000
DTEND;TZID=Europe/Berlin:20170903T124500
LOCATION:
SUMMARY:17/18 C-Jun. KOL: SG Meng.-Hämmern/Köpp./Rauenst. C - SG Römhild C
END:VEVENT
BEGIN:VEVENT
UID:20260423T083940CEST-4628huPwgU@85.13.129.106
DTSTAMP:20260423T063940Z
DESCRIPTION:Schalkau
DTSTART;TZID=Europe/Berlin:20170910T103000
DTEND;TZID=Europe/Berlin:20170910T121500
LOCATION:Katzberger Straße 6\n96528 Schalkau\, 96528 Schalkau
SUMMARY:17/18 C-Jun. KOL: FC-BW Schalkau C - SG Meng.-Hämmern/Köpp./Rauenst
 . C
END:VEVENT
BEGIN:VEVENT
UID:20260423T083940CEST-4632mvWid8@85.13.129.106
DTSTAMP:20260423T063940Z
DESCRIPTION:Schalkau
DTSTART;TZID=Europe/Berlin:20170916T103000
DTEND;TZID=Europe/Berlin:20170916T121500
LOCATION:Katzberger Straße 6\n96528 Schalkau\, 96528 Schalkau
SUMMARY:17/18 C-Jun. KOL: FSV 06 Eintr. Hildburghausen C - SG Meng.-Hämmern
 /Köpp./Rauenst. C
END:VEVENT
BEGIN:VEVENT
UID:20260423T083940CEST-4636x9CzrO@85.13.129.106
DTSTAMP:20260423T063940Z
DESCRIPTION:Schalkau
DTSTART;TZID=Europe/Berlin:20170922T180000
DTEND;TZID=Europe/Berlin:20170922T194500
LOCATION:Katzberger Straße 6\n96528 Schalkau\, 96528 Schalkau
SUMMARY:17/18 C-Jun. KOL: SG Meng.-Hämmern/Köpp./Rauenst. C - SG SV 08 Stei
 nach/FC Sonneberg C
END:VEVENT
BEGIN:VEVENT
UID:20260423T083940CEST-46410xznpX@85.13.129.106
DTSTAMP:20260423T063940Z
DESCRIPTION:Schalkau
DTSTART;TZID=Europe/Berlin:20171028T110000
DTEND;TZID=Europe/Berlin:20171028T124500
LOCATION:Katzberger Straße 6\n96528 Schalkau\, 96528 Schalkau
SUMMARY:17/18 C-Jun. KOL: SG Meng.-Hämmern/Köpp./Rauenst. C - SV Iso. Neuha
 us Schierschnitz C
END:VEVENT
BEGIN:VEVENT
UID:20260423T083940CEST-4645jx5UM5@85.13.129.106
DTSTAMP:20260423T063940Z
DESCRIPTION:Schalkau
DTSTART;TZID=Europe/Berlin:20171105T110000
DTEND;TZID=Europe/Berlin:20171105T124500
LOCATION:Katzberger Straße 6\n96528 Schalkau\, 96528 Schalkau
SUMMARY:17/18 C-Jun. KOL: SG Lauscha/Neuhaus C - SG Meng.-Hämmern/Köpp./Rau
 enst. C
END:VEVENT
BEGIN:VEVENT
UID:20260423T083940CEST-465039xRU9@85.13.129.106
DTSTAMP:20260423T063940Z
DESCRIPTION:Schalkau
DTSTART;TZID=Europe/Berlin:20180525T183000
DTEND;TZID=Europe/Berlin:20180525T201500
LOCATION:Katzberger Straße 6\n96528 Schalkau\, 96528 Schalkau
SUMMARY:17/18 C-Jun. KOL: SG Goßmannsrod/Oberland C - SG Meng.-Hämmern/Köpp
 ./Rauenst. C
END:VEVENT
BEGIN:VEVENT
UID:20260423T083940CEST-46545FPHZa@85.13.129.106
DTSTAMP:20260423T063940Z
DESCRIPTION:Schalkau
DTSTART;TZID=Europe/Berlin:20180408T103000
DTEND;TZID=Europe/Berlin:20180408T121500
LOCATION:Katzberger Straße 6\n96528 Schalkau\, 96528 Schalkau
SUMMARY:17/18 C-Jun. KOL: SG Meng.-Hämmern/Köpp./Rauenst. C - SV EK Veilsdo
 rf C
END:VEVENT
BEGIN:VEVENT
UID:20260423T083940CEST-4659kISrD8@85.13.129.106
DTSTAMP:20260423T063940Z
DESCRIPTION:Schalkau
DTSTART;TZID=Europe/Berlin:20180414T110000
DTEND;TZID=Europe/Berlin:20180414T124500
LOCATION:Katzberger Straße 6\n96528 Schalkau\, 96528 Schalkau
SUMMARY:17/18 C-Jun. KOL: SG Römhild C - SG Meng.-Hämmern/Köpp./Rauenst. C
END:VEVENT
BEGIN:VEVENT
UID:20260423T083940CEST-466360BRpp@85.13.129.106
DTSTAMP:20260423T063940Z
DESCRIPTION:Schalkau
DTSTART;TZID=Europe/Berlin:20180427T180000
DTEND;TZID=Europe/Berlin:20180427T194500
LOCATION:Katzberger Straße 6\n96528 Schalkau\, 96528 Schalkau
SUMMARY:17/18 C-Jun. KOL: SG Meng.-Hämmern/Köpp./Rauenst. C - FSV 06 Eintr.
  Hildburghausen C
END:VEVENT
BEGIN:VEVENT
UID:20260423T083940CEST-4667hhd8bw@85.13.129.106
DTSTAMP:20260423T063940Z
DESCRIPTION:Schalkau
DTSTART;TZID=Europe/Berlin:20180504T183000
DTEND;TZID=Europe/Berlin:20180504T201500
LOCATION:Katzberger Straße 6\n96528 Schalkau\, 96528 Schalkau
SUMMARY:17/18 C-Jun. KOL: SG SV 08 Steinach/FC Sonneberg C - SG Meng.-Hämme
 rn/Köpp./Rauenst. C
END:VEVENT
BEGIN:VEVENT
UID:20260423T083940CEST-4672UoeE85@85.13.129.106
DTSTAMP:20260423T063940Z
DESCRIPTION:Schalkau
DTSTART;TZID=Europe/Berlin:20180529T183000
DTEND;TZID=Europe/Berlin:20180529T201500
LOCATION:Katzberger Straße 6\n96528 Schalkau\, 96528 Schalkau
SUMMARY:17/18 C-Jun. KOL: SV Iso. Neuhaus Schierschnitz C - SG Meng.-Hämmer
 n/Köpp./Rauenst. C
END:VEVENT
BEGIN:VEVENT
UID:20260423T083940CEST-4676URwMUA@85.13.129.106
DTSTAMP:20260423T063940Z
DESCRIPTION:Schalkau
DTSTART;TZID=Europe/Berlin:20180603T103000
DTEND;TZID=Europe/Berlin:20180603T121500
LOCATION:Katzberger Straße 6\n96528 Schalkau\, 96528 Schalkau
SUMMARY:17/18 C-Jun. KOL: SG Meng.-Hämmern/Köpp./Rauenst. C - SG Lauscha/Ne
 uhaus C
END:VEVENT
END:VCALENDAR
