BEGIN:VCALENDAR
VERSION:2.0
PRODID:-//85.13.129.106//NONSGML kigkonsult.se iCalcreator 2.10.23//
BEGIN:VEVENT
UID:20260421T130714CEST-52279evSa5@85.13.129.106
DTSTAMP:20260421T110714Z
DESCRIPTION:
DTSTART;TZID=Europe/Berlin:20170430T093000
DTEND;TZID=Europe/Berlin:20170430T111500
LOCATION:
SUMMARY:16/17 F2-Jun. KL-Runde 2: SG Lauscha/Neuhaus F - SG Effelder/Schalk
 au F2
END:VEVENT
BEGIN:VEVENT
UID:20260421T130714CEST-5232EaZAdm@85.13.129.106
DTSTAMP:20260421T110714Z
DESCRIPTION:
DTSTART;TZID=Europe/Berlin:20170430T110000
DTEND;TZID=Europe/Berlin:20170430T124500
LOCATION:
SUMMARY:16/17 F2-Jun. KL-Runde 2: 1. FC Sonneberg 04 F2 - SG Effelder/Schal
 kau F2
END:VEVENT
BEGIN:VEVENT
UID:20260421T130714CEST-5236tFwidR@85.13.129.106
DTSTAMP:20260421T110714Z
DESCRIPTION:
DTSTART;TZID=Europe/Berlin:20170430T120000
DTEND;TZID=Europe/Berlin:20170430T134500
LOCATION:
SUMMARY:16/17 F2-Jun. KL-Runde 2: SV 08 Steinach F - SG Effelder/Schalkau F
 2
END:VEVENT
BEGIN:VEVENT
UID:20260421T130714CEST-5241u9R6FO@85.13.129.106
DTSTAMP:20260421T110714Z
DESCRIPTION:
DTSTART;TZID=Europe/Berlin:20170514T093000
DTEND;TZID=Europe/Berlin:20170514T111500
LOCATION:
SUMMARY:16/17 F2-Jun. KL-Runde 2: SG Effelder/Schalkau F2 - SG Lauscha/Neuh
 aus F
END:VEVENT
BEGIN:VEVENT
UID:20260421T130714CEST-5245weivOH@85.13.129.106
DTSTAMP:20260421T110714Z
DESCRIPTION:
DTSTART;TZID=Europe/Berlin:20170514T110000
DTEND;TZID=Europe/Berlin:20170514T124500
LOCATION:
SUMMARY:16/17 F2-Jun. KL-Runde 2: SG Effelder/Schalkau F2 - 1. FC Sonneberg
  04 F2
END:VEVENT
BEGIN:VEVENT
UID:20260421T130714CEST-5249bSU8ao@85.13.129.106
DTSTAMP:20260421T110714Z
DESCRIPTION:
DTSTART;TZID=Europe/Berlin:20170514T113000
DTEND;TZID=Europe/Berlin:20170514T131500
LOCATION:
SUMMARY:16/17 F2-Jun. KL-Runde 2: SG Effelder/Schalkau F2 - SV 08 Steinach 
 F
END:VEVENT
BEGIN:VEVENT
UID:20260421T130714CEST-5254M4JK9R@85.13.129.106
DTSTAMP:20260421T110714Z
DESCRIPTION:
DTSTART;TZID=Europe/Berlin:20170528T093000
DTEND;TZID=Europe/Berlin:20170528T111500
LOCATION:
SUMMARY:16/17 F2-Jun. KL-Runde 2: SG Lauscha/Neuhaus F - SG Effelder/Schalk
 au F2
END:VEVENT
BEGIN:VEVENT
UID:20260421T130714CEST-5258NvvtpU@85.13.129.106
DTSTAMP:20260421T110714Z
DESCRIPTION:
DTSTART;TZID=Europe/Berlin:20170528T110000
DTEND;TZID=Europe/Berlin:20170528T124500
LOCATION:
SUMMARY:16/17 F2-Jun. KL-Runde 2: 1. FC Sonneberg 04 F2 - SG Effelder/Schal
 kau F2
END:VEVENT
BEGIN:VEVENT
UID:20260421T130714CEST-5262SVxCnu@85.13.129.106
DTSTAMP:20260421T110714Z
DESCRIPTION:
DTSTART;TZID=Europe/Berlin:20170528T113000
DTEND;TZID=Europe/Berlin:20170528T131500
LOCATION:
SUMMARY:16/17 F2-Jun. KL-Runde 2: SV 08 Steinach F - SG Effelder/Schalkau F
 2
END:VEVENT
BEGIN:VEVENT
UID:20260421T130714CEST-5267aEMD0V@85.13.129.106
DTSTAMP:20260421T110714Z
DESCRIPTION:
DTSTART;TZID=Europe/Berlin:20170618T093000
DTEND;TZID=Europe/Berlin:20170618T111500
LOCATION:
SUMMARY:16/17 F2-Jun. KL-Runde 2: SG Effelder/Schalkau F2 - SG Lauscha/Neuh
 aus F
END:VEVENT
BEGIN:VEVENT
UID:20260421T130714CEST-5271L033ci@85.13.129.106
DTSTAMP:20260421T110714Z
DESCRIPTION:
DTSTART;TZID=Europe/Berlin:20170618T110000
DTEND;TZID=Europe/Berlin:20170618T124500
LOCATION:
SUMMARY:16/17 F2-Jun. KL-Runde 2: SG Effelder/Schalkau F2 - 1. FC Sonneberg
  04 F2
END:VEVENT
BEGIN:VEVENT
UID:20260421T130714CEST-5276JhNC5D@85.13.129.106
DTSTAMP:20260421T110714Z
DESCRIPTION:
DTSTART;TZID=Europe/Berlin:20170618T120000
DTEND;TZID=Europe/Berlin:20170618T134500
LOCATION:
SUMMARY:16/17 F2-Jun. KL-Runde 2: SG Effelder/Schalkau F2 - SV 08 Steinach 
 F
END:VEVENT
END:VCALENDAR
