BEGIN:VCALENDAR
VERSION:2.0
PRODID:-//85.13.129.106//NONSGML kigkonsult.se iCalcreator 2.10.23//
BEGIN:VEVENT
UID:20260421T074429CEST-8915BWv9fG@85.13.129.106
DTSTAMP:20260421T054429Z
DESCRIPTION:
DTSTART;TZID=Europe/Berlin:20150802T140000
DTEND;TZID=Europe/Berlin:20150802T154500
LOCATION:
SUMMARY:15/16 Herren 1.KK-O: SV 03 Eisfeld - FC-BW Schalkau
END:VEVENT
BEGIN:VEVENT
UID:20260421T074429CEST-8920uJu3ru@85.13.129.106
DTSTAMP:20260421T054429Z
DESCRIPTION:Schalkau
DTSTART;TZID=Europe/Berlin:20150809T150000
DTEND;TZID=Europe/Berlin:20150809T164500
LOCATION:Katzberger Straße 6\n96528 Schalkau\, 96528 Schalkau
SUMMARY:15/16 Herren 1.KK-O: FC-BW Schalkau - SG SV 08 Steinach II
END:VEVENT
BEGIN:VEVENT
UID:20260421T074429CEST-8925bXGKJu@85.13.129.106
DTSTAMP:20260421T054429Z
DESCRIPTION:Schalkau
DTSTART;TZID=Europe/Berlin:20150816T130000
DTEND;TZID=Europe/Berlin:20150816T144500
LOCATION:Katzberger Straße 6\n96528 Schalkau\, 96528 Schalkau
SUMMARY:15/16 Herren 1.KK-O: SV Eintracht Oberland II - FC-BW Schalkau
END:VEVENT
BEGIN:VEVENT
UID:20260421T074429CEST-89295B6Ns9@85.13.129.106
DTSTAMP:20260421T054429Z
DESCRIPTION:Schalkau
DTSTART;TZID=Europe/Berlin:20150823T150000
DTEND;TZID=Europe/Berlin:20150823T164500
LOCATION:Katzberger Straße 6\n96528 Schalkau\, 96528 Schalkau
SUMMARY:15/16 Herren 1.KK-O: FC-BW Schalkau - SV Empor Heßberg
END:VEVENT
BEGIN:VEVENT
UID:20260421T074429CEST-8934VwuP4F@85.13.129.106
DTSTAMP:20260421T054429Z
DESCRIPTION:Schalkau
DTSTART;TZID=Europe/Berlin:20150829T160000
DTEND;TZID=Europe/Berlin:20150829T174500
LOCATION:Katzberger Straße 6\n96528 Schalkau\, 96528 Schalkau
SUMMARY:15/16 Herren 1.KK-O: SV EK Veilsdorf II - FC-BW Schalkau
END:VEVENT
BEGIN:VEVENT
UID:20260421T074429CEST-8938rEnlvu@85.13.129.106
DTSTAMP:20260421T054429Z
DESCRIPTION:Schalkau
DTSTART;TZID=Europe/Berlin:20150906T150000
DTEND;TZID=Europe/Berlin:20150906T164500
LOCATION:Katzberger Straße 6\n96528 Schalkau\, 96528 Schalkau
SUMMARY:15/16 Herren 1.KK-O: FC-BW Schalkau - SC 09 Effelder II
END:VEVENT
BEGIN:VEVENT
UID:20260421T074429CEST-8943keFxKA@85.13.129.106
DTSTAMP:20260421T054429Z
DESCRIPTION:Schalkau
DTSTART;TZID=Europe/Berlin:20150913T150000
DTEND;TZID=Europe/Berlin:20150913T164500
LOCATION:Katzberger Straße 6\n96528 Schalkau\, 96528 Schalkau
SUMMARY:15/16 Herren 1.KK-O: TSV 1894 Unterlind - FC-BW Schalkau
END:VEVENT
BEGIN:VEVENT
UID:20260421T074429CEST-8947dAxcB9@85.13.129.106
DTSTAMP:20260421T054429Z
DESCRIPTION:Schalkau
DTSTART;TZID=Europe/Berlin:20150920T150000
DTEND;TZID=Europe/Berlin:20150920T164500
LOCATION:Katzberger Straße 6\n96528 Schalkau\, 96528 Schalkau
SUMMARY:15/16 Herren 1.KK-O: FC-BW Schalkau - VfR Jagdshof 1931
END:VEVENT
BEGIN:VEVENT
UID:20260421T074429CEST-8951evV1lL@85.13.129.106
DTSTAMP:20260421T054429Z
DESCRIPTION:Schalkau
DTSTART;TZID=Europe/Berlin:20150927T150000
DTEND;TZID=Europe/Berlin:20150927T164500
LOCATION:Katzberger Straße 6\n96528 Schalkau\, 96528 Schalkau
SUMMARY:15/16 Herren 1.KK-O: SV 1920 Mupperg - FC-BW Schalkau
END:VEVENT
BEGIN:VEVENT
UID:20260421T074429CEST-89561KvmNF@85.13.129.106
DTSTAMP:20260421T054429Z
DESCRIPTION:Schalkau
DTSTART;TZID=Europe/Berlin:20151004T150000
DTEND;TZID=Europe/Berlin:20151004T164500
LOCATION:Katzberger Straße 6\n96528 Schalkau\, 96528 Schalkau
SUMMARY:15/16 Herren 1.KK-O: FC-BW Schalkau - 1. FC Köppelsdorf
END:VEVENT
BEGIN:VEVENT
UID:20260421T074429CEST-8960iTvKlz@85.13.129.106
DTSTAMP:20260421T054429Z
DESCRIPTION:Schalkau
DTSTART;TZID=Europe/Berlin:20151011T140000
DTEND;TZID=Europe/Berlin:20151011T154500
LOCATION:Katzberger Straße 6\n96528 Schalkau\, 96528 Schalkau
SUMMARY:15/16 Herren 1.KK-O: TSV Wacker Steinheid - FC-BW Schalkau
END:VEVENT
BEGIN:VEVENT
UID:20260421T074429CEST-8964kV9lVS@85.13.129.106
DTSTAMP:20260421T054429Z
DESCRIPTION:Schalkau
DTSTART;TZID=Europe/Berlin:20151018T140000
DTEND;TZID=Europe/Berlin:20151018T154500
LOCATION:Katzberger Straße 6\n96528 Schalkau\, 96528 Schalkau
SUMMARY:15/16 Herren 1.KK-O: SG Simmersberg/Schnett - FC-BW Schalkau
END:VEVENT
BEGIN:VEVENT
UID:20260421T074429CEST-8969LEPKmZ@85.13.129.106
DTSTAMP:20260421T054429Z
DESCRIPTION:Schalkau
DTSTART;TZID=Europe/Berlin:20160306T140000
DTEND;TZID=Europe/Berlin:20160306T154500
LOCATION:Katzberger Straße 6\n96528 Schalkau\, 96528 Schalkau
SUMMARY:15/16 Herren 1.KK-O: FC-BW Schalkau - FSV Mengersgereuth-Hämmern
END:VEVENT
BEGIN:VEVENT
UID:20260421T074429CEST-89736DE8BD@85.13.129.106
DTSTAMP:20260421T054429Z
DESCRIPTION:Schalkau
DTSTART;TZID=Europe/Berlin:20151101T143000
DTEND;TZID=Europe/Berlin:20151101T161500
LOCATION:Katzberger Straße 6\n96528 Schalkau\, 96528 Schalkau
SUMMARY:15/16 Herren 1.KK-O: FC-BW Schalkau - SV 03 Eisfeld
END:VEVENT
BEGIN:VEVENT
UID:20260421T074429CEST-8978SrNgs9@85.13.129.106
DTSTAMP:20260421T054429Z
DESCRIPTION:Schalkau
DTSTART;TZID=Europe/Berlin:20151108T140000
DTEND;TZID=Europe/Berlin:20151108T154500
LOCATION:Katzberger Straße 6\n96528 Schalkau\, 96528 Schalkau
SUMMARY:15/16 Herren 1.KK-O: SG SV 08 Steinach II - FC-BW Schalkau
END:VEVENT
BEGIN:VEVENT
UID:20260421T074429CEST-8982zmFTse@85.13.129.106
DTSTAMP:20260421T054429Z
DESCRIPTION:Schalkau
DTSTART;TZID=Europe/Berlin:20160313T150000
DTEND;TZID=Europe/Berlin:20160313T164500
LOCATION:Katzberger Straße 6\n96528 Schalkau\, 96528 Schalkau
SUMMARY:15/16 Herren 1.KK-O: FC-BW Schalkau - SV Eintracht Oberland II
END:VEVENT
BEGIN:VEVENT
UID:20260421T074429CEST-8987NfLi7U@85.13.129.106
DTSTAMP:20260421T054429Z
DESCRIPTION:Schalkau
DTSTART;TZID=Europe/Berlin:20160320T150000
DTEND;TZID=Europe/Berlin:20160320T164500
LOCATION:Katzberger Straße 6\n96528 Schalkau\, 96528 Schalkau
SUMMARY:15/16 Herren 1.KK-O: SV Empor Heßberg - FC-BW Schalkau
END:VEVENT
BEGIN:VEVENT
UID:20260421T074429CEST-8991FnPZUA@85.13.129.106
DTSTAMP:20260421T054429Z
DESCRIPTION:Schalkau
DTSTART;TZID=Europe/Berlin:20160403T150000
DTEND;TZID=Europe/Berlin:20160403T164500
LOCATION:Katzberger Straße 6\n96528 Schalkau\, 96528 Schalkau
SUMMARY:15/16 Herren 1.KK-O: FC-BW Schalkau - SV EK Veilsdorf II
END:VEVENT
BEGIN:VEVENT
UID:20260421T074429CEST-8995prmO22@85.13.129.106
DTSTAMP:20260421T054429Z
DESCRIPTION:Schalkau
DTSTART;TZID=Europe/Berlin:20160410T130000
DTEND;TZID=Europe/Berlin:20160410T144500
LOCATION:Katzberger Straße 6\n96528 Schalkau\, 96528 Schalkau
SUMMARY:15/16 Herren 1.KK-O: SC 09 Effelder II - FC-BW Schalkau
END:VEVENT
BEGIN:VEVENT
UID:20260421T074429CEST-9000sBRvfV@85.13.129.106
DTSTAMP:20260421T054429Z
DESCRIPTION:Schalkau
DTSTART;TZID=Europe/Berlin:20160417T150000
DTEND;TZID=Europe/Berlin:20160417T164500
LOCATION:Katzberger Straße 6\n96528 Schalkau\, 96528 Schalkau
SUMMARY:15/16 Herren 1.KK-O: FC-BW Schalkau - TSV 1894 Unterlind
END:VEVENT
BEGIN:VEVENT
UID:20260421T074429CEST-9005X1okkn@85.13.129.106
DTSTAMP:20260421T054429Z
DESCRIPTION:Schalkau
DTSTART;TZID=Europe/Berlin:20160424T150000
DTEND;TZID=Europe/Berlin:20160424T164500
LOCATION:Katzberger Straße 6\n96528 Schalkau\, 96528 Schalkau
SUMMARY:15/16 Herren 1.KK-O: VfR Jagdshof 1931 - FC-BW Schalkau
END:VEVENT
BEGIN:VEVENT
UID:20260421T074429CEST-9011BUs4gv@85.13.129.106
DTSTAMP:20260421T054429Z
DESCRIPTION:Schalkau
DTSTART;TZID=Europe/Berlin:20160501T150000
DTEND;TZID=Europe/Berlin:20160501T164500
LOCATION:Katzberger Straße 6\n96528 Schalkau\, 96528 Schalkau
SUMMARY:15/16 Herren 1.KK-O: FC-BW Schalkau - SV 1920 Mupperg
END:VEVENT
BEGIN:VEVENT
UID:20260421T074429CEST-9016jmW5DN@85.13.129.106
DTSTAMP:20260421T054429Z
DESCRIPTION:Schalkau
DTSTART;TZID=Europe/Berlin:20160508T153000
DTEND;TZID=Europe/Berlin:20160508T171500
LOCATION:Katzberger Straße 6\n96528 Schalkau\, 96528 Schalkau
SUMMARY:15/16 Herren 1.KK-O: 1. FC Köppelsdorf - FC-BW Schalkau
END:VEVENT
BEGIN:VEVENT
UID:20260421T074429CEST-9020pLuLDE@85.13.129.106
DTSTAMP:20260421T054429Z
DESCRIPTION:Schalkau
DTSTART;TZID=Europe/Berlin:20160522T150000
DTEND;TZID=Europe/Berlin:20160522T164500
LOCATION:Katzberger Straße 6\n96528 Schalkau\, 96528 Schalkau
SUMMARY:15/16 Herren 1.KK-O: FC-BW Schalkau - TSV Wacker Steinheid
END:VEVENT
BEGIN:VEVENT
UID:20260421T074429CEST-9025ftPg3H@85.13.129.106
DTSTAMP:20260421T054429Z
DESCRIPTION:Schalkau
DTSTART;TZID=Europe/Berlin:20160529T150000
DTEND;TZID=Europe/Berlin:20160529T164500
LOCATION:Katzberger Straße 6\n96528 Schalkau\, 96528 Schalkau
SUMMARY:15/16 Herren 1.KK-O: FC-BW Schalkau - SG Simmersberg/Schnett
END:VEVENT
BEGIN:VEVENT
UID:20260421T074429CEST-9029rPHnUm@85.13.129.106
DTSTAMP:20260421T054429Z
DESCRIPTION:Schalkau
DTSTART;TZID=Europe/Berlin:20160605T140000
DTEND;TZID=Europe/Berlin:20160605T154500
LOCATION:Katzberger Straße 6\n96528 Schalkau\, 96528 Schalkau
SUMMARY:15/16 Herren 1.KK-O: FSV Mengersgereuth-Hämmern - FC-BW Schalkau
END:VEVENT
END:VCALENDAR
