BEGIN:VCALENDAR
VERSION:2.0
PRODID:-//85.13.129.106//NONSGML kigkonsult.se iCalcreator 2.10.23//
BEGIN:VEVENT
UID:20260420T175244CEST-068970PNZJ@85.13.129.106
DTSTAMP:20260420T155244Z
DESCRIPTION:Hellingen
DTSTART;TZID=Europe/Berlin:20150419T095500
DTEND;TZID=Europe/Berlin:20150419T114000
LOCATION:\,  
SUMMARY:14/15 F-Jun. KOL: SG Lauscha/Neuhaus F2 - FC-BW Schalkau F
END:VEVENT
BEGIN:VEVENT
UID:20260420T175244CEST-0694rg3UjM@85.13.129.106
DTSTAMP:20260420T155244Z
DESCRIPTION:Hellingen
DTSTART;TZID=Europe/Berlin:20150419T113500
DTEND;TZID=Europe/Berlin:20150419T132000
LOCATION:\,  
SUMMARY:14/15 F-Jun. KOL: FC-BW Schalkau F - TSV Germ. Hellingen F
END:VEVENT
BEGIN:VEVENT
UID:20260420T175244CEST-0698vvBoAU@85.13.129.106
DTSTAMP:20260420T155244Z
DESCRIPTION:Steinach/Talstraße
DTSTART;TZID=Europe/Berlin:20150503T093000
DTEND;TZID=Europe/Berlin:20150503T111500
LOCATION:\,  
SUMMARY:14/15 F-Jun. KOL: FC-BW Schalkau F - SV Falke Sachsenbrunn F
END:VEVENT
BEGIN:VEVENT
UID:20260420T175244CEST-0703Ts6fvE@85.13.129.106
DTSTAMP:20260420T155244Z
DESCRIPTION:Steinach/Talstraße
DTSTART;TZID=Europe/Berlin:20150503T113500
DTEND;TZID=Europe/Berlin:20150503T132000
LOCATION:\,  
SUMMARY:14/15 F-Jun. KOL: SV 08 Steinach F - FC-BW Schalkau F
END:VEVENT
BEGIN:VEVENT
UID:20260420T175244CEST-0707oMLWge@85.13.129.106
DTSTAMP:20260420T155244Z
DESCRIPTION:Sachsenbrunn
DTSTART;TZID=Europe/Berlin:20150517T102000
DTEND;TZID=Europe/Berlin:20150517T120500
LOCATION:\,  
SUMMARY:14/15 F-Jun. KOL: FC-BW Schalkau F - TSV Germ. Sonneberg West F
END:VEVENT
BEGIN:VEVENT
UID:20260420T175244CEST-0711cGAGIG@85.13.129.106
DTSTAMP:20260420T155244Z
DESCRIPTION:Sachsenbrunn
DTSTART;TZID=Europe/Berlin:20150517T111000
DTEND;TZID=Europe/Berlin:20150517T125500
LOCATION:\,  
SUMMARY:14/15 F-Jun. KOL: FC-BW Schalkau F - SG Lauscha/Neuhaus F2
END:VEVENT
BEGIN:VEVENT
UID:20260420T175244CEST-07169NOxGH@85.13.129.106
DTSTAMP:20260420T155244Z
DESCRIPTION:Schalkau
DTSTART;TZID=Europe/Berlin:20150607T095500
DTEND;TZID=Europe/Berlin:20150607T114000
LOCATION:Katzberger Straße 6\n96528 Schalkau\, 96528 Schalkau
SUMMARY:14/15 F-Jun. KOL: TSV Germ. Hellingen F - FC-BW Schalkau F
END:VEVENT
BEGIN:VEVENT
UID:20260420T175244CEST-0720XvVpcu@85.13.129.106
DTSTAMP:20260420T155244Z
DESCRIPTION:Schalkau
DTSTART;TZID=Europe/Berlin:20150607T113500
DTEND;TZID=Europe/Berlin:20150607T132000
LOCATION:Katzberger Straße 6\n96528 Schalkau\, 96528 Schalkau
SUMMARY:14/15 F-Jun. KOL: SV Falke Sachsenbrunn F - FC-BW Schalkau F
END:VEVENT
BEGIN:VEVENT
UID:20260420T175244CEST-0724vdJOk0@85.13.129.106
DTSTAMP:20260420T155244Z
DESCRIPTION:Sonneberg/West
DTSTART;TZID=Europe/Berlin:20150621T102000
DTEND;TZID=Europe/Berlin:20150621T120500
LOCATION:\,  
SUMMARY:14/15 F-Jun. KOL: FC-BW Schalkau F - SV 08 Steinach F
END:VEVENT
BEGIN:VEVENT
UID:20260420T175244CEST-0729obptn2@85.13.129.106
DTSTAMP:20260420T155244Z
DESCRIPTION:Sonneberg/West
DTSTART;TZID=Europe/Berlin:20150621T113500
DTEND;TZID=Europe/Berlin:20150621T132000
LOCATION:\,  
SUMMARY:14/15 F-Jun. KOL: TSV Germ. Sonneberg West F - FC-BW Schalkau F
END:VEVENT
END:VCALENDAR
