BEGIN:VCALENDAR
VERSION:2.0
PRODID:-//85.13.129.106//NONSGML kigkonsult.se iCalcreator 2.10.23//
BEGIN:VEVENT
UID:20260420T112000CEST-6708UUcTZU@85.13.129.106
DTSTAMP:20260420T092000Z
DESCRIPTION:
DTSTART;TZID=Europe/Berlin:20151017T103000
DTEND;TZID=Europe/Berlin:20151017T111500
LOCATION:
SUMMARY:15/16 E-Pokal: SV 08 Steinach E - SV EK Veilsdorf E
END:VEVENT
BEGIN:VEVENT
UID:20260420T112000CEST-6712at4oNe@85.13.129.106
DTSTAMP:20260420T092000Z
DESCRIPTION:
DTSTART;TZID=Europe/Berlin:20160413T180000
DTEND;TZID=Europe/Berlin:20160413T184500
LOCATION:
SUMMARY:15/16 E-Pokal: SV 08 Steinach E - TSV Germ. Sonneberg West E
END:VEVENT
BEGIN:VEVENT
UID:20260420T112000CEST-67168rUiTO@85.13.129.106
DTSTAMP:20260420T092000Z
DESCRIPTION:
DTSTART;TZID=Europe/Berlin:20160511T180000
DTEND;TZID=Europe/Berlin:20160511T184500
LOCATION:
SUMMARY:15/16 E-Pokal: SV 08 Steinach E - TSV 1911 Themar E
END:VEVENT
END:VCALENDAR
