BEGIN:VCALENDAR
VERSION:2.0
PRODID:-//85.13.129.106//NONSGML kigkonsult.se iCalcreator 2.10.23//
BEGIN:VEVENT
UID:20260421T074909CEST-9997kcc1V7@85.13.129.106
DTSTAMP:20260421T054909Z
DESCRIPTION:
DTSTART;TZID=Europe/Berlin:20150905T091500
DTEND;TZID=Europe/Berlin:20150905T110000
LOCATION:
SUMMARY:15/16 E-Jun. KL Mitte: SG Lauscha/Neuhaus E - SG Rauenstein/ Meng. 
 Hämm. E
END:VEVENT
BEGIN:VEVENT
UID:20260421T074909CEST-00019jdpjx@85.13.129.106
DTSTAMP:20260421T054909Z
DESCRIPTION:
DTSTART;TZID=Europe/Berlin:20150911T180000
DTEND;TZID=Europe/Berlin:20150911T194500
LOCATION:
SUMMARY:15/16 E-Jun. KL Mitte: SG Effelder/Schalkau E - SG Lauscha/Neuhaus 
 E
END:VEVENT
BEGIN:VEVENT
UID:20260421T074909CEST-00065UU6Hf@85.13.129.106
DTSTAMP:20260421T054909Z
DESCRIPTION:
DTSTART;TZID=Europe/Berlin:20151004T100000
DTEND;TZID=Europe/Berlin:20151004T114500
LOCATION:
SUMMARY:15/16 E-Jun. KL Mitte: SG Lauscha/Neuhaus E - 1. FC Sonneberg 04 E2
END:VEVENT
BEGIN:VEVENT
UID:20260421T074910CEST-0010KO25b5@85.13.129.106
DTSTAMP:20260421T054910Z
DESCRIPTION:
DTSTART;TZID=Europe/Berlin:20150920T103000
DTEND;TZID=Europe/Berlin:20150920T121500
LOCATION:
SUMMARY:15/16 E-Jun. KL Mitte: SV 03 Eisfeld E - SG Lauscha/Neuhaus E
END:VEVENT
BEGIN:VEVENT
UID:20260421T074910CEST-0014ApTL2M@85.13.129.106
DTSTAMP:20260421T054910Z
DESCRIPTION:
DTSTART;TZID=Europe/Berlin:20150927T103000
DTEND;TZID=Europe/Berlin:20150927T121500
LOCATION:
SUMMARY:15/16 E-Jun. KL Mitte: SG Lauscha/Neuhaus E - SV EK Veilsdorf E
END:VEVENT
END:VCALENDAR
