BEGIN:VCALENDAR
VERSION:2.0
PRODID:-//85.13.129.106//NONSGML kigkonsult.se iCalcreator 2.10.23//
BEGIN:VEVENT
UID:20260424T082231CEST-2040oeDuHo@85.13.129.106
DTSTAMP:20260424T062231Z
DESCRIPTION:
DTSTART;TZID=Europe/Berlin:20150829T103000
DTEND;TZID=Europe/Berlin:20150829T121500
LOCATION:
SUMMARY:15/16 D1-Jun. VL: SG VfB Apolda D - FC Carl Zeiss Jena D2
END:VEVENT
BEGIN:VEVENT
UID:20260424T082231CEST-2045VEuT0f@85.13.129.106
DTSTAMP:20260424T062231Z
DESCRIPTION:
DTSTART;TZID=Europe/Berlin:20150905T110000
DTEND;TZID=Europe/Berlin:20150905T124500
LOCATION:
SUMMARY:15/16 D1-Jun. VL: 1. Suhler SV 06 D - SG VfB Apolda D
END:VEVENT
BEGIN:VEVENT
UID:20260424T082231CEST-2049umz6gh@85.13.129.106
DTSTAMP:20260424T062231Z
DESCRIPTION:
DTSTART;TZID=Europe/Berlin:20150912T103000
DTEND;TZID=Europe/Berlin:20150912T121500
LOCATION:
SUMMARY:15/16 D1-Jun. VL: SG VfB Apolda D - SG Steinach D
END:VEVENT
BEGIN:VEVENT
UID:20260424T082231CEST-2054OUbVId@85.13.129.106
DTSTAMP:20260424T062231Z
DESCRIPTION:
DTSTART;TZID=Europe/Berlin:20151022T173000
DTEND;TZID=Europe/Berlin:20151022T191500
LOCATION:
SUMMARY:15/16 D1-Jun. VL: VfB Oberweimar D - SG VfB Apolda D
END:VEVENT
BEGIN:VEVENT
UID:20260424T082231CEST-2058jLI44v@85.13.129.106
DTSTAMP:20260424T062231Z
DESCRIPTION:
DTSTART;TZID=Europe/Berlin:20151024T103000
DTEND;TZID=Europe/Berlin:20151024T121500
LOCATION:
SUMMARY:15/16 D1-Jun. VL: SG VfB Apolda D - SG Sbg.-W./ Schalkau D
END:VEVENT
BEGIN:VEVENT
UID:20260424T082231CEST-2062dIt8no@85.13.129.106
DTSTAMP:20260424T062231Z
DESCRIPTION:
DTSTART;TZID=Europe/Berlin:20151031T103000
DTEND;TZID=Europe/Berlin:20151031T121500
LOCATION:
SUMMARY:15/16 D1-Jun. VL: SV Germania Ilmenau D - SG VfB Apolda D
END:VEVENT
BEGIN:VEVENT
UID:20260424T082231CEST-2067vepkJV@85.13.129.106
DTSTAMP:20260424T062231Z
DESCRIPTION:
DTSTART;TZID=Europe/Berlin:20151107T103000
DTEND;TZID=Europe/Berlin:20151107T121500
LOCATION:
SUMMARY:15/16 D1-Jun. VL: SG VfB Apolda D - FSV Wacker 03 Gotha D
END:VEVENT
BEGIN:VEVENT
UID:20260424T082231CEST-2071sHESKV@85.13.129.106
DTSTAMP:20260424T062231Z
DESCRIPTION:
DTSTART;TZID=Europe/Berlin:20151121T103000
DTEND;TZID=Europe/Berlin:20151121T121500
LOCATION:
SUMMARY:15/16 D1-Jun. VL: FSV Sömmerda D - SG VfB Apolda D
END:VEVENT
BEGIN:VEVENT
UID:20260424T082231CEST-2075E9U3Wn@85.13.129.106
DTSTAMP:20260424T062231Z
DESCRIPTION:
DTSTART;TZID=Europe/Berlin:20151128T103000
DTEND;TZID=Europe/Berlin:20151128T121500
LOCATION:
SUMMARY:15/16 D1-Jun. VL: SG VfB Apolda D - SG SpG Helba D
END:VEVENT
BEGIN:VEVENT
UID:20260424T082231CEST-20807L4VRr@85.13.129.106
DTSTAMP:20260424T062231Z
DESCRIPTION:
DTSTART;TZID=Europe/Berlin:20151205T103000
DTEND;TZID=Europe/Berlin:20151205T121500
LOCATION:
SUMMARY:15/16 D1-Jun. VL: SG VfB Apolda D - SV Westring Gotha D
END:VEVENT
BEGIN:VEVENT
UID:20260424T082231CEST-2084CCZlVa@85.13.129.106
DTSTAMP:20260424T062231Z
DESCRIPTION:
DTSTART;TZID=Europe/Berlin:20151212T103000
DTEND;TZID=Europe/Berlin:20151212T121500
LOCATION:
SUMMARY:15/16 D1-Jun. VL: FC Rot-Weiß Erfurt D2 - SG VfB Apolda D
END:VEVENT
BEGIN:VEVENT
UID:20260424T082231CEST-208862KZkS@85.13.129.106
DTSTAMP:20260424T062231Z
DESCRIPTION:
DTSTART;TZID=Europe/Berlin:20160227T103000
DTEND;TZID=Europe/Berlin:20160227T121500
LOCATION:
SUMMARY:15/16 D1-Jun. VL: FC Carl Zeiss Jena D2 - SG VfB Apolda D
END:VEVENT
BEGIN:VEVENT
UID:20260424T082231CEST-2093UJL3BI@85.13.129.106
DTSTAMP:20260424T062231Z
DESCRIPTION:
DTSTART;TZID=Europe/Berlin:20160305T103000
DTEND;TZID=Europe/Berlin:20160305T121500
LOCATION:
SUMMARY:15/16 D1-Jun. VL: SG VfB Apolda D - 1. Suhler SV 06 D
END:VEVENT
BEGIN:VEVENT
UID:20260424T082231CEST-2097x23ruD@85.13.129.106
DTSTAMP:20260424T062231Z
DESCRIPTION:
DTSTART;TZID=Europe/Berlin:20160312T103000
DTEND;TZID=Europe/Berlin:20160312T121500
LOCATION:
SUMMARY:15/16 D1-Jun. VL: SG Steinach D - SG VfB Apolda D
END:VEVENT
BEGIN:VEVENT
UID:20260424T082231CEST-2102eHMZri@85.13.129.106
DTSTAMP:20260424T062231Z
DESCRIPTION:
DTSTART;TZID=Europe/Berlin:20160320T103000
DTEND;TZID=Europe/Berlin:20160320T121500
LOCATION:
SUMMARY:15/16 D1-Jun. VL: SG VfB Apolda D - VfB Oberweimar D
END:VEVENT
BEGIN:VEVENT
UID:20260424T082231CEST-2106rzDVTD@85.13.129.106
DTSTAMP:20260424T062231Z
DESCRIPTION:
DTSTART;TZID=Europe/Berlin:20160416T103000
DTEND;TZID=Europe/Berlin:20160416T121500
LOCATION:
SUMMARY:15/16 D1-Jun. VL: SG Sbg.-W./ Schalkau D - SG VfB Apolda D
END:VEVENT
BEGIN:VEVENT
UID:20260424T082231CEST-2110FI9utF@85.13.129.106
DTSTAMP:20260424T062231Z
DESCRIPTION:
DTSTART;TZID=Europe/Berlin:20160423T103000
DTEND;TZID=Europe/Berlin:20160423T121500
LOCATION:
SUMMARY:15/16 D1-Jun. VL: SG VfB Apolda D - SV Germania Ilmenau D
END:VEVENT
BEGIN:VEVENT
UID:20260424T082231CEST-2115cOzku6@85.13.129.106
DTSTAMP:20260424T062231Z
DESCRIPTION:
DTSTART;TZID=Europe/Berlin:20160507T093000
DTEND;TZID=Europe/Berlin:20160507T111500
LOCATION:
SUMMARY:15/16 D1-Jun. VL: FSV Wacker 03 Gotha D - SG VfB Apolda D
END:VEVENT
BEGIN:VEVENT
UID:20260424T082231CEST-2119taZH43@85.13.129.106
DTSTAMP:20260424T062231Z
DESCRIPTION:
DTSTART;TZID=Europe/Berlin:20160514T103000
DTEND;TZID=Europe/Berlin:20160514T121500
LOCATION:
SUMMARY:15/16 D1-Jun. VL: SG VfB Apolda D - FSV Sömmerda D
END:VEVENT
BEGIN:VEVENT
UID:20260424T082231CEST-2123LIk8kN@85.13.129.106
DTSTAMP:20260424T062231Z
DESCRIPTION:
DTSTART;TZID=Europe/Berlin:20160521T103000
DTEND;TZID=Europe/Berlin:20160521T121500
LOCATION:
SUMMARY:15/16 D1-Jun. VL: SG SpG Helba D - SG VfB Apolda D
END:VEVENT
BEGIN:VEVENT
UID:20260424T082231CEST-2128umkBV4@85.13.129.106
DTSTAMP:20260424T062231Z
DESCRIPTION:
DTSTART;TZID=Europe/Berlin:20160529T103000
DTEND;TZID=Europe/Berlin:20160529T121500
LOCATION:
SUMMARY:15/16 D1-Jun. VL: SV Westring Gotha D - SG VfB Apolda D
END:VEVENT
BEGIN:VEVENT
UID:20260424T082231CEST-2132dfUP3C@85.13.129.106
DTSTAMP:20260424T062231Z
DESCRIPTION:
DTSTART;TZID=Europe/Berlin:20160604T103000
DTEND;TZID=Europe/Berlin:20160604T121500
LOCATION:
SUMMARY:15/16 D1-Jun. VL: SG VfB Apolda D - FC Rot-Weiß Erfurt D2
END:VEVENT
END:VCALENDAR
