BEGIN:VCALENDAR
VERSION:2.0
PRODID:-//85.13.129.106//NONSGML kigkonsult.se iCalcreator 2.10.23//
BEGIN:VEVENT
UID:20260423T060153CEST-3252JfBBfs@85.13.129.106
DTSTAMP:20260423T040153Z
DESCRIPTION:
DTSTART;TZID=Europe/Berlin:20150830T103000
DTEND;TZID=Europe/Berlin:20150830T121500
LOCATION:
SUMMARY:15/16 D1-Jun. VL: SG Steinach D - SV Westring Gotha D
END:VEVENT
BEGIN:VEVENT
UID:20260423T060153CEST-3257JoOPZW@85.13.129.106
DTSTAMP:20260423T040153Z
DESCRIPTION:
DTSTART;TZID=Europe/Berlin:20150905T103000
DTEND;TZID=Europe/Berlin:20150905T121500
LOCATION:
SUMMARY:15/16 D1-Jun. VL: FC Carl Zeiss Jena D2 - SG Steinach D
END:VEVENT
BEGIN:VEVENT
UID:20260423T060153CEST-3261me2kU8@85.13.129.106
DTSTAMP:20260423T040153Z
DESCRIPTION:
DTSTART;TZID=Europe/Berlin:20150912T103000
DTEND;TZID=Europe/Berlin:20150912T121500
LOCATION:
SUMMARY:15/16 D1-Jun. VL: SG VfB Apolda D - SG Steinach D
END:VEVENT
BEGIN:VEVENT
UID:20260423T060153CEST-3265RaXWxF@85.13.129.106
DTSTAMP:20260423T040153Z
DESCRIPTION:
DTSTART;TZID=Europe/Berlin:20151003T103000
DTEND;TZID=Europe/Berlin:20151003T121500
LOCATION:
SUMMARY:15/16 D1-Jun. VL: SG Steinach D - SG Sbg.-W./ Schalkau D
END:VEVENT
BEGIN:VEVENT
UID:20260423T060153CEST-3270725tVf@85.13.129.106
DTSTAMP:20260423T040153Z
DESCRIPTION:
DTSTART;TZID=Europe/Berlin:20151024T093000
DTEND;TZID=Europe/Berlin:20151024T111500
LOCATION:
SUMMARY:15/16 D1-Jun. VL: FSV Wacker 03 Gotha D - SG Steinach D
END:VEVENT
BEGIN:VEVENT
UID:20260423T060153CEST-3274DTpVaV@85.13.129.106
DTSTAMP:20260423T040153Z
DESCRIPTION:
DTSTART;TZID=Europe/Berlin:20151031T103000
DTEND;TZID=Europe/Berlin:20151031T121500
LOCATION:
SUMMARY:15/16 D1-Jun. VL: SG Steinach D - SG SpG Helba D
END:VEVENT
BEGIN:VEVENT
UID:20260423T060153CEST-3278IKDBuZ@85.13.129.106
DTSTAMP:20260423T040153Z
DESCRIPTION:
DTSTART;TZID=Europe/Berlin:20151107T103000
DTEND;TZID=Europe/Berlin:20151107T121500
LOCATION:
SUMMARY:15/16 D1-Jun. VL: FC Rot-Weiß Erfurt D2 - SG Steinach D
END:VEVENT
BEGIN:VEVENT
UID:20260423T060153CEST-3283bbtPxm@85.13.129.106
DTSTAMP:20260423T040153Z
DESCRIPTION:
DTSTART;TZID=Europe/Berlin:20151121T103000
DTEND;TZID=Europe/Berlin:20151121T121500
LOCATION:
SUMMARY:15/16 D1-Jun. VL: SG Steinach D - 1. Suhler SV 06 D
END:VEVENT
BEGIN:VEVENT
UID:20260423T060153CEST-32872xGffM@85.13.129.106
DTSTAMP:20260423T040153Z
DESCRIPTION:
DTSTART;TZID=Europe/Berlin:20160410T123000
DTEND;TZID=Europe/Berlin:20160410T141500
LOCATION:
SUMMARY:15/16 D1-Jun. VL: VfB Oberweimar D - SG Steinach D
END:VEVENT
BEGIN:VEVENT
UID:20260423T060153CEST-3291vh46a0@85.13.129.106
DTSTAMP:20260423T040153Z
DESCRIPTION:
DTSTART;TZID=Europe/Berlin:20151205T103000
DTEND;TZID=Europe/Berlin:20151205T121500
LOCATION:
SUMMARY:15/16 D1-Jun. VL: SG Steinach D - SV Germania Ilmenau D
END:VEVENT
BEGIN:VEVENT
UID:20260423T060153CEST-3296bN6PLI@85.13.129.106
DTSTAMP:20260423T040153Z
DESCRIPTION:
DTSTART;TZID=Europe/Berlin:20151212T103000
DTEND;TZID=Europe/Berlin:20151212T121500
LOCATION:
SUMMARY:15/16 D1-Jun. VL: FSV Sömmerda D - SG Steinach D
END:VEVENT
BEGIN:VEVENT
UID:20260423T060153CEST-33003uauVv@85.13.129.106
DTSTAMP:20260423T040153Z
DESCRIPTION:
DTSTART;TZID=Europe/Berlin:20160228T103000
DTEND;TZID=Europe/Berlin:20160228T121500
LOCATION:
SUMMARY:15/16 D1-Jun. VL: SV Westring Gotha D - SG Steinach D
END:VEVENT
BEGIN:VEVENT
UID:20260423T060153CEST-3304VFO92Z@85.13.129.106
DTSTAMP:20260423T040153Z
DESCRIPTION:
DTSTART;TZID=Europe/Berlin:20160305T103000
DTEND;TZID=Europe/Berlin:20160305T121500
LOCATION:
SUMMARY:15/16 D1-Jun. VL: SG Steinach D - FC Carl Zeiss Jena D2
END:VEVENT
BEGIN:VEVENT
UID:20260423T060153CEST-3309Oi75cA@85.13.129.106
DTSTAMP:20260423T040153Z
DESCRIPTION:
DTSTART;TZID=Europe/Berlin:20160312T103000
DTEND;TZID=Europe/Berlin:20160312T121500
LOCATION:
SUMMARY:15/16 D1-Jun. VL: SG Steinach D - SG VfB Apolda D
END:VEVENT
BEGIN:VEVENT
UID:20260423T060153CEST-3313AZEW3w@85.13.129.106
DTSTAMP:20260423T040153Z
DESCRIPTION:
DTSTART;TZID=Europe/Berlin:20160319T103000
DTEND;TZID=Europe/Berlin:20160319T121500
LOCATION:
SUMMARY:15/16 D1-Jun. VL: SG Sbg.-W./ Schalkau D - SG Steinach D
END:VEVENT
BEGIN:VEVENT
UID:20260423T060153CEST-3317AAVv5C@85.13.129.106
DTSTAMP:20260423T040153Z
DESCRIPTION:
DTSTART;TZID=Europe/Berlin:20160402T103000
DTEND;TZID=Europe/Berlin:20160402T121500
LOCATION:
SUMMARY:15/16 D1-Jun. VL: SG Steinach D - FSV Wacker 03 Gotha D
END:VEVENT
BEGIN:VEVENT
UID:20260423T060153CEST-3322R8tKOJ@85.13.129.106
DTSTAMP:20260423T040153Z
DESCRIPTION:
DTSTART;TZID=Europe/Berlin:20160423T103000
DTEND;TZID=Europe/Berlin:20160423T121500
LOCATION:
SUMMARY:15/16 D1-Jun. VL: SG SpG Helba D - SG Steinach D
END:VEVENT
BEGIN:VEVENT
UID:20260423T060153CEST-3326a3O6NA@85.13.129.106
DTSTAMP:20260423T040153Z
DESCRIPTION:
DTSTART;TZID=Europe/Berlin:20160508T103000
DTEND;TZID=Europe/Berlin:20160508T121500
LOCATION:
SUMMARY:15/16 D1-Jun. VL: SG Steinach D - FC Rot-Weiß Erfurt D2
END:VEVENT
BEGIN:VEVENT
UID:20260423T060153CEST-3330TxJuWC@85.13.129.106
DTSTAMP:20260423T040153Z
DESCRIPTION:
DTSTART;TZID=Europe/Berlin:20160513T180000
DTEND;TZID=Europe/Berlin:20160513T194500
LOCATION:
SUMMARY:15/16 D1-Jun. VL: 1. Suhler SV 06 D - SG Steinach D
END:VEVENT
BEGIN:VEVENT
UID:20260423T060153CEST-3335uegcsr@85.13.129.106
DTSTAMP:20260423T040153Z
DESCRIPTION:
DTSTART;TZID=Europe/Berlin:20160522T103000
DTEND;TZID=Europe/Berlin:20160522T121500
LOCATION:
SUMMARY:15/16 D1-Jun. VL: SG Steinach D - VfB Oberweimar D
END:VEVENT
BEGIN:VEVENT
UID:20260423T060153CEST-3339MBXLap@85.13.129.106
DTSTAMP:20260423T040153Z
DESCRIPTION:
DTSTART;TZID=Europe/Berlin:20160528T103000
DTEND;TZID=Europe/Berlin:20160528T121500
LOCATION:
SUMMARY:15/16 D1-Jun. VL: SV Germania Ilmenau D - SG Steinach D
END:VEVENT
BEGIN:VEVENT
UID:20260423T060153CEST-33441vRAXF@85.13.129.106
DTSTAMP:20260423T040153Z
DESCRIPTION:
DTSTART;TZID=Europe/Berlin:20160605T103000
DTEND;TZID=Europe/Berlin:20160605T121500
LOCATION:
SUMMARY:15/16 D1-Jun. VL: SG Steinach D - FSV Sömmerda D
END:VEVENT
END:VCALENDAR
