BEGIN:VCALENDAR
VERSION:2.0
PRODID:-//85.13.129.106//NONSGML kigkonsult.se iCalcreator 2.10.23//
BEGIN:VEVENT
UID:20260421T083357CEST-5295hGf53F@85.13.129.106
DTSTAMP:20260421T063357Z
DESCRIPTION:
DTSTART;TZID=Europe/Berlin:20140831T180000
DTEND;TZID=Europe/Berlin:20140831T184500
LOCATION:
SUMMARY:14/15 D2-Pokal: SC 06 Oberlind D - Freilos
END:VEVENT
BEGIN:VEVENT
UID:20260421T083357CEST-5299hSmT4O@85.13.129.106
DTSTAMP:20260421T063357Z
DESCRIPTION:
DTSTART;TZID=Europe/Berlin:20141005T103000
DTEND;TZID=Europe/Berlin:20141005T111500
LOCATION:
SUMMARY:14/15 D2-Pokal: SV EK Veilsdorf D - SC 06 Oberlind D
END:VEVENT
BEGIN:VEVENT
UID:20260421T083357CEST-5304goKrgZ@85.13.129.106
DTSTAMP:20260421T063357Z
DESCRIPTION:
DTSTART;TZID=Europe/Berlin:20150322T103000
DTEND;TZID=Europe/Berlin:20150322T111500
LOCATION:
SUMMARY:14/15 D2-Pokal: SV 1920 Gellershausen D - SC 06 Oberlind D
END:VEVENT
BEGIN:VEVENT
UID:20260421T083357CEST-5308w4G8X0@85.13.129.106
DTSTAMP:20260421T063357Z
DESCRIPTION:
DTSTART;TZID=Europe/Berlin:20150415T180000
DTEND;TZID=Europe/Berlin:20150415T184500
LOCATION:
SUMMARY:14/15 D2-Pokal: SC 06 Oberlind D - FC-BW Schalkau D2
END:VEVENT
BEGIN:VEVENT
UID:20260421T083357CEST-5312LWEVpX@85.13.129.106
DTSTAMP:20260421T063357Z
DESCRIPTION:
DTSTART;TZID=Europe/Berlin:20150523T143000
DTEND;TZID=Europe/Berlin:20150523T151500
LOCATION:
SUMMARY:14/15 D2-Pokal: SC 06 Oberlind D - FSV 06 Eintr. Hildburghausen D
END:VEVENT
END:VCALENDAR
