BEGIN:VCALENDAR
VERSION:2.0
PRODID:-//85.13.129.106//NONSGML kigkonsult.se iCalcreator 2.10.23//
BEGIN:VEVENT
UID:20260422T190615CEST-6551Zimg6J@85.13.129.106
DTSTAMP:20260422T170615Z
DESCRIPTION:
DTSTART;TZID=Europe/Berlin:20140831T180000
DTEND;TZID=Europe/Berlin:20140831T184500
LOCATION:
SUMMARY:14/15 D2-Pokal: SV Nahetal Hinternah D - Freilos
END:VEVENT
BEGIN:VEVENT
UID:20260422T190615CEST-65556smXK6@85.13.129.106
DTSTAMP:20260422T170615Z
DESCRIPTION:
DTSTART;TZID=Europe/Berlin:20140831T180000
DTEND;TZID=Europe/Berlin:20140831T184500
LOCATION:
SUMMARY:14/15 D2-Pokal: TSV 1911 Themar D - Freilos
END:VEVENT
BEGIN:VEVENT
UID:20260422T190615CEST-6559F1RnxB@85.13.129.106
DTSTAMP:20260422T170615Z
DESCRIPTION:
DTSTART;TZID=Europe/Berlin:20140831T180000
DTEND;TZID=Europe/Berlin:20140831T184500
LOCATION:
SUMMARY:14/15 D2-Pokal: SG Schleusingen/Waldau D - Freilos
END:VEVENT
BEGIN:VEVENT
UID:20260422T190615CEST-6563HcD6nK@85.13.129.106
DTSTAMP:20260422T170615Z
DESCRIPTION:
DTSTART;TZID=Europe/Berlin:20140831T180000
DTEND;TZID=Europe/Berlin:20140831T184500
LOCATION:
SUMMARY:14/15 D2-Pokal: SV EK Veilsdorf D - Freilos
END:VEVENT
BEGIN:VEVENT
UID:20260422T190615CEST-6567m9n7pe@85.13.129.106
DTSTAMP:20260422T170615Z
DESCRIPTION:Schalkau
DTSTART;TZID=Europe/Berlin:20140831T180000
DTEND;TZID=Europe/Berlin:20140831T184500
LOCATION:Katzberger Straße 6\n96528 Schalkau\, 96528 Schalkau
SUMMARY:14/15 D2-Pokal: FC-BW Schalkau D2 - Freilos
END:VEVENT
BEGIN:VEVENT
UID:20260422T190615CEST-6571oaP744@85.13.129.106
DTSTAMP:20260422T170615Z
DESCRIPTION:Schalkau
DTSTART;TZID=Europe/Berlin:20140831T180000
DTEND;TZID=Europe/Berlin:20140831T184500
LOCATION:Katzberger Straße 6\n96528 Schalkau\, 96528 Schalkau
SUMMARY:14/15 D2-Pokal: SG 1951 Sonneberg D - Freilos
END:VEVENT
BEGIN:VEVENT
UID:20260422T190615CEST-6575Wkoza7@85.13.129.106
DTSTAMP:20260422T170615Z
DESCRIPTION:Schalkau
DTSTART;TZID=Europe/Berlin:20140831T180000
DTEND;TZID=Europe/Berlin:20140831T184500
LOCATION:Katzberger Straße 6\n96528 Schalkau\, 96528 Schalkau
SUMMARY:14/15 D2-Pokal: FSV 07 Lauscha D - Freilos
END:VEVENT
BEGIN:VEVENT
UID:20260422T190615CEST-6579uvFfXw@85.13.129.106
DTSTAMP:20260422T170615Z
DESCRIPTION:Schalkau
DTSTART;TZID=Europe/Berlin:20140831T180000
DTEND;TZID=Europe/Berlin:20140831T184500
LOCATION:Katzberger Straße 6\n96528 Schalkau\, 96528 Schalkau
SUMMARY:14/15 D2-Pokal: FSV 06 Eintr. Hildburghausen D - Freilos
END:VEVENT
BEGIN:VEVENT
UID:20260422T190615CEST-658312RBX2@85.13.129.106
DTSTAMP:20260422T170615Z
DESCRIPTION:Schalkau
DTSTART;TZID=Europe/Berlin:20140831T180000
DTEND;TZID=Europe/Berlin:20140831T184500
LOCATION:Katzberger Straße 6\n96528 Schalkau\, 96528 Schalkau
SUMMARY:14/15 D2-Pokal: SC 06 Oberlind D - Freilos
END:VEVENT
BEGIN:VEVENT
UID:20260422T190615CEST-6587Ux6U76@85.13.129.106
DTSTAMP:20260422T170615Z
DESCRIPTION:Schalkau
DTSTART;TZID=Europe/Berlin:20140831T180000
DTEND;TZID=Europe/Berlin:20140831T184500
LOCATION:Katzberger Straße 6\n96528 Schalkau\, 96528 Schalkau
SUMMARY:14/15 D2-Pokal: 1. FC Köppelsdorf D - Freilos
END:VEVENT
END:VCALENDAR
