BEGIN:VCALENDAR
VERSION:2.0
PRODID:-//85.13.129.106//NONSGML kigkonsult.se iCalcreator 2.10.23//
BEGIN:VEVENT
UID:20260425T221317CEST-56318upRWE@85.13.129.106
DTSTAMP:20260425T201317Z
DESCRIPTION:
DTSTART;TZID=Europe/Amsterdam:20131103T103000
DTEND;TZID=Europe/Amsterdam:20131103T121500
LOCATION:
SUMMARY:13/14 E-Jun. KOL: SV Iso. Neuhaus Schierschnitz E - SG Römh./Mendha
 usen E
END:VEVENT
BEGIN:VEVENT
UID:20260425T221317CEST-5636CSBHL6@85.13.129.106
DTSTAMP:20260425T201317Z
DESCRIPTION:
DTSTART;TZID=Europe/Amsterdam:20140320T173000
DTEND;TZID=Europe/Amsterdam:20140320T191500
LOCATION:
SUMMARY:13/14 E-Jun. KOL: SG Waldau E - SG Römh./Mendhausen E
END:VEVENT
BEGIN:VEVENT
UID:20260425T221317CEST-56408iafik@85.13.129.106
DTSTAMP:20260425T201317Z
DESCRIPTION:
DTSTART;TZID=Europe/Amsterdam:20130409T173000
DTEND;TZID=Europe/Amsterdam:20130409T191500
LOCATION:
SUMMARY:13/14 E-Jun. KOL: SV Empor 90 Eishausen E - SG Römh./Mendhausen E
END:VEVENT
BEGIN:VEVENT
UID:20260425T221317CEST-5644ru91XM@85.13.129.106
DTSTAMP:20260425T201317Z
DESCRIPTION:
DTSTART;TZID=Europe/Amsterdam:20140323T103000
DTEND;TZID=Europe/Amsterdam:20140323T121500
LOCATION:
SUMMARY:13/14 E-Jun. KOL: TSV Germ. Sonneberg West E - SG Römh./Mendhausen 
 E
END:VEVENT
BEGIN:VEVENT
UID:20260425T221317CEST-56496huzn7@85.13.129.106
DTSTAMP:20260425T201317Z
DESCRIPTION:
DTSTART;TZID=Europe/Amsterdam:20140329T103000
DTEND;TZID=Europe/Amsterdam:20140329T121500
LOCATION:
SUMMARY:13/14 E-Jun. KOL: SG Römh./Mendhausen E - SG Steinach E2
END:VEVENT
BEGIN:VEVENT
UID:20260425T221317CEST-5653j5ZcoX@85.13.129.106
DTSTAMP:20260425T201317Z
DESCRIPTION:Schalkau
DTSTART;TZID=Europe/Amsterdam:20140405T103000
DTEND;TZID=Europe/Amsterdam:20140405T121500
LOCATION:Katzberger Straße 6\n96528 Schalkau\, 96528 Schalkau
SUMMARY:13/14 E-Jun. KOL: FC-BW Schalkau E - SG Römh./Mendhausen E
END:VEVENT
BEGIN:VEVENT
UID:20260425T221317CEST-5657B3rgDf@85.13.129.106
DTSTAMP:20260425T201317Z
DESCRIPTION:Schalkau
DTSTART;TZID=Europe/Amsterdam:20140413T103000
DTEND;TZID=Europe/Amsterdam:20140413T121500
LOCATION:Katzberger Straße 6\n96528 Schalkau\, 96528 Schalkau
SUMMARY:13/14 E-Jun. KOL: SG 1951 Sonneberg E - SG Römh./Mendhausen E
END:VEVENT
BEGIN:VEVENT
UID:20260425T221317CEST-5661ncfAhU@85.13.129.106
DTSTAMP:20260425T201317Z
DESCRIPTION:Schalkau
DTSTART;TZID=Europe/Amsterdam:20140501T103000
DTEND;TZID=Europe/Amsterdam:20140501T121500
LOCATION:Katzberger Straße 6\n96528 Schalkau\, 96528 Schalkau
SUMMARY:13/14 E-Jun. KOL: SG Römh./Mendhausen E - SV EK Veilsdorf E
END:VEVENT
BEGIN:VEVENT
UID:20260425T221317CEST-5665vNIUTR@85.13.129.106
DTSTAMP:20260425T201317Z
DESCRIPTION:Schalkau
DTSTART;TZID=Europe/Amsterdam:20140504T103000
DTEND;TZID=Europe/Amsterdam:20140504T121500
LOCATION:Katzberger Straße 6\n96528 Schalkau\, 96528 Schalkau
SUMMARY:13/14 E-Jun. KOL: SG Römh./Mendhausen E - SV Iso. Neuhaus Schiersch
 nitz E
END:VEVENT
BEGIN:VEVENT
UID:20260425T221317CEST-56707R7Z4X@85.13.129.106
DTSTAMP:20260425T201317Z
DESCRIPTION:Schalkau
DTSTART;TZID=Europe/Amsterdam:20140511T103000
DTEND;TZID=Europe/Amsterdam:20140511T121500
LOCATION:Katzberger Straße 6\n96528 Schalkau\, 96528 Schalkau
SUMMARY:13/14 E-Jun. KOL: SG Römh./Mendhausen E - SG Waldau E
END:VEVENT
BEGIN:VEVENT
UID:20260425T221317CEST-5674p47UvZ@85.13.129.106
DTSTAMP:20260425T201317Z
DESCRIPTION:Schalkau
DTSTART;TZID=Europe/Amsterdam:20140514T180000
DTEND;TZID=Europe/Amsterdam:20140514T194500
LOCATION:Katzberger Straße 6\n96528 Schalkau\, 96528 Schalkau
SUMMARY:13/14 E-Jun. KOL: SG Römh./Mendhausen E - SV Empor 90 Eishausen E
END:VEVENT
BEGIN:VEVENT
UID:20260425T221317CEST-5678AHwooX@85.13.129.106
DTSTAMP:20260425T201317Z
DESCRIPTION:Schalkau
DTSTART;TZID=Europe/Amsterdam:20140524T103000
DTEND;TZID=Europe/Amsterdam:20140524T121500
LOCATION:Katzberger Straße 6\n96528 Schalkau\, 96528 Schalkau
SUMMARY:13/14 E-Jun. KOL: SG Römh./Mendhausen E - TSV Germ. Sonneberg West 
 E
END:VEVENT
BEGIN:VEVENT
UID:20260425T221317CEST-5682nRCGpS@85.13.129.106
DTSTAMP:20260425T201317Z
DESCRIPTION:Schalkau
DTSTART;TZID=Europe/Amsterdam:20140531T103000
DTEND;TZID=Europe/Amsterdam:20140531T121500
LOCATION:Katzberger Straße 6\n96528 Schalkau\, 96528 Schalkau
SUMMARY:13/14 E-Jun. KOL: SG Steinach E2 - SG Römh./Mendhausen E
END:VEVENT
BEGIN:VEVENT
UID:20260425T221317CEST-5686JlzkCm@85.13.129.106
DTSTAMP:20260425T201317Z
DESCRIPTION:Schalkau
DTSTART;TZID=Europe/Amsterdam:20140614T140000
DTEND;TZID=Europe/Amsterdam:20140614T154500
LOCATION:Katzberger Straße 6\n96528 Schalkau\, 96528 Schalkau
SUMMARY:13/14 E-Jun. KOL: SG Römh./Mendhausen E - FC-BW Schalkau E
END:VEVENT
BEGIN:VEVENT
UID:20260425T221317CEST-5690wCDJVX@85.13.129.106
DTSTAMP:20260425T201317Z
DESCRIPTION:Schalkau
DTSTART;TZID=Europe/Amsterdam:20140621T103000
DTEND;TZID=Europe/Amsterdam:20140621T121500
LOCATION:Katzberger Straße 6\n96528 Schalkau\, 96528 Schalkau
SUMMARY:13/14 E-Jun. KOL: SG Römh./Mendhausen E - SG 1951 Sonneberg E
END:VEVENT
BEGIN:VEVENT
UID:20260425T221317CEST-56958WfE9C@85.13.129.106
DTSTAMP:20260425T201317Z
DESCRIPTION:Schalkau
DTSTART;TZID=Europe/Amsterdam:20140629T103000
DTEND;TZID=Europe/Amsterdam:20140629T121500
LOCATION:Katzberger Straße 6\n96528 Schalkau\, 96528 Schalkau
SUMMARY:13/14 E-Jun. KOL: SV EK Veilsdorf E - SG Römh./Mendhausen E
END:VEVENT
END:VCALENDAR
