BEGIN:VCALENDAR
VERSION:2.0
PRODID:-//85.13.129.106//NONSGML kigkonsult.se iCalcreator 2.10.23//
BEGIN:VEVENT
UID:20260424T095055CEST-3560V3TdPB@85.13.129.106
DTSTAMP:20260424T075055Z
DESCRIPTION:
DTSTART;TZID=Europe/Berlin:20180819T120000
DTEND;TZID=Europe/Berlin:20180819T124500
LOCATION:
SUMMARY:18/19 E-Jun. Kreispokal: Freilos - 1. FC Sonneberg 04 E
END:VEVENT
BEGIN:VEVENT
UID:20260424T095055CEST-3564lPraUk@85.13.129.106
DTSTAMP:20260424T075055Z
DESCRIPTION:
DTSTART;TZID=Europe/Berlin:20180819T120000
DTEND;TZID=Europe/Berlin:20180819T124500
LOCATION:
SUMMARY:18/19 E-Jun. Kreispokal: Freilos - SG Häselrieth/Reurieth E
END:VEVENT
BEGIN:VEVENT
UID:20260424T095055CEST-3568aUCSbf@85.13.129.106
DTSTAMP:20260424T075055Z
DESCRIPTION:
DTSTART;TZID=Europe/Berlin:20180819T120000
DTEND;TZID=Europe/Berlin:20180819T124500
LOCATION:
SUMMARY:18/19 E-Jun. Kreispokal: Freilos - TSV Blau-Weiss Bedheim E
END:VEVENT
BEGIN:VEVENT
UID:20260424T095055CEST-3572WHMsJ0@85.13.129.106
DTSTAMP:20260424T075055Z
DESCRIPTION:
DTSTART;TZID=Europe/Berlin:20180819T120000
DTEND;TZID=Europe/Berlin:20180819T124500
LOCATION:
SUMMARY:18/19 E-Jun. Kreispokal: Freilos - SG Milz/Haina E
END:VEVENT
BEGIN:VEVENT
UID:20260424T095055CEST-3576lBhDUJ@85.13.129.106
DTSTAMP:20260424T075055Z
DESCRIPTION:
DTSTART;TZID=Europe/Berlin:20180819T120000
DTEND;TZID=Europe/Berlin:20180819T124500
LOCATION:
SUMMARY:18/19 E-Jun. Kreispokal: Freilos - FSV 06 Eintr. Hildburghausen E
END:VEVENT
BEGIN:VEVENT
UID:20260424T095055CEST-3580vPNmXc@85.13.129.106
DTSTAMP:20260424T075055Z
DESCRIPTION:
DTSTART;TZID=Europe/Berlin:20180819T120000
DTEND;TZID=Europe/Berlin:20180819T124500
LOCATION:
SUMMARY:18/19 E-Jun. Kreispokal: Freilos - SV 08 Steinach E
END:VEVENT
BEGIN:VEVENT
UID:20260424T095055CEST-3583O5T8vv@85.13.129.106
DTSTAMP:20260424T075055Z
DESCRIPTION:
DTSTART;TZID=Europe/Berlin:20180819T120000
DTEND;TZID=Europe/Berlin:20180819T124500
LOCATION:
SUMMARY:18/19 E-Jun. Kreispokal: Freilos - SV EK Veilsdorf E
END:VEVENT
BEGIN:VEVENT
UID:20260424T095055CEST-3587Xv3mc7@85.13.129.106
DTSTAMP:20260424T075055Z
DESCRIPTION:
DTSTART;TZID=Europe/Berlin:20180819T120000
DTEND;TZID=Europe/Berlin:20180819T124500
LOCATION:
SUMMARY:18/19 E-Jun. Kreispokal: Freilos - SV Falke Sachsenbrunn E
END:VEVENT
BEGIN:VEVENT
UID:20260424T095055CEST-3591dnfn9u@85.13.129.106
DTSTAMP:20260424T075055Z
DESCRIPTION:
DTSTART;TZID=Europe/Berlin:20180819T120000
DTEND;TZID=Europe/Berlin:20180819T124500
LOCATION:
SUMMARY:18/19 E-Jun. Kreispokal: Freilos - TSV 1911 Themar E
END:VEVENT
BEGIN:VEVENT
UID:20260424T095055CEST-3595c1gfOI@85.13.129.106
DTSTAMP:20260424T075055Z
DESCRIPTION:
DTSTART;TZID=Europe/Berlin:20180819T120000
DTEND;TZID=Europe/Berlin:20180819T124500
LOCATION:
SUMMARY:18/19 E-Jun. Kreispokal: Freilos - SG Römhild E2
END:VEVENT
END:VCALENDAR
