BEGIN:VCALENDAR
VERSION:2.0
PRODID:-//85.13.129.106//NONSGML kigkonsult.se iCalcreator 2.10.23//
BEGIN:VEVENT
UID:20260421T054954CEST-6322ZWcVRu@85.13.129.106
DTSTAMP:20260421T034954Z
DESCRIPTION:
DTSTART;TZID=Europe/Berlin:20171022T103000
DTEND;TZID=Europe/Berlin:20171022T121500
LOCATION:
SUMMARY:17/18 E1-Jun. KOL: SG Lauscha/Neuhaus E - SV 03 Eisfeld E
END:VEVENT
BEGIN:VEVENT
UID:20260421T054954CEST-6327aNeeCh@85.13.129.106
DTSTAMP:20260421T034954Z
DESCRIPTION:
DTSTART;TZID=Europe/Berlin:20171028T093000
DTEND;TZID=Europe/Berlin:20171028T111500
LOCATION:
SUMMARY:17/18 E1-Jun. KOL: SV 03 Eisfeld E - SG Schalkau/Effelder E
END:VEVENT
BEGIN:VEVENT
UID:20260421T054954CEST-6332S4zEMX@85.13.129.106
DTSTAMP:20260421T034954Z
DESCRIPTION:
DTSTART;TZID=Europe/Berlin:20171104T140000
DTEND;TZID=Europe/Berlin:20171104T154500
LOCATION:
SUMMARY:17/18 E1-Jun. KOL: SV Empor 90 Eishausen E - SV 03 Eisfeld E
END:VEVENT
BEGIN:VEVENT
UID:20260421T054954CEST-6336z2UOfC@85.13.129.106
DTSTAMP:20260421T034954Z
DESCRIPTION:
DTSTART;TZID=Europe/Berlin:20180324T103000
DTEND;TZID=Europe/Berlin:20180324T121500
LOCATION:
SUMMARY:17/18 E1-Jun. KOL: SV 03 Eisfeld E - SV Eintracht Heldburg E
END:VEVENT
BEGIN:VEVENT
UID:20260421T054954CEST-6340ROIwz1@85.13.129.106
DTSTAMP:20260421T034954Z
DESCRIPTION:
DTSTART;TZID=Europe/Berlin:20180406T170000
DTEND;TZID=Europe/Berlin:20180406T184500
LOCATION:
SUMMARY:17/18 E1-Jun. KOL: FSV 06 Eintr. Hildburghausen E - SV 03 Eisfeld E
END:VEVENT
BEGIN:VEVENT
UID:20260421T054954CEST-6345IgpndV@85.13.129.106
DTSTAMP:20260421T034954Z
DESCRIPTION:
DTSTART;TZID=Europe/Berlin:20180414T103000
DTEND;TZID=Europe/Berlin:20180414T121500
LOCATION:
SUMMARY:17/18 E1-Jun. KOL: SV 03 Eisfeld E - 1. FC Sonneberg 04 E
END:VEVENT
BEGIN:VEVENT
UID:20260421T054954CEST-6349MiPNmE@85.13.129.106
DTSTAMP:20260421T034954Z
DESCRIPTION:
DTSTART;TZID=Europe/Berlin:20180421T103000
DTEND;TZID=Europe/Berlin:20180421T121500
LOCATION:
SUMMARY:17/18 E1-Jun. KOL: TSV 1911 Themar E - SV 03 Eisfeld E
END:VEVENT
BEGIN:VEVENT
UID:20260421T054954CEST-6353NpD5pb@85.13.129.106
DTSTAMP:20260421T034954Z
DESCRIPTION:
DTSTART;TZID=Europe/Berlin:20180428T103000
DTEND;TZID=Europe/Berlin:20180428T121500
LOCATION:
SUMMARY:17/18 E1-Jun. KOL: SV 03 Eisfeld E - SG Lauscha/Neuhaus E
END:VEVENT
BEGIN:VEVENT
UID:20260421T054954CEST-63589H8k4o@85.13.129.106
DTSTAMP:20260421T034954Z
DESCRIPTION:Schalkau
DTSTART;TZID=Europe/Berlin:20180505T103000
DTEND;TZID=Europe/Berlin:20180505T121500
LOCATION:Katzberger Straße 6\n96528 Schalkau\, 96528 Schalkau
SUMMARY:17/18 E1-Jun. KOL: SG Schalkau/Effelder E - SV 03 Eisfeld E
END:VEVENT
BEGIN:VEVENT
UID:20260421T054954CEST-6362vrzm0X@85.13.129.106
DTSTAMP:20260421T034954Z
DESCRIPTION:Schalkau
DTSTART;TZID=Europe/Berlin:20180509T180000
DTEND;TZID=Europe/Berlin:20180509T194500
LOCATION:Katzberger Straße 6\n96528 Schalkau\, 96528 Schalkau
SUMMARY:17/18 E1-Jun. KOL: SV 03 Eisfeld E - SV Empor 90 Eishausen E
END:VEVENT
BEGIN:VEVENT
UID:20260421T054954CEST-6366JfB0eZ@85.13.129.106
DTSTAMP:20260421T034954Z
DESCRIPTION:Schalkau
DTSTART;TZID=Europe/Berlin:20180512T103000
DTEND;TZID=Europe/Berlin:20180512T121500
LOCATION:Katzberger Straße 6\n96528 Schalkau\, 96528 Schalkau
SUMMARY:17/18 E1-Jun. KOL: SV Eintracht Heldburg E - SV 03 Eisfeld E
END:VEVENT
BEGIN:VEVENT
UID:20260421T054954CEST-6371nGgFOo@85.13.129.106
DTSTAMP:20260421T034954Z
DESCRIPTION:Schalkau
DTSTART;TZID=Europe/Berlin:20180526T103000
DTEND;TZID=Europe/Berlin:20180526T121500
LOCATION:Katzberger Straße 6\n96528 Schalkau\, 96528 Schalkau
SUMMARY:17/18 E1-Jun. KOL: SV 03 Eisfeld E - FSV 06 Eintr. Hildburghausen E
END:VEVENT
BEGIN:VEVENT
UID:20260421T054954CEST-6375UDGm4h@85.13.129.106
DTSTAMP:20260421T034954Z
DESCRIPTION:Schalkau
DTSTART;TZID=Europe/Berlin:20180609T103000
DTEND;TZID=Europe/Berlin:20180609T121500
LOCATION:Katzberger Straße 6\n96528 Schalkau\, 96528 Schalkau
SUMMARY:17/18 E1-Jun. KOL: 1. FC Sonneberg 04 E - SV 03 Eisfeld E
END:VEVENT
BEGIN:VEVENT
UID:20260421T054954CEST-6379GnXzKw@85.13.129.106
DTSTAMP:20260421T034954Z
DESCRIPTION:Schalkau
DTSTART;TZID=Europe/Berlin:20180616T103000
DTEND;TZID=Europe/Berlin:20180616T121500
LOCATION:Katzberger Straße 6\n96528 Schalkau\, 96528 Schalkau
SUMMARY:17/18 E1-Jun. KOL: SV 03 Eisfeld E - TSV 1911 Themar E
END:VEVENT
END:VCALENDAR
