BEGIN:VCALENDAR
VERSION:2.0
PRODID:-//85.13.129.106//NONSGML kigkonsult.se iCalcreator 2.10.23//
BEGIN:VEVENT
UID:20260422T044427CEST-8384SiZbaU@85.13.129.106
DTSTAMP:20260422T024427Z
DESCRIPTION:
DTSTART;TZID=Europe/Berlin:20171021T133000
DTEND;TZID=Europe/Berlin:20171021T151500
LOCATION:
SUMMARY:17/18 E1-Jun. KOL: SV Empor 90 Eishausen E - 1. FC Sonneberg 04 E
END:VEVENT
BEGIN:VEVENT
UID:20260422T044427CEST-8389Uiwhed@85.13.129.106
DTSTAMP:20260422T024427Z
DESCRIPTION:
DTSTART;TZID=Europe/Berlin:20171028T103000
DTEND;TZID=Europe/Berlin:20171028T121500
LOCATION:
SUMMARY:17/18 E1-Jun. KOL: 1. FC Sonneberg 04 E - SV Eintracht Heldburg E
END:VEVENT
BEGIN:VEVENT
UID:20260422T044427CEST-83937G9FLi@85.13.129.106
DTSTAMP:20260422T024427Z
DESCRIPTION:
DTSTART;TZID=Europe/Berlin:20171103T180000
DTEND;TZID=Europe/Berlin:20171103T194500
LOCATION:
SUMMARY:17/18 E1-Jun. KOL: FSV 06 Eintr. Hildburghausen E - 1. FC Sonneberg
  04 E
END:VEVENT
BEGIN:VEVENT
UID:20260422T044427CEST-8398BVlVd3@85.13.129.106
DTSTAMP:20260422T024427Z
DESCRIPTION:
DTSTART;TZID=Europe/Berlin:20180324T103000
DTEND;TZID=Europe/Berlin:20180324T121500
LOCATION:
SUMMARY:17/18 E1-Jun. KOL: 1. FC Sonneberg 04 E - SG Lauscha/Neuhaus E
END:VEVENT
BEGIN:VEVENT
UID:20260422T044427CEST-8402K8vp4v@85.13.129.106
DTSTAMP:20260422T024427Z
DESCRIPTION:
DTSTART;TZID=Europe/Berlin:20180408T103000
DTEND;TZID=Europe/Berlin:20180408T121500
LOCATION:
SUMMARY:17/18 E1-Jun. KOL: 1. FC Sonneberg 04 E - TSV 1911 Themar E
END:VEVENT
BEGIN:VEVENT
UID:20260422T044427CEST-8407Gn5Euo@85.13.129.106
DTSTAMP:20260422T024427Z
DESCRIPTION:
DTSTART;TZID=Europe/Berlin:20180414T103000
DTEND;TZID=Europe/Berlin:20180414T121500
LOCATION:
SUMMARY:17/18 E1-Jun. KOL: SV 03 Eisfeld E - 1. FC Sonneberg 04 E
END:VEVENT
BEGIN:VEVENT
UID:20260422T044427CEST-8411s7UR5d@85.13.129.106
DTSTAMP:20260422T024427Z
DESCRIPTION:
DTSTART;TZID=Europe/Berlin:20180421T103000
DTEND;TZID=Europe/Berlin:20180421T121500
LOCATION:
SUMMARY:17/18 E1-Jun. KOL: 1. FC Sonneberg 04 E - SG Schalkau/Effelder E
END:VEVENT
BEGIN:VEVENT
UID:20260422T044427CEST-8416z3xVGk@85.13.129.106
DTSTAMP:20260422T024427Z
DESCRIPTION:
DTSTART;TZID=Europe/Berlin:20180428T103000
DTEND;TZID=Europe/Berlin:20180428T121500
LOCATION:
SUMMARY:17/18 E1-Jun. KOL: 1. FC Sonneberg 04 E - SV Empor 90 Eishausen E
END:VEVENT
BEGIN:VEVENT
UID:20260422T044427CEST-8420UHmUnA@85.13.129.106
DTSTAMP:20260422T024427Z
DESCRIPTION:
DTSTART;TZID=Europe/Berlin:20180505T103000
DTEND;TZID=Europe/Berlin:20180505T121500
LOCATION:
SUMMARY:17/18 E1-Jun. KOL: SV Eintracht Heldburg E - 1. FC Sonneberg 04 E
END:VEVENT
BEGIN:VEVENT
UID:20260422T044427CEST-8425Cb9a6E@85.13.129.106
DTSTAMP:20260422T024427Z
DESCRIPTION:
DTSTART;TZID=Europe/Berlin:20180509T180000
DTEND;TZID=Europe/Berlin:20180509T194500
LOCATION:
SUMMARY:17/18 E1-Jun. KOL: 1. FC Sonneberg 04 E - FSV 06 Eintr. Hildburghau
 sen E
END:VEVENT
BEGIN:VEVENT
UID:20260422T044427CEST-8429AuejAC@85.13.129.106
DTSTAMP:20260422T024427Z
DESCRIPTION:
DTSTART;TZID=Europe/Berlin:20180512T103000
DTEND;TZID=Europe/Berlin:20180512T121500
LOCATION:
SUMMARY:17/18 E1-Jun. KOL: SG Lauscha/Neuhaus E - 1. FC Sonneberg 04 E
END:VEVENT
BEGIN:VEVENT
UID:20260422T044427CEST-8433RvDlgN@85.13.129.106
DTSTAMP:20260422T024427Z
DESCRIPTION:
DTSTART;TZID=Europe/Berlin:20180527T103000
DTEND;TZID=Europe/Berlin:20180527T121500
LOCATION:
SUMMARY:17/18 E1-Jun. KOL: TSV 1911 Themar E - 1. FC Sonneberg 04 E
END:VEVENT
BEGIN:VEVENT
UID:20260422T044427CEST-8438xs0egU@85.13.129.106
DTSTAMP:20260422T024427Z
DESCRIPTION:
DTSTART;TZID=Europe/Berlin:20180609T103000
DTEND;TZID=Europe/Berlin:20180609T121500
LOCATION:
SUMMARY:17/18 E1-Jun. KOL: 1. FC Sonneberg 04 E - SV 03 Eisfeld E
END:VEVENT
BEGIN:VEVENT
UID:20260422T044427CEST-8442uGil2H@85.13.129.106
DTSTAMP:20260422T024427Z
DESCRIPTION:Schalkau
DTSTART;TZID=Europe/Berlin:20180616T103000
DTEND;TZID=Europe/Berlin:20180616T121500
LOCATION:Katzberger Straße 6\n96528 Schalkau\, 96528 Schalkau
SUMMARY:17/18 E1-Jun. KOL: SG Schalkau/Effelder E - 1. FC Sonneberg 04 E
END:VEVENT
END:VCALENDAR
