BEGIN:VCALENDAR
VERSION:2.0
PRODID:-//85.13.129.106//NONSGML kigkonsult.se iCalcreator 2.10.23//
BEGIN:VEVENT
UID:20260421T000511CEST-0236G4L1IC@85.13.129.106
DTSTAMP:20260420T220511Z
DESCRIPTION:
DTSTART;TZID=Europe/Berlin:20161025T173000
DTEND;TZID=Europe/Berlin:20161025T191500
LOCATION:
SUMMARY:16/17 E-Jun. KOL: SV Falke Sachsenbrunn E - SV Eintracht Oberland E
END:VEVENT
BEGIN:VEVENT
UID:20260421T000511CEST-02418ZESdN@85.13.129.106
DTSTAMP:20260420T220511Z
DESCRIPTION:
DTSTART;TZID=Europe/Berlin:20161102T173000
DTEND;TZID=Europe/Berlin:20161102T191500
LOCATION:
SUMMARY:16/17 E-Jun. KOL: SV Falke Sachsenbrunn E - SG Schalkau/Effelder E
END:VEVENT
BEGIN:VEVENT
UID:20260421T000511CEST-0245stnb3M@85.13.129.106
DTSTAMP:20260420T220511Z
DESCRIPTION:
DTSTART;TZID=Europe/Berlin:20161108T170000
DTEND;TZID=Europe/Berlin:20161108T184500
LOCATION:
SUMMARY:16/17 E-Jun. KOL: 1. FC Sonneberg 04 E - SV Falke Sachsenbrunn E
END:VEVENT
BEGIN:VEVENT
UID:20260421T000511CEST-0250jRUVX1@85.13.129.106
DTSTAMP:20260420T220511Z
DESCRIPTION:
DTSTART;TZID=Europe/Berlin:20161104T173000
DTEND;TZID=Europe/Berlin:20161104T191500
LOCATION:
SUMMARY:16/17 E-Jun. KOL: SV Falke Sachsenbrunn E - FSV 06 Eintr. Hildburgh
 ausen E
END:VEVENT
BEGIN:VEVENT
UID:20260421T000511CEST-0254abKEUe@85.13.129.106
DTSTAMP:20260420T220511Z
DESCRIPTION:
DTSTART;TZID=Europe/Berlin:20170325T103000
DTEND;TZID=Europe/Berlin:20170325T121500
LOCATION:
SUMMARY:16/17 E-Jun. KOL: SV Empor 90 Eishausen E - SV Falke Sachsenbrunn E
END:VEVENT
BEGIN:VEVENT
UID:20260421T000511CEST-02596amlNU@85.13.129.106
DTSTAMP:20260420T220511Z
DESCRIPTION:
DTSTART;TZID=Europe/Berlin:20170401T103000
DTEND;TZID=Europe/Berlin:20170401T121500
LOCATION:
SUMMARY:16/17 E-Jun. KOL: SC 07 Schleusingen E - SV Falke Sachsenbrunn E
END:VEVENT
BEGIN:VEVENT
UID:20260421T000511CEST-0263lvEl8a@85.13.129.106
DTSTAMP:20260420T220511Z
DESCRIPTION:
DTSTART;TZID=Europe/Berlin:20170503T180000
DTEND;TZID=Europe/Berlin:20170503T194500
LOCATION:
SUMMARY:16/17 E-Jun. KOL: SV 08 Steinach E - SV Falke Sachsenbrunn E
END:VEVENT
BEGIN:VEVENT
UID:20260421T000511CEST-0267U78ehE@85.13.129.106
DTSTAMP:20260420T220511Z
DESCRIPTION:
DTSTART;TZID=Europe/Berlin:20170428T173000
DTEND;TZID=Europe/Berlin:20170428T191500
LOCATION:
SUMMARY:16/17 E-Jun. KOL: SV Eintracht Oberland E - SV Falke Sachsenbrunn E
END:VEVENT
BEGIN:VEVENT
UID:20260421T000511CEST-0272vakJfO@85.13.129.106
DTSTAMP:20260420T220511Z
DESCRIPTION:Schalkau
DTSTART;TZID=Europe/Berlin:20170506T103000
DTEND;TZID=Europe/Berlin:20170506T121500
LOCATION:Katzberger Straße 6\n96528 Schalkau\, 96528 Schalkau
SUMMARY:16/17 E-Jun. KOL: SG Schalkau/Effelder E - SV Falke Sachsenbrunn E
END:VEVENT
BEGIN:VEVENT
UID:20260421T000511CEST-0276RGVIJx@85.13.129.106
DTSTAMP:20260420T220511Z
DESCRIPTION:Schalkau
DTSTART;TZID=Europe/Berlin:20170509T180000
DTEND;TZID=Europe/Berlin:20170509T194500
LOCATION:Katzberger Straße 6\n96528 Schalkau\, 96528 Schalkau
SUMMARY:16/17 E-Jun. KOL: SV Falke Sachsenbrunn E - 1. FC Sonneberg 04 E
END:VEVENT
BEGIN:VEVENT
UID:20260421T000511CEST-02803ofxoB@85.13.129.106
DTSTAMP:20260420T220511Z
DESCRIPTION:Schalkau
DTSTART;TZID=Europe/Berlin:20170513T103000
DTEND;TZID=Europe/Berlin:20170513T121500
LOCATION:Katzberger Straße 6\n96528 Schalkau\, 96528 Schalkau
SUMMARY:16/17 E-Jun. KOL: FSV 06 Eintr. Hildburghausen E - SV Falke Sachsen
 brunn E
END:VEVENT
BEGIN:VEVENT
UID:20260421T000511CEST-02859TuXZt@85.13.129.106
DTSTAMP:20260420T220511Z
DESCRIPTION:Schalkau
DTSTART;TZID=Europe/Berlin:20170521T103000
DTEND;TZID=Europe/Berlin:20170521T121500
LOCATION:Katzberger Straße 6\n96528 Schalkau\, 96528 Schalkau
SUMMARY:16/17 E-Jun. KOL: SV Falke Sachsenbrunn E - SV Empor 90 Eishausen E
END:VEVENT
BEGIN:VEVENT
UID:20260421T000511CEST-0289KVrVEg@85.13.129.106
DTSTAMP:20260420T220511Z
DESCRIPTION:Schalkau
DTSTART;TZID=Europe/Berlin:20170526T173000
DTEND;TZID=Europe/Berlin:20170526T191500
LOCATION:Katzberger Straße 6\n96528 Schalkau\, 96528 Schalkau
SUMMARY:16/17 E-Jun. KOL: SV Falke Sachsenbrunn E - SC 07 Schleusingen E
END:VEVENT
BEGIN:VEVENT
UID:20260421T000511CEST-0294oj8oir@85.13.129.106
DTSTAMP:20260420T220511Z
DESCRIPTION:Schalkau
DTSTART;TZID=Europe/Berlin:20170610T103000
DTEND;TZID=Europe/Berlin:20170610T121500
LOCATION:Katzberger Straße 6\n96528 Schalkau\, 96528 Schalkau
SUMMARY:16/17 E-Jun. KOL: SV Falke Sachsenbrunn E - SV 08 Steinach E
END:VEVENT
END:VCALENDAR
