BEGIN:VCALENDAR
VERSION:2.0
PRODID:-//85.13.129.106//NONSGML kigkonsult.se iCalcreator 2.10.23//
BEGIN:VEVENT
UID:20260420T042648CEST-1466vaIfUF@85.13.129.106
DTSTAMP:20260420T022648Z
DESCRIPTION:
DTSTART;TZID=Europe/Berlin:20151025T103000
DTEND;TZID=Europe/Berlin:20151025T121500
LOCATION:
SUMMARY:15/16 E-Jun. 1.KKl: SV 03 Eisfeld E - SV Iso. Neuhaus Schierschnitz
  E2
END:VEVENT
BEGIN:VEVENT
UID:20260420T042648CEST-1471WJ1uEg@85.13.129.106
DTSTAMP:20260420T022648Z
DESCRIPTION:
DTSTART;TZID=Europe/Berlin:20151030T170000
DTEND;TZID=Europe/Berlin:20151030T184500
LOCATION:
SUMMARY:15/16 E-Jun. 1.KKl: SV Iso. Neuhaus Schierschnitz E2 - SV Iso. Neuh
 aus Schierschnitz E
END:VEVENT
BEGIN:VEVENT
UID:20260420T042648CEST-1475fvuTOX@85.13.129.106
DTSTAMP:20260420T022648Z
DESCRIPTION:
DTSTART;TZID=Europe/Berlin:20160409T170000
DTEND;TZID=Europe/Berlin:20160409T184500
LOCATION:
SUMMARY:15/16 E-Jun. 1.KKl: TSV Germ. Hellingen E - SV Iso. Neuhaus Schiers
 chnitz E2
END:VEVENT
BEGIN:VEVENT
UID:20260420T042648CEST-1480rUb9jZ@85.13.129.106
DTSTAMP:20260420T022648Z
DESCRIPTION:
DTSTART;TZID=Europe/Berlin:20160502T173000
DTEND;TZID=Europe/Berlin:20160502T191500
LOCATION:
SUMMARY:15/16 E-Jun. 1.KKl: SV Iso. Neuhaus Schierschnitz E2 - SC 07 Schleu
 singen E2
END:VEVENT
BEGIN:VEVENT
UID:20260420T042648CEST-1484fxR3wS@85.13.129.106
DTSTAMP:20260420T022648Z
DESCRIPTION:
DTSTART;TZID=Europe/Berlin:20160517T180000
DTEND;TZID=Europe/Berlin:20160517T194500
LOCATION:
SUMMARY:15/16 E-Jun. 1.KKl: SV Schleusegrund Schönbrunn E - SV Iso. Neuhaus
  Schierschnitz E2
END:VEVENT
BEGIN:VEVENT
UID:20260420T042648CEST-1488B54LvE@85.13.129.106
DTSTAMP:20260420T022648Z
DESCRIPTION:
DTSTART;TZID=Europe/Berlin:20160514T103000
DTEND;TZID=Europe/Berlin:20160514T121500
LOCATION:
SUMMARY:15/16 E-Jun. 1.KKl: SV Iso. Neuhaus Schierschnitz E2 - SG Mendhause
 n/Römhild E
END:VEVENT
BEGIN:VEVENT
UID:20260420T042648CEST-1493FiXplR@85.13.129.106
DTSTAMP:20260420T022648Z
DESCRIPTION:
DTSTART;TZID=Europe/Berlin:20160520T173000
DTEND;TZID=Europe/Berlin:20160520T191500
LOCATION:
SUMMARY:15/16 E-Jun. 1.KKl: SV Iso. Neuhaus Schierschnitz E2 - SV 07 Häselr
 ieth E
END:VEVENT
BEGIN:VEVENT
UID:20260420T042648CEST-1497BXvlKt@85.13.129.106
DTSTAMP:20260420T022648Z
DESCRIPTION:
DTSTART;TZID=Europe/Berlin:20160529T103000
DTEND;TZID=Europe/Berlin:20160529T121500
LOCATION:
SUMMARY:15/16 E-Jun. 1.KKl: SG Effelder/Schalkau E - SV Iso. Neuhaus Schier
 schnitz E2
END:VEVENT
BEGIN:VEVENT
UID:20260420T042648CEST-1501BN7GM4@85.13.129.106
DTSTAMP:20260420T022648Z
DESCRIPTION:
DTSTART;TZID=Europe/Berlin:20160604T103000
DTEND;TZID=Europe/Berlin:20160604T121500
LOCATION:
SUMMARY:15/16 E-Jun. 1.KKl: SV Eintracht Oberland E - SV Iso. Neuhaus Schie
 rschnitz E2
END:VEVENT
END:VCALENDAR
