BEGIN:VCALENDAR
VERSION:2.0
PRODID:-//85.13.129.106//NONSGML kigkonsult.se iCalcreator 2.10.23//
BEGIN:VEVENT
UID:20260421T094136CEST-9241UxxE2P@85.13.129.106
DTSTAMP:20260421T074136Z
DESCRIPTION:
DTSTART;TZID=Europe/Berlin:20180818T103000
DTEND;TZID=Europe/Berlin:20180818T121500
LOCATION:
SUMMARY:18/19 D-Jun. VL: 1. FC Sonneberg 04 D - FSV Ulstertal Geisa 1866 D
END:VEVENT
BEGIN:VEVENT
UID:20260421T094136CEST-9246lZ770R@85.13.129.106
DTSTAMP:20260421T074136Z
DESCRIPTION:
DTSTART;TZID=Europe/Berlin:20180825T103000
DTEND;TZID=Europe/Berlin:20180825T121500
LOCATION:
SUMMARY:18/19 D-Jun. VL: FSV Ulstertal Geisa 1866 D - SG SpG Helba D
END:VEVENT
BEGIN:VEVENT
UID:20260421T094136CEST-925020bxVR@85.13.129.106
DTSTAMP:20260421T074136Z
DESCRIPTION:
DTSTART;TZID=Europe/Berlin:20180901T103000
DTEND;TZID=Europe/Berlin:20180901T121500
LOCATION:
SUMMARY:18/19 D-Jun. VL: SV Wacker 04 Bad Salzungen D - FSV Ulstertal Geisa
  1866 D
END:VEVENT
BEGIN:VEVENT
UID:20260421T094136CEST-9254824TUp@85.13.129.106
DTSTAMP:20260421T074136Z
DESCRIPTION:
DTSTART;TZID=Europe/Berlin:20180908T103000
DTEND;TZID=Europe/Berlin:20180908T121500
LOCATION:
SUMMARY:18/19 D-Jun. VL: FSV Ulstertal Geisa 1866 D - 1. Suhler SV 06 D
END:VEVENT
BEGIN:VEVENT
UID:20260421T094136CEST-92594VtKLp@85.13.129.106
DTSTAMP:20260421T074136Z
DESCRIPTION:
DTSTART;TZID=Europe/Berlin:20180930T113000
DTEND;TZID=Europe/Berlin:20180930T131500
LOCATION:
SUMMARY:18/19 D-Jun. VL: spielfrei - FSV Ulstertal Geisa 1866 D
END:VEVENT
BEGIN:VEVENT
UID:20260421T094136CEST-9263pCLHci@85.13.129.106
DTSTAMP:20260421T074136Z
DESCRIPTION:
DTSTART;TZID=Europe/Berlin:20181020T103000
DTEND;TZID=Europe/Berlin:20181020T121500
LOCATION:
SUMMARY:18/19 D-Jun. VL: SG Effelder/Schalkau D - FSV Ulstertal Geisa 1866 
 D
END:VEVENT
BEGIN:VEVENT
UID:20260421T094136CEST-9267IVRoN2@85.13.129.106
DTSTAMP:20260421T074136Z
DESCRIPTION:
DTSTART;TZID=Europe/Berlin:20181027T103000
DTEND;TZID=Europe/Berlin:20181027T121500
LOCATION:
SUMMARY:18/19 D-Jun. VL: FSV Ulstertal Geisa 1866 D - FSV Martinroda D
END:VEVENT
BEGIN:VEVENT
UID:20260421T094136CEST-9272paoP9K@85.13.129.106
DTSTAMP:20260421T074136Z
DESCRIPTION:
DTSTART;TZID=Europe/Berlin:20181201T103000
DTEND;TZID=Europe/Berlin:20181201T121500
LOCATION:
SUMMARY:18/19 D-Jun. VL: FSV Ulstertal Geisa 1866 D - 1. FC Sonneberg 04 D
END:VEVENT
BEGIN:VEVENT
UID:20260421T094136CEST-9276dkitzK@85.13.129.106
DTSTAMP:20260421T074136Z
DESCRIPTION:
DTSTART;TZID=Europe/Berlin:20181110T103000
DTEND;TZID=Europe/Berlin:20181110T121500
LOCATION:
SUMMARY:18/19 D-Jun. VL: SG SpG Helba D - FSV Ulstertal Geisa 1866 D
END:VEVENT
BEGIN:VEVENT
UID:20260421T094136CEST-9280E5lPHd@85.13.129.106
DTSTAMP:20260421T074136Z
DESCRIPTION:
DTSTART;TZID=Europe/Berlin:20181117T103000
DTEND;TZID=Europe/Berlin:20181117T121500
LOCATION:
SUMMARY:18/19 D-Jun. VL: FSV Ulstertal Geisa 1866 D - SV Wacker 04 Bad Salz
 ungen D
END:VEVENT
BEGIN:VEVENT
UID:20260421T094136CEST-928479ELE7@85.13.129.106
DTSTAMP:20260421T074136Z
DESCRIPTION:
DTSTART;TZID=Europe/Berlin:20181124T103000
DTEND;TZID=Europe/Berlin:20181124T121500
LOCATION:
SUMMARY:18/19 D-Jun. VL: 1. Suhler SV 06 D - FSV Ulstertal Geisa 1866 D
END:VEVENT
BEGIN:VEVENT
UID:20260421T094136CEST-9289w3zr2X@85.13.129.106
DTSTAMP:20260421T074136Z
DESCRIPTION:
DTSTART;TZID=Europe/Berlin:20190224T103000
DTEND;TZID=Europe/Berlin:20190224T121500
LOCATION:
SUMMARY:18/19 D-Jun. VL: FSV Ulstertal Geisa 1866 D - spielfrei
END:VEVENT
BEGIN:VEVENT
UID:20260421T094136CEST-9293M8srbS@85.13.129.106
DTSTAMP:20260421T074136Z
DESCRIPTION:
DTSTART;TZID=Europe/Berlin:20190302T103000
DTEND;TZID=Europe/Berlin:20190302T121500
LOCATION:
SUMMARY:18/19 D-Jun. VL: FSV Ulstertal Geisa 1866 D - SG Effelder/Schalkau 
 D
END:VEVENT
BEGIN:VEVENT
UID:20260421T094136CEST-9297Cv02cj@85.13.129.106
DTSTAMP:20260421T074136Z
DESCRIPTION:
DTSTART;TZID=Europe/Berlin:20190504T130000
DTEND;TZID=Europe/Berlin:20190504T144500
LOCATION:
SUMMARY:18/19 D-Jun. VL: FSV Martinroda D - FSV Ulstertal Geisa 1866 D
END:VEVENT
BEGIN:VEVENT
UID:20260421T094136CEST-9302w2KSNJ@85.13.129.106
DTSTAMP:20260421T074136Z
DESCRIPTION:
DTSTART;TZID=Europe/Berlin:20190316T103000
DTEND;TZID=Europe/Berlin:20190316T121500
LOCATION:
SUMMARY:18/19 D-Jun. VL: 1. FC Sonneberg 04 D - FSV Ulstertal Geisa 1866 D
END:VEVENT
BEGIN:VEVENT
UID:20260421T094136CEST-9306W3CGhs@85.13.129.106
DTSTAMP:20260421T074136Z
DESCRIPTION:
DTSTART;TZID=Europe/Berlin:20190330T103000
DTEND;TZID=Europe/Berlin:20190330T121500
LOCATION:
SUMMARY:18/19 D-Jun. VL: FSV Ulstertal Geisa 1866 D - SG SpG Helba D
END:VEVENT
BEGIN:VEVENT
UID:20260421T094136CEST-931099sDCG@85.13.129.106
DTSTAMP:20260421T074136Z
DESCRIPTION:
DTSTART;TZID=Europe/Berlin:20190406T103000
DTEND;TZID=Europe/Berlin:20190406T121500
LOCATION:
SUMMARY:18/19 D-Jun. VL: SV Wacker 04 Bad Salzungen D - FSV Ulstertal Geisa
  1866 D
END:VEVENT
BEGIN:VEVENT
UID:20260421T094136CEST-9315SReaKt@85.13.129.106
DTSTAMP:20260421T074136Z
DESCRIPTION:
DTSTART;TZID=Europe/Berlin:20190511T103000
DTEND;TZID=Europe/Berlin:20190511T121500
LOCATION:
SUMMARY:18/19 D-Jun. VL: FSV Ulstertal Geisa 1866 D - 1. Suhler SV 06 D
END:VEVENT
BEGIN:VEVENT
UID:20260421T094136CEST-9319ngV05e@85.13.129.106
DTSTAMP:20260421T074136Z
DESCRIPTION:
DTSTART;TZID=Europe/Berlin:20190519T113000
DTEND;TZID=Europe/Berlin:20190519T131500
LOCATION:
SUMMARY:18/19 D-Jun. VL: spielfrei - FSV Ulstertal Geisa 1866 D
END:VEVENT
BEGIN:VEVENT
UID:20260421T094136CEST-9323ECmX3C@85.13.129.106
DTSTAMP:20260421T074136Z
DESCRIPTION:
DTSTART;TZID=Europe/Berlin:20190525T103000
DTEND;TZID=Europe/Berlin:20190525T121500
LOCATION:
SUMMARY:18/19 D-Jun. VL: SG Effelder/Schalkau D - FSV Ulstertal Geisa 1866 
 D
END:VEVENT
BEGIN:VEVENT
UID:20260421T094136CEST-9328HXuKkV@85.13.129.106
DTSTAMP:20260421T074136Z
DESCRIPTION:
DTSTART;TZID=Europe/Berlin:20190601T103000
DTEND;TZID=Europe/Berlin:20190601T121500
LOCATION:
SUMMARY:18/19 D-Jun. VL: FSV Ulstertal Geisa 1866 D - FSV Martinroda D
END:VEVENT
END:VCALENDAR
