BEGIN:VCALENDAR
VERSION:2.0
PRODID:-//85.13.129.106//NONSGML kigkonsult.se iCalcreator 2.10.23//
BEGIN:VEVENT
UID:20260420T115809CEST-4961RsENR1@85.13.129.106
DTSTAMP:20260420T095809Z
DESCRIPTION:
DTSTART;TZID=Europe/Berlin:20150906T103000
DTEND;TZID=Europe/Berlin:20150906T121500
LOCATION:
SUMMARY:15/16 C-Jun. VL: SV BW Neustadt/Orla C - SV BW Büßleben C
END:VEVENT
BEGIN:VEVENT
UID:20260420T115809CEST-4966ftX1nt@85.13.129.106
DTSTAMP:20260420T095809Z
DESCRIPTION:
DTSTART;TZID=Europe/Berlin:20150913T103000
DTEND;TZID=Europe/Berlin:20150913T121500
LOCATION:
SUMMARY:15/16 C-Jun. VL: 1. FC Greiz C - SV BW Neustadt/Orla C
END:VEVENT
BEGIN:VEVENT
UID:20260420T115809CEST-4970jg2n97@85.13.129.106
DTSTAMP:20260420T095809Z
DESCRIPTION:Schalkau
DTSTART;TZID=Europe/Berlin:20150920T103000
DTEND;TZID=Europe/Berlin:20150920T121500
LOCATION:Katzberger Straße 6\n96528 Schalkau\, 96528 Schalkau
SUMMARY:15/16 C-Jun. VL: SG Schalkau/Sbg.-W. C - SV BW Neustadt/Orla C
END:VEVENT
BEGIN:VEVENT
UID:20260420T115809CEST-49750lvWfo@85.13.129.106
DTSTAMP:20260420T095809Z
DESCRIPTION:Schalkau
DTSTART;TZID=Europe/Berlin:20151004T103000
DTEND;TZID=Europe/Berlin:20151004T121500
LOCATION:Katzberger Straße 6\n96528 Schalkau\, 96528 Schalkau
SUMMARY:15/16 C-Jun. VL: SV BW Neustadt/Orla C - SV Schott Jena C
END:VEVENT
BEGIN:VEVENT
UID:20260420T115809CEST-4979PgF1eB@85.13.129.106
DTSTAMP:20260420T095809Z
DESCRIPTION:Schalkau
DTSTART;TZID=Europe/Berlin:20151024T103000
DTEND;TZID=Europe/Berlin:20151024T121500
LOCATION:Katzberger Straße 6\n96528 Schalkau\, 96528 Schalkau
SUMMARY:15/16 C-Jun. VL: FC Carl Zeiss Jena C2 - SV BW Neustadt/Orla C
END:VEVENT
BEGIN:VEVENT
UID:20260420T115809CEST-4983wUvXR8@85.13.129.106
DTSTAMP:20260420T095809Z
DESCRIPTION:Schalkau
DTSTART;TZID=Europe/Berlin:20151101T103000
DTEND;TZID=Europe/Berlin:20151101T121500
LOCATION:Katzberger Straße 6\n96528 Schalkau\, 96528 Schalkau
SUMMARY:15/16 C-Jun. VL: SV BW Neustadt/Orla C - SC 1903 Weimar C
END:VEVENT
BEGIN:VEVENT
UID:20260420T115809CEST-4988hTEK5s@85.13.129.106
DTSTAMP:20260420T095809Z
DESCRIPTION:Schalkau
DTSTART;TZID=Europe/Berlin:20151108T103000
DTEND;TZID=Europe/Berlin:20151108T121500
LOCATION:Katzberger Straße 6\n96528 Schalkau\, 96528 Schalkau
SUMMARY:15/16 C-Jun. VL: FSV Grün-Weiß Stadtroda C - SV BW Neustadt/Orla C
END:VEVENT
BEGIN:VEVENT
UID:20260420T115809CEST-4992mVtBLX@85.13.129.106
DTSTAMP:20260420T095809Z
DESCRIPTION:Schalkau
DTSTART;TZID=Europe/Berlin:20151121T103000
DTEND;TZID=Europe/Berlin:20151121T121500
LOCATION:Katzberger Straße 6\n96528 Schalkau\, 96528 Schalkau
SUMMARY:15/16 C-Jun. VL: SV BW Neustadt/Orla C - FC Saalfeld C
END:VEVENT
BEGIN:VEVENT
UID:20260420T115809CEST-4996sUjgau@85.13.129.106
DTSTAMP:20260420T095809Z
DESCRIPTION:Schalkau
DTSTART;TZID=Europe/Berlin:20151129T103000
DTEND;TZID=Europe/Berlin:20151129T121500
LOCATION:Katzberger Straße 6\n96528 Schalkau\, 96528 Schalkau
SUMMARY:15/16 C-Jun. VL: JFC Gera C - SV BW Neustadt/Orla C
END:VEVENT
BEGIN:VEVENT
UID:20260420T115809CEST-5001r7f4hg@85.13.129.106
DTSTAMP:20260420T095809Z
DESCRIPTION:Schalkau
DTSTART;TZID=Europe/Berlin:20151206T103000
DTEND;TZID=Europe/Berlin:20151206T121500
LOCATION:Katzberger Straße 6\n96528 Schalkau\, 96528 Schalkau
SUMMARY:15/16 C-Jun. VL: SV BW Neustadt/Orla C - FC Eisenach C
END:VEVENT
BEGIN:VEVENT
UID:20260420T115809CEST-50057ZtTNI@85.13.129.106
DTSTAMP:20260420T095809Z
DESCRIPTION:Schalkau
DTSTART;TZID=Europe/Berlin:20151213T110000
DTEND;TZID=Europe/Berlin:20151213T124500
LOCATION:Katzberger Straße 6\n96528 Schalkau\, 96528 Schalkau
SUMMARY:15/16 C-Jun. VL: FC Rot-Weiß Erfurt C2 - SV BW Neustadt/Orla C
END:VEVENT
BEGIN:VEVENT
UID:20260420T115809CEST-5009hV9Unn@85.13.129.106
DTSTAMP:20260420T095809Z
DESCRIPTION:Schalkau
DTSTART;TZID=Europe/Berlin:20160228T103000
DTEND;TZID=Europe/Berlin:20160228T121500
LOCATION:Katzberger Straße 6\n96528 Schalkau\, 96528 Schalkau
SUMMARY:15/16 C-Jun. VL: SV BW Büßleben C - SV BW Neustadt/Orla C
END:VEVENT
BEGIN:VEVENT
UID:20260420T115809CEST-5014U6zV28@85.13.129.106
DTSTAMP:20260420T095809Z
DESCRIPTION:Schalkau
DTSTART;TZID=Europe/Berlin:20160306T103000
DTEND;TZID=Europe/Berlin:20160306T121500
LOCATION:Katzberger Straße 6\n96528 Schalkau\, 96528 Schalkau
SUMMARY:15/16 C-Jun. VL: SV BW Neustadt/Orla C - 1. FC Greiz C
END:VEVENT
BEGIN:VEVENT
UID:20260420T115809CEST-5018U9Kd6v@85.13.129.106
DTSTAMP:20260420T095809Z
DESCRIPTION:Schalkau
DTSTART;TZID=Europe/Berlin:20160313T103000
DTEND;TZID=Europe/Berlin:20160313T121500
LOCATION:Katzberger Straße 6\n96528 Schalkau\, 96528 Schalkau
SUMMARY:15/16 C-Jun. VL: SV BW Neustadt/Orla C - SG Schalkau/Sbg.-W. C
END:VEVENT
BEGIN:VEVENT
UID:20260420T115809CEST-502264KE3L@85.13.129.106
DTSTAMP:20260420T095809Z
DESCRIPTION:Schalkau
DTSTART;TZID=Europe/Berlin:20160417T103000
DTEND;TZID=Europe/Berlin:20160417T121500
LOCATION:Katzberger Straße 6\n96528 Schalkau\, 96528 Schalkau
SUMMARY:15/16 C-Jun. VL: SV Schott Jena C - SV BW Neustadt/Orla C
END:VEVENT
BEGIN:VEVENT
UID:20260420T115809CEST-5026erPAOS@85.13.129.106
DTSTAMP:20260420T095809Z
DESCRIPTION:Schalkau
DTSTART;TZID=Europe/Berlin:20160426T173000
DTEND;TZID=Europe/Berlin:20160426T191500
LOCATION:Katzberger Straße 6\n96528 Schalkau\, 96528 Schalkau
SUMMARY:15/16 C-Jun. VL: SV BW Neustadt/Orla C - FC Carl Zeiss Jena C2
END:VEVENT
BEGIN:VEVENT
UID:20260420T115809CEST-50318R9OTT@85.13.129.106
DTSTAMP:20260420T095809Z
DESCRIPTION:Schalkau
DTSTART;TZID=Europe/Berlin:20160501T103000
DTEND;TZID=Europe/Berlin:20160501T121500
LOCATION:Katzberger Straße 6\n96528 Schalkau\, 96528 Schalkau
SUMMARY:15/16 C-Jun. VL: SC 1903 Weimar C - SV BW Neustadt/Orla C
END:VEVENT
BEGIN:VEVENT
UID:20260420T115809CEST-50352STDVS@85.13.129.106
DTSTAMP:20260420T095809Z
DESCRIPTION:Schalkau
DTSTART;TZID=Europe/Berlin:20160508T123000
DTEND;TZID=Europe/Berlin:20160508T141500
LOCATION:Katzberger Straße 6\n96528 Schalkau\, 96528 Schalkau
SUMMARY:15/16 C-Jun. VL: SV BW Neustadt/Orla C - FSV Grün-Weiß Stadtroda C
END:VEVENT
BEGIN:VEVENT
UID:20260420T115809CEST-5040uu8CVT@85.13.129.106
DTSTAMP:20260420T095809Z
DESCRIPTION:Schalkau
DTSTART;TZID=Europe/Berlin:20160518T183000
DTEND;TZID=Europe/Berlin:20160518T201500
LOCATION:Katzberger Straße 6\n96528 Schalkau\, 96528 Schalkau
SUMMARY:15/16 C-Jun. VL: FC Saalfeld C - SV BW Neustadt/Orla C
END:VEVENT
BEGIN:VEVENT
UID:20260420T115809CEST-50442fkj3V@85.13.129.106
DTSTAMP:20260420T095809Z
DESCRIPTION:Schalkau
DTSTART;TZID=Europe/Berlin:20160522T123000
DTEND;TZID=Europe/Berlin:20160522T141500
LOCATION:Katzberger Straße 6\n96528 Schalkau\, 96528 Schalkau
SUMMARY:15/16 C-Jun. VL: SV BW Neustadt/Orla C - JFC Gera C
END:VEVENT
BEGIN:VEVENT
UID:20260420T115809CEST-5048gTIEPz@85.13.129.106
DTSTAMP:20260420T095809Z
DESCRIPTION:Schalkau
DTSTART;TZID=Europe/Berlin:20160529T103000
DTEND;TZID=Europe/Berlin:20160529T121500
LOCATION:Katzberger Straße 6\n96528 Schalkau\, 96528 Schalkau
SUMMARY:15/16 C-Jun. VL: FC Eisenach C - SV BW Neustadt/Orla C
END:VEVENT
BEGIN:VEVENT
UID:20260420T115809CEST-5052uuce3Z@85.13.129.106
DTSTAMP:20260420T095809Z
DESCRIPTION:Schalkau
DTSTART;TZID=Europe/Berlin:20160605T103000
DTEND;TZID=Europe/Berlin:20160605T121500
LOCATION:Katzberger Straße 6\n96528 Schalkau\, 96528 Schalkau
SUMMARY:15/16 C-Jun. VL: SV BW Neustadt/Orla C - FC Rot-Weiß Erfurt C2
END:VEVENT
END:VCALENDAR
