BEGIN:VCALENDAR
VERSION:2.0
PRODID:-//85.13.129.106//NONSGML kigkonsult.se iCalcreator 2.10.23//
BEGIN:VEVENT
UID:20260422T005948CEST-3646GWx7SH@85.13.129.106
DTSTAMP:20260421T225948Z
DESCRIPTION:
DTSTART;TZID=Europe/Berlin:20150905T150000
DTEND;TZID=Europe/Berlin:20150905T163500
LOCATION:
SUMMARY:15/16 B-Jun. Pokal: FSV 06 Eintr. Hildburghausen B - Freilos
END:VEVENT
BEGIN:VEVENT
UID:20260422T005948CEST-36505GjJZF@85.13.129.106
DTSTAMP:20260421T225948Z
DESCRIPTION:
DTSTART;TZID=Europe/Berlin:20150905T150000
DTEND;TZID=Europe/Berlin:20150905T163500
LOCATION:
SUMMARY:15/16 B-Jun. Pokal: SV 03 Eisfeld B - Freilos
END:VEVENT
BEGIN:VEVENT
UID:20260422T005948CEST-3654Uu2Lhp@85.13.129.106
DTSTAMP:20260421T225948Z
DESCRIPTION:
DTSTART;TZID=Europe/Berlin:20150905T150000
DTEND;TZID=Europe/Berlin:20150905T163500
LOCATION:
SUMMARY:15/16 B-Jun. Pokal: SV Grün-Weiß Waldau B - Freilos
END:VEVENT
END:VCALENDAR
