BEGIN:VCALENDAR
VERSION:2.0
PRODID:-//85.13.129.106//NONSGML kigkonsult.se iCalcreator 2.10.23//
BEGIN:VEVENT
UID:20260420T080133CEST-2637Csph9g@85.13.129.106
DTSTAMP:20260420T060133Z
DESCRIPTION:
DTSTART;TZID=Europe/Berlin:20150920T103000
DTEND;TZID=Europe/Berlin:20150920T121500
LOCATION:
SUMMARY:15/16 D1-Jun. Landespokal: SG Eurotrink Kickers Gera D - JFC Gera D
END:VEVENT
END:VCALENDAR
