BEGIN:VCALENDAR
VERSION:2.0
PRODID:-//85.13.129.106//NONSGML kigkonsult.se iCalcreator 2.10.23//
BEGIN:VEVENT
UID:20260421T073739CEST-9820nZe4dF@85.13.129.106
DTSTAMP:20260421T053739Z
DESCRIPTION:
DTSTART;TZID=Europe/Berlin:20150719T150000
DTEND;TZID=Europe/Berlin:20150719T164500
LOCATION:
SUMMARY:15/16 Herren Kreispokal: SC 09 Effelder II - SV 08 Westhausen
END:VEVENT
BEGIN:VEVENT
UID:20260421T073739CEST-9825LgZlGF@85.13.129.106
DTSTAMP:20260421T053739Z
DESCRIPTION:
DTSTART;TZID=Europe/Berlin:20150726T150000
DTEND;TZID=Europe/Berlin:20150726T164500
LOCATION:
SUMMARY:15/16 Herren Kreispokal: SC 09 Effelder II - SV Schleusegrund Schön
 brunn
END:VEVENT
BEGIN:VEVENT
UID:20260421T073739CEST-9830VAUp9t@85.13.129.106
DTSTAMP:20260421T053739Z
DESCRIPTION:
DTSTART;TZID=Europe/Berlin:20151114T150000
DTEND;TZID=Europe/Berlin:20151114T164500
LOCATION:
SUMMARY:15/16 Herren Kreispokal: SC 09 Effelder II - SV EK Veilsdorf
END:VEVENT
END:VCALENDAR
