BEGIN:VCALENDAR
VERSION:2.0
PRODID:-//85.13.129.106//NONSGML kigkonsult.se iCalcreator 2.10.23//
BEGIN:VEVENT
UID:20260420T080136CEST-8488clkdGo@85.13.129.106
DTSTAMP:20260420T060136Z
DESCRIPTION:
DTSTART;TZID=Europe/Berlin:20180815T173000
DTEND;TZID=Europe/Berlin:20180815T181500
LOCATION:
SUMMARY:18/19 D-Jun. Landespokal: Freilos - SSV 07 Schlotheim D
END:VEVENT
BEGIN:VEVENT
UID:20260420T080136CEST-8492I6mRPa@85.13.129.106
DTSTAMP:20260420T060136Z
DESCRIPTION:
DTSTART;TZID=Europe/Berlin:20180915T103000
DTEND;TZID=Europe/Berlin:20180915T111500
LOCATION:
SUMMARY:18/19 D-Jun. Landespokal: SSV 07 Schlotheim D - JFV Süd Eichsfeld D
END:VEVENT
BEGIN:VEVENT
UID:20260420T080136CEST-84973CpSsh@85.13.129.106
DTSTAMP:20260420T060136Z
DESCRIPTION:
DTSTART;TZID=Europe/Berlin:20181031T110000
DTEND;TZID=Europe/Berlin:20181031T114500
LOCATION:
SUMMARY:18/19 D-Jun. Landespokal: FSV Sömmerda D - SSV 07 Schlotheim D
END:VEVENT
END:VCALENDAR
